Workbook

Sheet Merkur
A1: Merkur
A3: Große Halbachse a [AE]: | BC3: 0.3870981 | BD3: (alle Daten: Stand 7.7.2013, Ahnerts Jahrbuch 2013, S. 174)
A4: numerische Exzentrizität e der Bahn: | BC4: 0.20564526
A5: Abstand der Brennpunkte [AE]: | BC5: =BC4*BC3*2 -> 0.15920978
A6: Länge des Perihels v [Grad]: | BC6: 77.47853 | BD6: (w + W aus Ahnerts Jahrbuch)
BC8: x | BD8: y
A9: Koordinaten der Sonne (x|y): | BC9: 0 | BD9: 0
A10: Koordinaten des 2. Brennpunktes (xF|yF): | BC10: =BC5*COS((BC6+180)/180*PI()) -> -0.034517546 | BD10: =BC5*SIN((BC6+180)/180*PI()) -> -0.15542295
A12: Von l* wurden | BA12: ='Master Radiusverkleinerung'!G7 -> 3.7 | BB12: cm | BC12: abgezogen um l** zu erhalten
A14: Winkel a | B14: x0 | C14: y0 | D14: l1+l2 | E14: (l1+l2)/2a | F14: l1 | G14: x1 | H14: y1 | I14: l1+l2 | J14: (l1+l2)/2a | K14: l1 | L14: x2 | M14: y2 | N14: l1+l2 | O14: (l1+l2)/2a | P14: l1 | Q14: x3 | R14: y3 | S14: l1+l2 | T14: (l1+l2)/2a | U14: l1 | V14: x4 | W14: y4 | X14: l1+l2 | Y14: (l1+l2)/2a | Z14: l1 | AA14: x5 | AB14: y5 | AC14: l1+l2 | AD14: (l1+l2)/2a | AE14: l1 | AF14: x6 | AG14: y6 | AH14: l1+l2 | AI14: (l1+l2)/2a | AJ14: l1 | AK14: x7 | AL14: y7 | AM14: l1+l2 | AN14: (l1+l2)/2a | AO14: l1 | AP14: x8 | AQ14: y8 | AR14: l1+l2 | AS14: (l1+l2)/2a | AT14: l1 | AU14: x9 | AV14: y9 | AW14: l1+l2 | AX14: (l1+l2)/2a | AY14: l* | AZ14: l** | BA14: Abstand | BC14: l* bezieht sich auf das Maßband (12,7 cm sind schon abgezogen)
A15: [Grad] | AT15: [m] | AY15: [m] | AZ15: [m] | BA15: [m] | BC15: l1 = l* + 0,127 m ist der wirkliche Abstand vom Sonnenmittelpunkt
BC16: (vgl. Spalte AT und AY)
A17: 0 | B17: =BC$3*COS(A17/180*PI()) -> 0.3870981 | C17: =BC$3*SIN(A17/180*PI()) -> 0 | D17: =SQRT(B17^2+C17^2)+SQRT((B17-$BC$10)^2+(C17-$BD$10)^2) -> 0.83644879 | E17: =D17/(2*$BC$3) -> 1.0804093 | F17: =$BC$3/E17 -> 0.35828837 | G17: =F17*COS(A17/180*PI()) -> 0.35828837 | H17: =F17*SIN(A17/180*PI()) -> 0 | I17: =SQRT(G17^2+H17^2)+SQRT((G17-$BC$10)^2+(H17-$BD$10)^2) -> 0.7807251 | J17: =I17/(2*$BC$3) -> 1.0084331 | K17: =F17/J17 -> 0.35529215 | L17: =K17*COS(A17/180*PI()) -> 0.35529215 | M17: =K17*SIN(A17/180*PI()) -> 0 | N17: =SQRT(L17^2+M17^2)+SQRT((L17-$BC$10)^2+(M17-$BD$10)^2) -> 0.77494426 | O17: =N17/(2*$BC$3) -> 1.0009662 | P17: =K17/O17 -> 0.35494918 | Q17: =P17*COS(A17/180*PI()) -> 0.35494918 | R17: =P17*SIN(A17/180*PI()) -> 0 | S17: =SQRT(Q17^2+R17^2)+SQRT((Q17-$BC$10)^2+(R17-$BD$10)^2) -> 0.77428274 | T17: =S17/(2*$BC$3) -> 1.0001118 | U17: =P17/T17 -> 0.35490951 | V17: =U17*COS(A17/180*PI()) -> 0.35490951 | W17: =U17*SIN(A17/180*PI()) -> 0 | X17: =SQRT(V17^2+W17^2)+SQRT((V17-$BC$10)^2+(W17-$BD$10)^2) -> 0.77420622 | Y17: =X17/(2*$BC$3) -> 1.0000129 | Z17: =U17/Y17 -> 0.35490492 | AA17: =Z17*COS(A17/180*PI()) -> 0.35490492 | AB17: =Z17*SIN(A17/180*PI()) -> 0 | AC17: =SQRT(AA17^2+AB17^2)+SQRT((AA17-$BC$10)^2+(AB17-$BD$10)^2) -> 0.77419736 | AD17: =AC17/(2*$BC$3) -> 1.0000015 | AE17: =Z17/AD17 -> 0.35490439 | AF17: =AE17*COS(A17/180*PI()) -> 0.35490439 | AG17: =AE17*SIN(A17/180*PI()) -> 0 | AH17: =SQRT(AF17^2+AG17^2)+SQRT((AF17-$BC$10)^2+(AG17-$BD$10)^2) -> 0.77419633 | AI17: =AH17/(2*$BC$3) -> 1.0000002 | AJ17: =AE17/AI17 -> 0.35490433 | AK17: =AJ17*COS(A17/180*PI()) -> 0.35490433 | AL17: =AJ17*SIN(A17/180*PI()) -> 0 | AM17: =SQRT(AK17^2+AL17^2)+SQRT((AK17-$BC$10)^2+(AL17-$BD$10)^2) -> 0.77419622 | AN17: =AM17/(2*$BC$3) -> 1 | AO17: =AJ17/AN17 -> 0.35490432 | AP17: =AO17*COS(A17/180*PI()) -> 0.35490432 | AQ17: =AO17*SIN(A17/180*PI()) -> 0 | AR17: =SQRT(AP17^2+AQ17^2)+SQRT((AP17-$BC$10)^2+(AQ17-$BD$10)^2) -> 0.7741962 | AS17: =AR17/(2*$BC$3) -> 1 | AT17: =AO17/AS17 -> 0.35490432 | AU17: =AT17*COS(A17/180*PI()) -> 0.35490432 | AV17: =AT17*SIN(A17/180*PI()) -> 0 | AW17: =SQRT(AU17^2+AV17^2)+SQRT((AU17-$BC$10)^2+(AV17-$BD$10)^2) -> 0.7741962 | AX17: =AW17/(2*$BC$3) -> 1 | AY17: =AT17-0.127 -> 0.22790432 | AZ17: =AY17-'Master Radiusverkleinerung'!G7/100 -> 0.19090432
A18: 6 | B18: =BC$3*COS(A18/180*PI()) -> 0.38497754 | C18: =BC$3*SIN(A18/180*PI()) -> 0.04046277 | D18: =SQRT(B18^2+C18^2)+SQRT((B18-$BC$10)^2+(C18-$BD$10)^2) -> 0.85007471 | E18: =D18/(2*$BC$3) -> 1.0980094 | F18: =$BC$3/E18 -> 0.35254534 | G18: =F18*COS(A18/180*PI()) -> 0.35061406 | H18: =F18*SIN(A18/180*PI()) -> 0.036851023 | I18: =SQRT(G18^2+H18^2)+SQRT((G18-$BC$10)^2+(H18-$BD$10)^2) -> 0.78300514 | J18: =I18/(2*$BC$3) -> 1.0113782 | K18: =F18/J18 -> 0.34857915 | L18: =K18*COS(A18/180*PI()) -> 0.3466696 | M18: =K18*SIN(A18/180*PI()) -> 0.036436443 | N18: =SQRT(L18^2+M18^2)+SQRT((L18-$BC$10)^2+(M18-$BD$10)^2) -> 0.77532692 | O18: =N18/(2*$BC$3) -> 1.0014605 | P18: =K18/O18 -> 0.34807079 | Q18: =P18*COS(A18/180*PI()) -> 0.34616402 | R18: =P18*SIN(A18/180*PI()) -> 0.036383304 | S18: =SQRT(Q18^2+R18^2)+SQRT((Q18-$BC$10)^2+(R18-$BD$10)^2) -> 0.77434311 | T18: =S18/(2*$BC$3) -> 1.0001898 | U18: =P18/T18 -> 0.34800475 | V18: =U18*COS(A18/180*PI()) -> 0.34609834 | W18: =U18*SIN(A18/180*PI()) -> 0.036376402 | X18: =SQRT(V18^2+W18^2)+SQRT((V18-$BC$10)^2+(W18-$BD$10)^2) -> 0.77421532 | Y18: =X18/(2*$BC$3) -> 1.0000247 | Z18: =U18/Y18 -> 0.34799616 | AA18: =Z18*COS(A18/180*PI()) -> 0.3460898 | AB18: =Z18*SIN(A18/180*PI()) -> 0.036375504 | AC18: =SQRT(AA18^2+AB18^2)+SQRT((AA18-$BC$10)^2+(AB18-$BD$10)^2) -> 0.77419869 | AD18: =AC18/(2*$BC$3) -> 1.0000032 | AE18: =Z18/AD18 -> 0.34799504 | AF18: =AE18*COS(A18/180*PI()) -> 0.34608869 | AG18: =AE18*SIN(A18/180*PI()) -> 0.036375387 | AH18: =SQRT(AF18^2+AG18^2)+SQRT((AF18-$BC$10)^2+(AG18-$BD$10)^2) -> 0.77419652 | AI18: =AH18/(2*$BC$3) -> 1.0000004 | AJ18: =AE18/AI18 -> 0.34799489 | AK18: =AJ18*COS(A18/180*PI()) -> 0.34608854 | AL18: =AJ18*SIN(A18/180*PI()) -> 0.036375371 | AM18: =SQRT(AK18^2+AL18^2)+SQRT((AK18-$BC$10)^2+(AL18-$BD$10)^2) -> 0.77419624 | AN18: =AM18/(2*$BC$3) -> 1.0000001 | AO18: =AJ18/AN18 -> 0.34799488 | AP18: =AO18*COS(A18/180*PI()) -> 0.34608852 | AQ18: =AO18*SIN(A18/180*PI()) -> 0.03637537 | AR18: =SQRT(AP18^2+AQ18^2)+SQRT((AP18-$BC$10)^2+(AQ18-$BD$10)^2) -> 0.77419621 | AS18: =AR18/(2*$BC$3) -> 1 | AT18: =AO18/AS18 -> 0.34799487 | AU18: =AT18*COS(A18/180*PI()) -> 0.34608852 | AV18: =AT18*SIN(A18/180*PI()) -> 0.036375369 | AW18: =SQRT(AU18^2+AV18^2)+SQRT((AU18-$BC$10)^2+(AV18-$BD$10)^2) -> 0.7741962 | AX18: =AW18/(2*$BC$3) -> 1 | AY18: =AT18-0.127 -> 0.22099487 | AZ18: =AY18-'Master Radiusverkleinerung'!G8/100 -> 0.22099487 | BA18: =SQRT((AU18-AU17)^2+(AV18-AV17)^2) -> 0.037428409
A19: 12 | B19: =BC$3*COS(A19/180*PI()) -> 0.37863908 | C19: =BC$3*SIN(A19/180*PI()) -> 0.08048222 | D19: =SQRT(B19^2+C19^2)+SQRT((B19-$BC$10)^2+(C19-$BD$10)^2) -> 0.86286027 | E19: =D19/(2*$BC$3) -> 1.114524 | F19: =$BC$3/E19 -> 0.34732145 | G19: =F19*COS(A19/180*PI()) -> 0.33973164 | H19: =F19*SIN(A19/180*PI()) -> 0.072212189 | I19: =SQRT(G19^2+H19^2)+SQRT((G19-$BC$10)^2+(H19-$BD$10)^2) -> 0.78536278 | J19: =I19/(2*$BC$3) -> 1.0144234 | K19: =F19/J19 -> 0.3423831 | L19: =K19*COS(A19/180*PI()) -> 0.33490121 | M19: =K19*SIN(A19/180*PI()) -> 0.07118545 | N19: =SQRT(L19^2+M19^2)+SQRT((L19-$BC$10)^2+(M19-$BD$10)^2) -> 0.77576698 | O19: =N19/(2*$BC$3) -> 1.0020289 | P19: =K19/O19 -> 0.34168984 | Q19: =P19*COS(A19/180*PI()) -> 0.3342231 | R19: =P19*SIN(A19/180*PI()) -> 0.071041313 | S19: =SQRT(Q19^2+R19^2)+SQRT((Q19-$BC$10)^2+(R19-$BD$10)^2) -> 0.77442039 | T19: =S19/(2*$BC$3) -> 1.0002896 | U19: =P19/T19 -> 0.34159093 | V19: =U19*COS(A19/180*PI()) -> 0.33412634 | W19: =U19*SIN(A19/180*PI()) -> 0.071020747 | X19: =SQRT(V19^2+W19^2)+SQRT((V19-$BC$10)^2+(W19-$BD$10)^2) -> 0.77422826 | Y19: =X19/(2*$BC$3) -> 1.0000414 | Z19: =U19/Y19 -> 0.34157678 | AA19: =Z19*COS(A19/180*PI()) -> 0.33411251 | AB19: =Z19*SIN(A19/180*PI()) -> 0.071017806 | AC19: =SQRT(AA19^2+AB19^2)+SQRT((AA19-$BC$10)^2+(AB19-$BD$10)^2) -> 0.77420079 | AD19: =AC19/(2*$BC$3) -> 1.0000059 | AE19: =Z19/AD19 -> 0.34157476 | AF19: =AE19*COS(A19/180*PI()) -> 0.33411053 | AG19: =AE19*SIN(A19/180*PI()) -> 0.071017385 | AH19: =SQRT(AF19^2+AG19^2)+SQRT((AF19-$BC$10)^2+(AG19-$BD$10)^2) -> 0.77419686 | AI19: =AH19/(2*$BC$3) -> 1.0000008 | AJ19: =AE19/AI19 -> 0.34157447 | AK19: =AJ19*COS(A19/180*PI()) -> 0.33411025 | AL19: =AJ19*SIN(A19/180*PI()) -> 0.071017325 | AM19: =SQRT(AK19^2+AL19^2)+SQRT((AK19-$BC$10)^2+(AL19-$BD$10)^2) -> 0.77419629 | AN19: =AM19/(2*$BC$3) -> 1.0000001 | AO19: =AJ19/AN19 -> 0.34157443 | AP19: =AO19*COS(A19/180*PI()) -> 0.3341102 | AQ19: =AO19*SIN(A19/180*PI()) -> 0.071017316 | AR19: =SQRT(AP19^2+AQ19^2)+SQRT((AP19-$BC$10)^2+(AQ19-$BD$10)^2) -> 0.77419621 | AS19: =AR19/(2*$BC$3) -> 1 | AT19: =AO19/AS19 -> 0.34157442 | AU19: =AT19*COS(A19/180*PI()) -> 0.3341102 | AV19: =AT19*SIN(A19/180*PI()) -> 0.071017315 | AW19: =SQRT(AU19^2+AV19^2)+SQRT((AU19-$BC$10)^2+(AV19-$BD$10)^2) -> 0.7741962 | AX19: =AW19/(2*$BC$3) -> 1 | AY19: =AT19-0.127 -> 0.21457442 | AZ19: =AY19-'Master Radiusverkleinerung'!G9/100 -> 0.21457442 | BA19: =SQRT((AU19-AU18)^2+(AV19-AV18)^2) -> 0.036654394
A20: 18 | B20: =BC$3*COS(A20/180*PI()) -> 0.36815217 | C20: =BC$3*SIN(A20/180*PI()) -> 0.11961989 | D20: =SQRT(B20^2+C20^2)+SQRT((B20-$BC$10)^2+(C20-$BD$10)^2) -> 0.87473676 | E20: =D20/(2*$BC$3) -> 1.1298644 | F20: =$BC$3/E20 -> 0.34260579 | G20: =F20*COS(A20/180*PI()) -> 0.32583747 | H20: =F20*SIN(A20/180*PI()) -> 0.10587101 | I20: =SQRT(G20^2+H20^2)+SQRT((G20-$BC$10)^2+(H20-$BD$10)^2) -> 0.78772405 | J20: =I20/(2*$BC$3) -> 1.0174734 | K20: =F20/J20 -> 0.3367221 | L20: =K20*COS(A20/180*PI()) -> 0.32024175 | M20: =K20*SIN(A20/180*PI()) -> 0.10405285 | N20: =SQRT(L20^2+M20^2)+SQRT((L20-$BC$10)^2+(M20-$BD$10)^2) -> 0.77624667 | O20: =N20/(2*$BC$3) -> 1.0026485 | P20: =K20/O20 -> 0.33583264 | Q20: =P20*COS(A20/180*PI()) -> 0.31939582 | R20: =P20*SIN(A20/180*PI()) -> 0.10377799 | S20: =SQRT(Q20^2+R20^2)+SQRT((Q20-$BC$10)^2+(R20-$BD$10)^2) -> 0.77451225 | T20: =S20/(2*$BC$3) -> 1.0004082 | U20: =P20/T20 -> 0.3356956 | V20: =U20*COS(A20/180*PI()) -> 0.31926549 | W20: =U20*SIN(A20/180*PI()) -> 0.10373565 | X20: =SQRT(V20^2+W20^2)+SQRT((V20-$BC$10)^2+(W20-$BD$10)^2) -> 0.77424504 | Y20: =X20/(2*$BC$3) -> 1.0000631 | Z20: =U20/Y20 -> 0.33567442 | AA20: =Z20*COS(A20/180*PI()) -> 0.31924535 | AB20: =Z20*SIN(A20/180*PI()) -> 0.1037291 | AC20: =SQRT(AA20^2+AB20^2)+SQRT((AA20-$BC$10)^2+(AB20-$BD$10)^2) -> 0.77420375 | AD20: =AC20/(2*$BC$3) -> 1.0000098 | AE20: =Z20/AD20 -> 0.33567115 | AF20: =AE20*COS(A20/180*PI()) -> 0.31924223 | AG20: =AE20*SIN(A20/180*PI()) -> 0.10372809 | AH20: =SQRT(AF20^2+AG20^2)+SQRT((AF20-$BC$10)^2+(AG20-$BD$10)^2) -> 0.77419737 | AI20: =AH20/(2*$BC$3) -> 1.0000015 | AJ20: =AE20/AI20 -> 0.33567064 | AK20: =AJ20*COS(A20/180*PI()) -> 0.31924175 | AL20: =AJ20*SIN(A20/180*PI()) -> 0.10372793 | AM20: =SQRT(AK20^2+AL20^2)+SQRT((AK20-$BC$10)^2+(AL20-$BD$10)^2) -> 0.77419638 | AN20: =AM20/(2*$BC$3) -> 1.0000002 | AO20: =AJ20/AN20 -> 0.33567057 | AP20: =AO20*COS(A20/180*PI()) -> 0.31924168 | AQ20: =AO20*SIN(A20/180*PI()) -> 0.10372791 | AR20: =SQRT(AP20^2+AQ20^2)+SQRT((AP20-$BC$10)^2+(AQ20-$BD$10)^2) -> 0.77419623 | AS20: =AR20/(2*$BC$3) -> 1 | AT20: =AO20/AS20 -> 0.33567055 | AU20: =AT20*COS(A20/180*PI()) -> 0.31924167 | AV20: =AT20*SIN(A20/180*PI()) -> 0.10372791 | AW20: =SQRT(AU20^2+AV20^2)+SQRT((AU20-$BC$10)^2+(AV20-$BD$10)^2) -> 0.7741962 | AX20: =AW20/(2*$BC$3) -> 1 | AY20: =AT20-0.127 -> 0.20867055 | AZ20: =AY20-'Master Radiusverkleinerung'!G10/100 -> 0.20867055 | BA20: =SQRT((AU20-AU19)^2+(AV20-AV19)^2) -> 0.035931267
A21: 24 | B21: =BC$3*COS(A21/180*PI()) -> 0.35363171 | C21: =BC$3*SIN(A21/180*PI()) -> 0.15744698 | D21: =SQRT(B21^2+C21^2)+SQRT((B21-$BC$10)^2+(C21-$BD$10)^2) -> 0.88564342 | E21: =D21/(2*$BC$3) -> 1.1439522 | F21: =$BC$3/E21 -> 0.33838661 | G21: =F21*COS(A21/180*PI()) -> 0.30913155 | H21: =F21*SIN(A21/180*PI()) -> 0.13763424 | I21: =SQRT(G21^2+H21^2)+SQRT((G21-$BC$10)^2+(H21-$BD$10)^2) -> 0.79002498 | J21: =I21/(2*$BC$3) -> 1.0204454 | K21: =F21/J21 -> 0.33160677 | L21: =K21*COS(A21/180*PI()) -> 0.30293786 | M21: =K21*SIN(A21/180*PI()) -> 0.13487662 | N21: =SQRT(L21^2+M21^2)+SQRT((L21-$BC$10)^2+(M21-$BD$10)^2) -> 0.77674718 | O21: =N21/(2*$BC$3) -> 1.003295 | P21: =K21/O21 -> 0.33051771 | Q21: =P21*COS(A21/180*PI()) -> 0.30194295 | R21: =P21*SIN(A21/180*PI()) -> 0.13443366 | S21: =SQRT(Q21^2+R21^2)+SQRT((Q21-$BC$10)^2+(R21-$BD$10)^2) -> 0.77461513 | T21: =S21/(2*$BC$3) -> 1.0005411 | U21: =P21/T21 -> 0.33033896 | V21: =U21*COS(A21/180*PI()) -> 0.30177965 | W21: =U21*SIN(A21/180*PI()) -> 0.13436096 | X21: =SQRT(V21^2+W21^2)+SQRT((V21-$BC$10)^2+(W21-$BD$10)^2) -> 0.77426521 | Y21: =X21/(2*$BC$3) -> 1.0000891 | Z21: =U21/Y21 -> 0.33030951 | AA21: =Z21*COS(A21/180*PI()) -> 0.30175276 | AB21: =Z21*SIN(A21/180*PI()) -> 0.13434898 | AC21: =SQRT(AA21^2+AB21^2)+SQRT((AA21-$BC$10)^2+(AB21-$BD$10)^2) -> 0.77420757 | AD21: =AC21/(2*$BC$3) -> 1.0000147 | AE21: =Z21/AD21 -> 0.33030466 | AF21: =AE21*COS(A21/180*PI()) -> 0.30174832 | AG21: =AE21*SIN(A21/180*PI()) -> 0.13434701 | AH21: =SQRT(AF21^2+AG21^2)+SQRT((AF21-$BC$10)^2+(AG21-$BD$10)^2) -> 0.77419807 | AI21: =AH21/(2*$BC$3) -> 1.0000024 | AJ21: =AE21/AI21 -> 0.33030386 | AK21: =AJ21*COS(A21/180*PI()) -> 0.30174759 | AL21: =AJ21*SIN(A21/180*PI()) -> 0.13434668 | AM21: =SQRT(AK21^2+AL21^2)+SQRT((AK21-$BC$10)^2+(AL21-$BD$10)^2) -> 0.77419651 | AN21: =AM21/(2*$BC$3) -> 1.0000004 | AO21: =AJ21/AN21 -> 0.33030373 | AP21: =AO21*COS(A21/180*PI()) -> 0.30174747 | AQ21: =AO21*SIN(A21/180*PI()) -> 0.13434663 | AR21: =SQRT(AP21^2+AQ21^2)+SQRT((AP21-$BC$10)^2+(AQ21-$BD$10)^2) -> 0.77419625 | AS21: =AR21/(2*$BC$3) -> 1.0000001 | AT21: =AO21/AS21 -> 0.33030371 | AU21: =AT21*COS(A21/180*PI()) -> 0.30174745 | AV21: =AT21*SIN(A21/180*PI()) -> 0.13434662 | AW21: =SQRT(AU21^2+AV21^2)+SQRT((AU21-$BC$10)^2+(AV21-$BD$10)^2) -> 0.77419621 | AX21: =AW21/(2*$BC$3) -> 1 | AY21: =AT21-0.127 -> 0.20330371 | AZ21: =AY21-'Master Radiusverkleinerung'!G11/100 -> 0.20330371 | BA21: =SQRT((AU21-AU20)^2+(AV21-AV20)^2) -> 0.035264052
A23: 30 | B23: =BC$3*COS(A23/180*PI()) -> 0.33523679 | C23: =BC$3*SIN(A23/180*PI()) -> 0.19354905 | D23: =SQRT(B23^2+C23^2)+SQRT((B23-$BC$10)^2+(C23-$BD$10)^2) -> 0.89552678 | E23: =D23/(2*$BC$3) -> 1.1567181 | F23: =$BC$3/E23 -> 0.33465206 | G23: =F23*COS(A23/180*PI()) -> 0.28981718 | H23: =F23*SIN(A23/180*PI()) -> 0.16732603 | I23: =SQRT(G23^2+H23^2)+SQRT((G23-$BC$10)^2+(H23-$BD$10)^2) -> 0.7922107 | J23: =I23/(2*$BC$3) -> 1.0232687 | K23: =F23/J23 -> 0.32704222 | L23: =K23*COS(A23/180*PI()) -> 0.28322687 | M23: =K23*SIN(A23/180*PI()) -> 0.16352111 | N23: =SQRT(L23^2+M23^2)+SQRT((L23-$BC$10)^2+(M23-$BD$10)^2) -> 0.77724976 | O23: =N23/(2*$BC$3) -> 1.0039442 | P23: =K23/O23 -> 0.32575738 | Q23: =P23*COS(A23/180*PI()) -> 0.28211417 | R23: =P23*SIN(A23/180*PI()) -> 0.16287869 | S23: =SQRT(Q23^2+R23^2)+SQRT((Q23-$BC$10)^2+(R23-$BD$10)^2) -> 0.77472461 | T23: =S23/(2*$BC$3) -> 1.0006825 | U23: =P23/T23 -> 0.32553519 | V23: =U23*COS(A23/180*PI()) -> 0.28192175 | W23: =U23*SIN(A23/180*PI()) -> 0.1627676 | X23: =SQRT(V23^2+W23^2)+SQRT((V23-$BC$10)^2+(W23-$BD$10)^2) -> 0.77428796 | Y23: =X23/(2*$BC$3) -> 1.0001185 | Z23: =U23/Y23 -> 0.32549661 | AA23: =Z23*COS(A23/180*PI()) -> 0.28188834 | AB23: =Z23*SIN(A23/180*PI()) -> 0.16274831 | AC23: =SQRT(AA23^2+AB23^2)+SQRT((AA23-$BC$10)^2+(AB23-$BD$10)^2) -> 0.77421215 | AD23: =AC23/(2*$BC$3) -> 1.0000206 | AE23: =Z23/AD23 -> 0.32548991 | AF23: =AE23*COS(A23/180*PI()) -> 0.28188253 | AG23: =AE23*SIN(A23/180*PI()) -> 0.16274495 | AH23: =SQRT(AF23^2+AG23^2)+SQRT((AF23-$BC$10)^2+(AG23-$BD$10)^2) -> 0.77419897 | AI23: =AH23/(2*$BC$3) -> 1.0000036 | AJ23: =AE23/AI23 -> 0.32548874 | AK23: =AJ23*COS(A23/180*PI()) -> 0.28188152 | AL23: =AJ23*SIN(A23/180*PI()) -> 0.16274437 | AM23: =SQRT(AK23^2+AL23^2)+SQRT((AK23-$BC$10)^2+(AL23-$BD$10)^2) -> 0.77419668 | AN23: =AM23/(2*$BC$3) -> 1.0000006 | AO23: =AJ23/AN23 -> 0.32548854 | AP23: =AO23*COS(A23/180*PI()) -> 0.28188135 | AQ23: =AO23*SIN(A23/180*PI()) -> 0.16274427 | AR23: =SQRT(AP23^2+AQ23^2)+SQRT((AP23-$BC$10)^2+(AQ23-$BD$10)^2) -> 0.77419628 | AS23: =AR23/(2*$BC$3) -> 1.0000001 | AT23: =AO23/AS23 -> 0.32548851 | AU23: =AT23*COS(A23/180*PI()) -> 0.28188132 | AV23: =AT23*SIN(A23/180*PI()) -> 0.16274425 | AW23: =SQRT(AU23^2+AV23^2)+SQRT((AU23-$BC$10)^2+(AV23-$BD$10)^2) -> 0.77419621 | AX23: =AW23/(2*$BC$3) -> 1 | AY23: =AT23-0.127 -> 0.19848851 | AZ23: =AY23-'Master Radiusverkleinerung'!G12/100 -> 0.19848851 | BA23: =SQRT((AU23-AU21)^2+(AV23-AV21)^2) -> 0.034656729
A24: 36 | B24: =BC$3*COS(A24/180*PI()) -> 0.31316894 | C24: =BC$3*SIN(A24/180*PI()) -> 0.22753055 | D24: =SQRT(B24^2+C24^2)+SQRT((B24-$BC$10)^2+(C24-$BD$10)^2) -> 0.90434009 | E24: =D24/(2*$BC$3) -> 1.168102 | F24: =$BC$3/E24 -> 0.33139068 | G24: =F24*COS(A24/180*PI()) -> 0.26810069 | H24: =F24*SIN(A24/180*PI()) -> 0.19478655 | I24: =SQRT(G24^2+H24^2)+SQRT((G24-$BC$10)^2+(H24-$BD$10)^2) -> 0.7942346 | J24: =I24/(2*$BC$3) -> 1.0258828 | K24: =F24/J24 -> 0.32302975 | L24: =K24*COS(A24/180*PI()) -> 0.26133656 | M24: =K24*SIN(A24/180*PI()) -> 0.18987212 | N24: =SQRT(L24^2+M24^2)+SQRT((L24-$BC$10)^2+(M24-$BD$10)^2) -> 0.77773662 | O24: =N24/(2*$BC$3) -> 1.004573 | P24: =K24/O24 -> 0.32155925 | Q24: =P24*COS(A24/180*PI()) -> 0.2601469 | R24: =P24*SIN(A24/180*PI()) -> 0.18900779 | S24: =SQRT(Q24^2+R24^2)+SQRT((Q24-$BC$10)^2+(R24-$BD$10)^2) -> 0.77483584 | T24: =S24/(2*$BC$3) -> 1.0008262 | U24: =P24/T24 -> 0.3212938 | V24: =U24*COS(A24/180*PI()) -> 0.25993214 | W24: =U24*SIN(A24/180*PI()) -> 0.18885176 | X24: =SQRT(V24^2+W24^2)+SQRT((V24-$BC$10)^2+(W24-$BD$10)^2) -> 0.77431222 | Y24: =X24/(2*$BC$3) -> 1.0001499 | Z24: =U24/Y24 -> 0.32124566 | AA24: =Z24*COS(A24/180*PI()) -> 0.2598932 | AB24: =Z24*SIN(A24/180*PI()) -> 0.18882346 | AC24: =SQRT(AA24^2+AB24^2)+SQRT((AA24-$BC$10)^2+(AB24-$BD$10)^2) -> 0.77421726 | AD24: =AC24/(2*$BC$3) -> 1.0000272 | AE24: =Z24/AD24 -> 0.32123692 | AF24: =AE24*COS(A24/180*PI()) -> 0.25988613 | AG24: =AE24*SIN(A24/180*PI()) -> 0.18881832 | AH24: =SQRT(AF24^2+AG24^2)+SQRT((AF24-$BC$10)^2+(AG24-$BD$10)^2) -> 0.77420002 | AI24: =AH24/(2*$BC$3) -> 1.0000049 | AJ24: =AE24/AI24 -> 0.32123533 | AK24: =AJ24*COS(A24/180*PI()) -> 0.25988484 | AL24: =AJ24*SIN(A24/180*PI()) -> 0.18881739 | AM24: =SQRT(AK24^2+AL24^2)+SQRT((AK24-$BC$10)^2+(AL24-$BD$10)^2) -> 0.77419689 | AN24: =AM24/(2*$BC$3) -> 1.0000009 | AO24: =AJ24/AN24 -> 0.32123504 | AP24: =AO24*COS(A24/180*PI()) -> 0.25988461 | AQ24: =AO24*SIN(A24/180*PI()) -> 0.18881722 | AR24: =SQRT(AP24^2+AQ24^2)+SQRT((AP24-$BC$10)^2+(AQ24-$BD$10)^2) -> 0.77419633 | AS24: =AR24/(2*$BC$3) -> 1.0000002 | AT24: =AO24/AS24 -> 0.32123499 | AU24: =AT24*COS(A24/180*PI()) -> 0.25988457 | AV24: =AT24*SIN(A24/180*PI()) -> 0.18881719 | AW24: =SQRT(AU24^2+AV24^2)+SQRT((AU24-$BC$10)^2+(AV24-$BD$10)^2) -> 0.77419622 | AX24: =AW24/(2*$BC$3) -> 1 | AY24: =AT24-0.127 -> 0.19423499 | AZ24: =AY24-'Master Radiusverkleinerung'!G13/100 -> 0.19423499 | BA24: =SQRT((AU24-AU23)^2+(AV24-AV23)^2) -> 0.034112387
A25: 42 | B25: =BC$3*COS(A25/180*PI()) -> 0.28766995 | C25: =BC$3*SIN(A25/180*PI()) -> 0.25901919 | D25: =SQRT(B25^2+C25^2)+SQRT((B25-$BC$10)^2+(C25-$BD$10)^2) -> 0.91204292 | E25: =D25/(2*$BC$3) -> 1.1780514 | F25: =$BC$3/E25 -> 0.32859186 | G25: =F25*COS(A25/180*PI()) -> 0.24419134 | H25: =F25*SIN(A25/180*PI()) -> 0.21987087 | I25: =SQRT(G25^2+H25^2)+SQRT((G25-$BC$10)^2+(H25-$BD$10)^2) -> 0.79605746 | J25: =I25/(2*$BC$3) -> 1.0282374 | K25: =F25/J25 -> 0.3195681 | L25: =K25*COS(A25/180*PI()) -> 0.23748538 | M25: =K25*SIN(A25/180*PI()) -> 0.21383279 | N25: =SQRT(L25^2+M25^2)+SQRT((L25-$BC$10)^2+(M25-$BD$10)^2) -> 0.77819146 | O25: =N25/(2*$BC$3) -> 1.0051605 | P25: =K25/O25 -> 0.31792742 | Q25: =P25*COS(A25/180*PI()) -> 0.23626612 | R25: =P25*SIN(A25/180*PI()) -> 0.21273497 | S25: =SQRT(Q25^2+R25^2)+SQRT((Q25-$BC$10)^2+(R25-$BD$10)^2) -> 0.77494388 | T25: =S25/(2*$BC$3) -> 1.0009658 | U25: =P25/T25 -> 0.31762068 | V25: =U25*COS(A25/180*PI()) -> 0.23603816 | W25: =U25*SIN(A25/180*PI()) -> 0.21252972 | X25: =SQRT(V25^2+W25^2)+SQRT((V25-$BC$10)^2+(W25-$BD$10)^2) -> 0.77433674 | Y25: =X25/(2*$BC$3) -> 1.0001815 | Z25: =U25/Y25 -> 0.31756303 | AA25: =Z25*COS(A25/180*PI()) -> 0.23599533 | AB25: =Z25*SIN(A25/180*PI()) -> 0.21249115 | AC25: =SQRT(AA25^2+AB25^2)+SQRT((AA25-$BC$10)^2+(AB25-$BD$10)^2) -> 0.77422264 | AD25: =AC25/(2*$BC$3) -> 1.0000341 | AE25: =Z25/AD25 -> 0.31755219 | AF25: =AE25*COS(A25/180*PI()) -> 0.23598727 | AG25: =AE25*SIN(A25/180*PI()) -> 0.21248389 | AH25: =SQRT(AF25^2+AG25^2)+SQRT((AF25-$BC$10)^2+(AG25-$BD$10)^2) -> 0.77420117 | AI25: =AH25/(2*$BC$3) -> 1.0000064 | AJ25: =AE25/AI25 -> 0.31755015 | AK25: =AJ25*COS(A25/180*PI()) -> 0.23598575 | AL25: =AJ25*SIN(A25/180*PI()) -> 0.21248252 | AM25: =SQRT(AK25^2+AL25^2)+SQRT((AK25-$BC$10)^2+(AL25-$BD$10)^2) -> 0.77419714 | AN25: =AM25/(2*$BC$3) -> 1.0000012 | AO25: =AJ25/AN25 -> 0.31754977 | AP25: =AO25*COS(A25/180*PI()) -> 0.23598547 | AQ25: =AO25*SIN(A25/180*PI()) -> 0.21248227 | AR25: =SQRT(AP25^2+AQ25^2)+SQRT((AP25-$BC$10)^2+(AQ25-$BD$10)^2) -> 0.77419638 | AS25: =AR25/(2*$BC$3) -> 1.0000002 | AT25: =AO25/AS25 -> 0.31754969 | AU25: =AT25*COS(A25/180*PI()) -> 0.23598541 | AV25: =AT25*SIN(A25/180*PI()) -> 0.21248222 | AW25: =SQRT(AU25^2+AV25^2)+SQRT((AU25-$BC$10)^2+(AV25-$BD$10)^2) -> 0.77419623 | AX25: =AW25/(2*$BC$3) -> 1 | AY25: =AT25-0.127 -> 0.19054969 | AZ25: =AY25-'Master Radiusverkleinerung'!G14/100 -> 0.19054969 | BA25: =SQRT((AU25-AU24)^2+(AV25-AV24)^2) -> 0.033633365
A26: 48 | B26: =BC$3*COS(A26/180*PI()) -> 0.25901919 | C26: =BC$3*SIN(A26/180*PI()) -> 0.28766995 | D26: =SQRT(B26^2+C26^2)+SQRT((B26-$BC$10)^2+(C26-$BD$10)^2) -> 0.91860081 | E26: =D26/(2*$BC$3) -> 1.186522 | F26: =$BC$3/E26 -> 0.32624604 | G26: =F26*COS(A26/180*PI()) -> 0.21830121 | H26: =F26*SIN(A26/180*PI()) -> 0.24244806 | I26: =SQRT(G26^2+H26^2)+SQRT((G26-$BC$10)^2+(H26-$BD$10)^2) -> 0.79764679 | J26: =I26/(2*$BC$3) -> 1.0302902 | K26: =F26/J26 -> 0.3166545 | L26: =K26*COS(A26/180*PI()) -> 0.21188322 | M26: =K26*SIN(A26/180*PI()) -> 0.23532015 | N26: =SQRT(L26^2+M26^2)+SQRT((L26-$BC$10)^2+(M26-$BD$10)^2) -> 0.77859986 | O26: =N26/(2*$BC$3) -> 1.005688 | P26: =K26/O26 -> 0.31486355 | Q26: =P26*COS(A26/180*PI()) -> 0.21068484 | R26: =P26*SIN(A26/180*PI()) -> 0.23398922 | S26: =SQRT(Q26^2+R26^2)+SQRT((Q26-$BC$10)^2+(R26-$BD$10)^2) -> 0.77504399 | T26: =S26/(2*$BC$3) -> 1.0010951 | U26: =P26/T26 -> 0.31451913 | V26: =U26*COS(A26/180*PI()) -> 0.21045438 | W26: =U26*SIN(A26/180*PI()) -> 0.23373326 | X26: =SQRT(V26^2+W26^2)+SQRT((V26-$BC$10)^2+(W26-$BD$10)^2) -> 0.77436019 | Y26: =X26/(2*$BC$3) -> 1.0002118 | Z26: =U26/Y26 -> 0.31445252 | AA26: =Z26*COS(A26/180*PI()) -> 0.21040981 | AB26: =Z26*SIN(A26/180*PI()) -> 0.23368377 | AC26: =SQRT(AA26^2+AB26^2)+SQRT((AA26-$BC$10)^2+(AB26-$BD$10)^2) -> 0.77422795 | AD26: =AC26/(2*$BC$3) -> 1.000041 | AE26: =Z26/AD26 -> 0.31443963 | AF26: =AE26*COS(A26/180*PI()) -> 0.21040118 | AG26: =AE26*SIN(A26/180*PI()) -> 0.23367418 | AH26: =SQRT(AF26^2+AG26^2)+SQRT((AF26-$BC$10)^2+(AG26-$BD$10)^2) -> 0.77420235 | AI26: =AH26/(2*$BC$3) -> 1.0000079 | AJ26: =AE26/AI26 -> 0.31443713 | AK26: =AJ26*COS(A26/180*PI()) -> 0.21039951 | AL26: =AJ26*SIN(A26/180*PI()) -> 0.23367233 | AM26: =SQRT(AK26^2+AL26^2)+SQRT((AK26-$BC$10)^2+(AL26-$BD$10)^2) -> 0.77419739 | AN26: =AM26/(2*$BC$3) -> 1.0000015 | AO26: =AJ26/AN26 -> 0.31443665 | AP26: =AO26*COS(A26/180*PI()) -> 0.21039918 | AQ26: =AO26*SIN(A26/180*PI()) -> 0.23367197 | AR26: =SQRT(AP26^2+AQ26^2)+SQRT((AP26-$BC$10)^2+(AQ26-$BD$10)^2) -> 0.77419643 | AS26: =AR26/(2*$BC$3) -> 1.0000003 | AT26: =AO26/AS26 -> 0.31443655 | AU26: =AT26*COS(A26/180*PI()) -> 0.21039912 | AV26: =AT26*SIN(A26/180*PI()) -> 0.2336719 | AW26: =SQRT(AU26^2+AV26^2)+SQRT((AU26-$BC$10)^2+(AV26-$BD$10)^2) -> 0.77419624 | AX26: =AW26/(2*$BC$3) -> 1.0000001 | AY26: =AT26-0.127 -> 0.18743655 | AZ26: =AY26-'Master Radiusverkleinerung'!G15/100 -> 0.18743655 | BA26: =SQRT((AU26-AU25)^2+(AV26-AV25)^2) -> 0.033221389
A27: 54 | B27: =BC$3*COS(A27/180*PI()) -> 0.22753055 | C27: =BC$3*SIN(A27/180*PI()) -> 0.31316894 | D27: =SQRT(B27^2+C27^2)+SQRT((B27-$BC$10)^2+(C27-$BD$10)^2) -> 0.92398502 | E27: =D27/(2*$BC$3) -> 1.1934766 | F27: =$BC$3/E27 -> 0.32434495 | G27: =F27*COS(A27/180*PI()) -> 0.19064518 | H27: =F27*SIN(A27/180*PI()) -> 0.26240058 | I27: =SQRT(G27^2+H27^2)+SQRT((G27-$BC$10)^2+(H27-$BD$10)^2) -> 0.79897613 | J27: =I27/(2*$BC$3) -> 1.0320073 | K27: =F27/J27 -> 0.31428552 | L27: =K27*COS(A27/180*PI()) -> 0.1847324 | M27: =K27*SIN(A27/180*PI()) -> 0.25426233 | N27: =SQRT(L27^2+M27^2)+SQRT((L27-$BC$10)^2+(M27-$BD$10)^2) -> 0.77894945 | O27: =N27/(2*$BC$3) -> 1.0061396 | P27: =K27/O27 -> 0.31236771 | Q27: =P27*COS(A27/180*PI()) -> 0.18360514 | R27: =P27*SIN(A27/180*PI()) -> 0.25271079 | S27: =SQRT(Q27^2+R27^2)+SQRT((Q27-$BC$10)^2+(R27-$BD$10)^2) -> 0.77513185 | T27: =S27/(2*$BC$3) -> 1.0012085 | U27: =P27/T27 -> 0.31199066 | V27: =U27*COS(A27/180*PI()) -> 0.18338351 | W27: =U27*SIN(A27/180*PI()) -> 0.25240574 | X27: =SQRT(V27^2+W27^2)+SQRT((V27-$BC$10)^2+(W27-$BD$10)^2) -> 0.7743813 | Y27: =X27/(2*$BC$3) -> 1.0002391 | Z27: =U27/Y27 -> 0.31191608 | AA27: =Z27*COS(A27/180*PI()) -> 0.18333967 | AB27: =Z27*SIN(A27/180*PI()) -> 0.25234541 | AC27: =SQRT(AA27^2+AB27^2)+SQRT((AA27-$BC$10)^2+(AB27-$BD$10)^2) -> 0.77423286 | AD27: =AC27/(2*$BC$3) -> 1.0000473 | AE27: =Z27/AD27 -> 0.31190131 | AF27: =AE27*COS(A27/180*PI()) -> 0.18333099 | AG27: =AE27*SIN(A27/180*PI()) -> 0.25233346 | AH27: =SQRT(AF27^2+AG27^2)+SQRT((AF27-$BC$10)^2+(AG27-$BD$10)^2) -> 0.77420346 | AI27: =AH27/(2*$BC$3) -> 1.0000094 | AJ27: =AE27/AI27 -> 0.31189839 | AK27: =AJ27*COS(A27/180*PI()) -> 0.18332927 | AL27: =AJ27*SIN(A27/180*PI()) -> 0.2523311 | AM27: =SQRT(AK27^2+AL27^2)+SQRT((AK27-$BC$10)^2+(AL27-$BD$10)^2) -> 0.77419764 | AN27: =AM27/(2*$BC$3) -> 1.0000019 | AO27: =AJ27/AN27 -> 0.31189781 | AP27: =AO27*COS(A27/180*PI()) -> 0.18332893 | AQ27: =AO27*SIN(A27/180*PI()) -> 0.25233063 | AR27: =SQRT(AP27^2+AQ27^2)+SQRT((AP27-$BC$10)^2+(AQ27-$BD$10)^2) -> 0.77419648 | AS27: =AR27/(2*$BC$3) -> 1.0000004 | AT27: =AO27/AS27 -> 0.31189769 | AU27: =AT27*COS(A27/180*PI()) -> 0.18332886 | AV27: =AT27*SIN(A27/180*PI()) -> 0.25233053 | AW27: =SQRT(AU27^2+AV27^2)+SQRT((AU27-$BC$10)^2+(AV27-$BD$10)^2) -> 0.77419626 | AX27: =AW27/(2*$BC$3) -> 1.0000001 | AY27: =AT27-0.127 -> 0.18489769 | AZ27: =AY27-'Master Radiusverkleinerung'!G16/100 -> 0.18489769 | BA27: =SQRT((AU27-AU26)^2+(AV27-AV26)^2) -> 0.032877706
A29: 60 | B29: =BC$3*COS(A29/180*PI()) -> 0.19354905 | C29: =BC$3*SIN(A29/180*PI()) -> 0.33523679 | D29: =SQRT(B29^2+C29^2)+SQRT((B29-$BC$10)^2+(C29-$BD$10)^2) -> 0.92817235 | E29: =D29/(2*$BC$3) -> 1.1988852 | F29: =$BC$3/E29 -> 0.32288171 | G29: =F29*COS(A29/180*PI()) -> 0.16144086 | H29: =F29*SIN(A29/180*PI()) -> 0.27962376 | I29: =SQRT(G29^2+H29^2)+SQRT((G29-$BC$10)^2+(H29-$BD$10)^2) -> 0.8000246 | J29: =I29/(2*$BC$3) -> 1.0333616 | K29: =F29/J29 -> 0.31245763 | L29: =K29*COS(A29/180*PI()) -> 0.15622882 | M29: =K29*SIN(A29/180*PI()) -> 0.27059625 | N29: =SQRT(L29^2+M29^2)+SQRT((L29-$BC$10)^2+(M29-$BD$10)^2) -> 0.7792301 | O29: =N29/(2*$BC$3) -> 1.0065021 | P29: =K29/O29 -> 0.31043913 | Q29: =P29*COS(A29/180*PI()) -> 0.15521957 | R29: =P29*SIN(A29/180*PI()) -> 0.26884817 | S29: =SQRT(Q29^2+R29^2)+SQRT((Q29-$BC$10)^2+(R29-$BD$10)^2) -> 0.77520375 | T29: =S29/(2*$BC$3) -> 1.0013014 | U29: =P29/T29 -> 0.31003564 | V29: =U29*COS(A29/180*PI()) -> 0.15501782 | W29: =U29*SIN(A29/180*PI()) -> 0.26849874 | X29: =SQRT(V29^2+W29^2)+SQRT((V29-$BC$10)^2+(W29-$BD$10)^2) -> 0.77439892 | Y29: =X29/(2*$BC$3) -> 1.0002619 | Z29: =U29/Y29 -> 0.30995448 | AA29: =Z29*COS(A29/180*PI()) -> 0.15497724 | AB29: =Z29*SIN(A29/180*PI()) -> 0.26842846 | AC29: =SQRT(AA29^2+AB29^2)+SQRT((AA29-$BC$10)^2+(AB29-$BD$10)^2) -> 0.77423703 | AD29: =AC29/(2*$BC$3) -> 1.0000527 | AE29: =Z29/AD29 -> 0.30993814 | AF29: =AE29*COS(A29/180*PI()) -> 0.15496907 | AG29: =AE29*SIN(A29/180*PI()) -> 0.2684143 | AH29: =SQRT(AF29^2+AG29^2)+SQRT((AF29-$BC$10)^2+(AG29-$BD$10)^2) -> 0.77420443 | AI29: =AH29/(2*$BC$3) -> 1.0000106 | AJ29: =AE29/AI29 -> 0.30993484 | AK29: =AJ29*COS(A29/180*PI()) -> 0.15496742 | AL29: =AJ29*SIN(A29/180*PI()) -> 0.26841145 | AM29: =SQRT(AK29^2+AL29^2)+SQRT((AK29-$BC$10)^2+(AL29-$BD$10)^2) -> 0.77419786 | AN29: =AM29/(2*$BC$3) -> 1.0000021 | AO29: =AJ29/AN29 -> 0.30993418 | AP29: =AO29*COS(A29/180*PI()) -> 0.15496709 | AQ29: =AO29*SIN(A29/180*PI()) -> 0.26841087 | AR29: =SQRT(AP29^2+AQ29^2)+SQRT((AP29-$BC$10)^2+(AQ29-$BD$10)^2) -> 0.77419653 | AS29: =AR29/(2*$BC$3) -> 1.0000004 | AT29: =AO29/AS29 -> 0.30993405 | AU29: =AT29*COS(A29/180*PI()) -> 0.15496702 | AV29: =AT29*SIN(A29/180*PI()) -> 0.26841076 | AW29: =SQRT(AU29^2+AV29^2)+SQRT((AU29-$BC$10)^2+(AV29-$BD$10)^2) -> 0.77419627 | AX29: =AW29/(2*$BC$3) -> 1.0000001 | AY29: =AT29-0.127 -> 0.18293405 | AZ29: =AY29-'Master Radiusverkleinerung'!G17/100 -> 0.18293405 | BA29: =SQRT((AU29-AU27)^2+(AV29-AV27)^2) -> 0.032603184
A30: 66 | B30: =BC$3*COS(A30/180*PI()) -> 0.15744698 | C30: =BC$3*SIN(A30/180*PI()) -> 0.35363171 | D30: =SQRT(B30^2+C30^2)+SQRT((B30-$BC$10)^2+(C30-$BD$10)^2) -> 0.931145 | E30: =D30/(2*$BC$3) -> 1.2027248 | F30: =$BC$3/E30 -> 0.32185092 | G30: =F30*COS(A30/180*PI()) -> 0.13090856 | H30: =F30*SIN(A30/180*PI()) -> 0.29402545 | I30: =SQRT(G30^2+H30^2)+SQRT((G30-$BC$10)^2+(H30-$BD$10)^2) -> 0.80077645 | J30: =I30/(2*$BC$3) -> 1.0343327 | K30: =F30/J30 -> 0.3111677 | L30: =K30*COS(A30/180*PI()) -> 0.1265633 | M30: =K30*SIN(A30/180*PI()) -> 0.28426583 | N30: =SQRT(L30^2+M30^2)+SQRT((L30-$BC$10)^2+(M30-$BD$10)^2) -> 0.77943393 | O30: =N30/(2*$BC$3) -> 1.0067654 | P30: =K30/O30 -> 0.30907668 | Q30: =P30*COS(A30/180*PI()) -> 0.12571281 | R30: =P30*SIN(A30/180*PI()) -> 0.28235559 | S30: =SQRT(Q30^2+R30^2)+SQRT((Q30-$BC$10)^2+(R30-$BD$10)^2) -> 0.7752567 | T30: =S30/(2*$BC$3) -> 1.0013698 | U30: =P30/T30 -> 0.30865388 | V30: =U30*COS(A30/180*PI()) -> 0.12554084 | W30: =U30*SIN(A30/180*PI()) -> 0.28196935 | X30: =SQRT(V30^2+W30^2)+SQRT((V30-$BC$10)^2+(W30-$BD$10)^2) -> 0.77441209 | Y30: =X30/(2*$BC$3) -> 1.0002789 | Z30: =U30/Y30 -> 0.30856783 | AA30: =Z30*COS(A30/180*PI()) -> 0.12550584 | AB30: =Z30*SIN(A30/180*PI()) -> 0.28189074 | AC30: =SQRT(AA30^2+AB30^2)+SQRT((AA30-$BC$10)^2+(AB30-$BD$10)^2) -> 0.7742402 | AD30: =AC30/(2*$BC$3) -> 1.0000568 | AE30: =Z30/AD30 -> 0.3085503 | AF30: =AE30*COS(A30/180*PI()) -> 0.12549871 | AG30: =AE30*SIN(A30/180*PI()) -> 0.28187472 | AH30: =SQRT(AF30^2+AG30^2)+SQRT((AF30-$BC$10)^2+(AG30-$BD$10)^2) -> 0.77420517 | AI30: =AH30/(2*$BC$3) -> 1.0000116 | AJ30: =AE30/AI30 -> 0.30854672 | AK30: =AJ30*COS(A30/180*PI()) -> 0.12549726 | AL30: =AJ30*SIN(A30/180*PI()) -> 0.28187146 | AM30: =SQRT(AK30^2+AL30^2)+SQRT((AK30-$BC$10)^2+(AL30-$BD$10)^2) -> 0.77419803 | AN30: =AM30/(2*$BC$3) -> 1.0000024 | AO30: =AJ30/AN30 -> 0.308546 | AP30: =AO30*COS(A30/180*PI()) -> 0.12549696 | AQ30: =AO30*SIN(A30/180*PI()) -> 0.28187079 | AR30: =SQRT(AP30^2+AQ30^2)+SQRT((AP30-$BC$10)^2+(AQ30-$BD$10)^2) -> 0.77419657 | AS30: =AR30/(2*$BC$3) -> 1.0000005 | AT30: =AO30/AS30 -> 0.30854585 | AU30: =AT30*COS(A30/180*PI()) -> 0.1254969 | AV30: =AT30*SIN(A30/180*PI()) -> 0.28187066 | AW30: =SQRT(AU30^2+AV30^2)+SQRT((AU30-$BC$10)^2+(AV30-$BD$10)^2) -> 0.77419628 | AX30: =AW30/(2*$BC$3) -> 1.0000001 | AY30: =AT30-0.127 -> 0.18154585 | AZ30: =AY30-'Master Radiusverkleinerung'!G18/100 -> 0.18154585 | BA30: =SQRT((AU30-AU29)^2+(AV30-AV29)^2) -> 0.032398409
A31: 72 | B31: =BC$3*COS(A31/180*PI()) -> 0.11961989 | C31: =BC$3*SIN(A31/180*PI()) -> 0.36815217 | D31: =SQRT(B31^2+C31^2)+SQRT((B31-$BC$10)^2+(C31-$BD$10)^2) -> 0.93289042 | E31: =D31/(2*$BC$3) -> 1.2049793 | F31: =$BC$3/E31 -> 0.32124875 | G31: =F31*COS(A31/180*PI()) -> 0.099271322 | H31: =F31*SIN(A31/180*PI()) -> 0.30552571 | I31: =SQRT(G31^2+H31^2)+SQRT((G31-$BC$10)^2+(H31-$BD$10)^2) -> 0.80122076 | J31: =I31/(2*$BC$3) -> 1.0349066 | K31: =F31/J31 -> 0.31041328 | L31: =K31*COS(A31/180*PI()) -> 0.095922977 | M31: =K31*SIN(A31/180*PI()) -> 0.29522057 | N31: =SQRT(L31^2+M31^2)+SQRT((L31-$BC$10)^2+(M31-$BD$10)^2) -> 0.77955537 | O31: =N31/(2*$BC$3) -> 1.0069222 | P31: =K31/O31 -> 0.30827929 | Q31: =P31*COS(A31/180*PI()) -> 0.09526354 | R31: =P31*SIN(A31/180*PI()) -> 0.29319103 | S31: =SQRT(Q31^2+R31^2)+SQRT((Q31-$BC$10)^2+(R31-$BD$10)^2) -> 0.77528853 | T31: =S31/(2*$BC$3) -> 1.0014109 | U31: =P31/T31 -> 0.30784495 | V31: =U31*COS(A31/180*PI()) -> 0.09512932 | W31: =U31*SIN(A31/180*PI()) -> 0.29277794 | X31: =SQRT(V31^2+W31^2)+SQRT((V31-$BC$10)^2+(W31-$BD$10)^2) -> 0.77442007 | Y31: =X31/(2*$BC$3) -> 1.0002892 | Z31: =U31/Y31 -> 0.30775595 | AA31: =Z31*COS(A31/180*PI()) -> 0.09510182 | AB31: =Z31*SIN(A31/180*PI()) -> 0.2926933 | AC31: =SQRT(AA31^2+AB31^2)+SQRT((AA31-$BC$10)^2+(AB31-$BD$10)^2) -> 0.77424213 | AD31: =AC31/(2*$BC$3) -> 1.0000593 | AE31: =Z31/AD31 -> 0.3077377 | AF31: =AE31*COS(A31/180*PI()) -> 0.095096178 | AG31: =AE31*SIN(A31/180*PI()) -> 0.29267594 | AH31: =SQRT(AF31^2+AG31^2)+SQRT((AF31-$BC$10)^2+(AG31-$BD$10)^2) -> 0.77420563 | AI31: =AH31/(2*$BC$3) -> 1.0000122 | AJ31: =AE31/AI31 -> 0.30773395 | AK31: =AJ31*COS(A31/180*PI()) -> 0.09509502 | AL31: =AJ31*SIN(A31/180*PI()) -> 0.29267238 | AM31: =SQRT(AK31^2+AL31^2)+SQRT((AK31-$BC$10)^2+(AL31-$BD$10)^2) -> 0.77419813 | AN31: =AM31/(2*$BC$3) -> 1.0000025 | AO31: =AJ31/AN31 -> 0.30773318 | AP31: =AO31*COS(A31/180*PI()) -> 0.095094782 | AQ31: =AO31*SIN(A31/180*PI()) -> 0.29267165 | AR31: =SQRT(AP31^2+AQ31^2)+SQRT((AP31-$BC$10)^2+(AQ31-$BD$10)^2) -> 0.7741966 | AS31: =AR31/(2*$BC$3) -> 1.0000005 | AT31: =AO31/AS31 -> 0.30773302 | AU31: =AT31*COS(A31/180*PI()) -> 0.095094733 | AV31: =AT31*SIN(A31/180*PI()) -> 0.2926715 | AW31: =SQRT(AU31^2+AV31^2)+SQRT((AU31-$BC$10)^2+(AV31-$BD$10)^2) -> 0.77419628 | AX31: =AW31/(2*$BC$3) -> 1.0000001 | AY31: =AT31-0.127 -> 0.18073302 | AZ31: =AY31-'Master Radiusverkleinerung'!G19/100 -> 0.18073302 | BA31: =SQRT((AU31-AU30)^2+(AV31-AV30)^2) -> 0.032263756
A32: 78 | B32: =BC$3*COS(A32/180*PI()) -> 0.08048222 | C32: =BC$3*SIN(A32/180*PI()) -> 0.37863908 | D32: =SQRT(B32^2+C32^2)+SQRT((B32-$BC$10)^2+(C32-$BD$10)^2) -> 0.93340131 | E32: =D32/(2*$BC$3) -> 1.2056392 | F32: =$BC$3/E32 -> 0.32107291 | G32: =F32*COS(A32/180*PI()) -> 0.066754813 | H32: =F32*SIN(A32/180*PI()) -> 0.3140567 | I32: =SQRT(G32^2+H32^2)+SQRT((G32-$BC$10)^2+(H32-$BD$10)^2) -> 0.8013512 | J32: =I32/(2*$BC$3) -> 1.0350751 | K32: =F32/J32 -> 0.31019287 | L32: =K32*COS(A32/180*PI()) -> 0.064492725 | M32: =K32*SIN(A32/180*PI()) -> 0.30341441 | N32: =SQRT(L32^2+M32^2)+SQRT((L32-$BC$10)^2+(M32-$BD$10)^2) -> 0.77959117 | O32: =N32/(2*$BC$3) -> 1.0069685 | P32: =K32/O32 -> 0.30804626 | Q32: =P32*COS(A32/180*PI()) -> 0.064046419 | R32: =P32*SIN(A32/180*PI()) -> 0.30131471 | S32: =SQRT(Q32^2+R32^2)+SQRT((Q32-$BC$10)^2+(R32-$BD$10)^2) -> 0.77529795 | T32: =S32/(2*$BC$3) -> 1.0014231 | U32: =P32/T32 -> 0.30760851 | V32: =U32*COS(A32/180*PI()) -> 0.063955404 | W32: =U32*SIN(A32/180*PI()) -> 0.30088652 | X32: =SQRT(V32^2+W32^2)+SQRT((V32-$BC$10)^2+(W32-$BD$10)^2) -> 0.77442244 | Y32: =X32/(2*$BC$3) -> 1.0002922 | Z32: =U32/Y32 -> 0.30751864 | AA32: =Z32*COS(A32/180*PI()) -> 0.06393672 | AB32: =Z32*SIN(A32/180*PI()) -> 0.30079862 | AC32: =SQRT(AA32^2+AB32^2)+SQRT((AA32-$BC$10)^2+(AB32-$BD$10)^2) -> 0.77424271 | AD32: =AC32/(2*$BC$3) -> 1.0000601 | AE32: =Z32/AD32 -> 0.30750016 | AF32: =AE32*COS(A32/180*PI()) -> 0.063932879 | AG32: =AE32*SIN(A32/180*PI()) -> 0.30078055 | AH32: =SQRT(AF32^2+AG32^2)+SQRT((AF32-$BC$10)^2+(AG32-$BD$10)^2) -> 0.77420576 | AI32: =AH32/(2*$BC$3) -> 1.0000124 | AJ32: =AE32/AI32 -> 0.30749637 | AK32: =AJ32*COS(A32/180*PI()) -> 0.063932089 | AL32: =AJ32*SIN(A32/180*PI()) -> 0.30077683 | AM32: =SQRT(AK32^2+AL32^2)+SQRT((AK32-$BC$10)^2+(AL32-$BD$10)^2) -> 0.77419817 | AN32: =AM32/(2*$BC$3) -> 1.0000025 | AO32: =AJ32/AN32 -> 0.30749559 | AP32: =AO32*COS(A32/180*PI()) -> 0.063931927 | AQ32: =AO32*SIN(A32/180*PI()) -> 0.30077607 | AR32: =SQRT(AP32^2+AQ32^2)+SQRT((AP32-$BC$10)^2+(AQ32-$BD$10)^2) -> 0.7741966 | AS32: =AR32/(2*$BC$3) -> 1.0000005 | AT32: =AO32/AS32 -> 0.30749542 | AU32: =AT32*COS(A32/180*PI()) -> 0.063931894 | AV32: =AT32*SIN(A32/180*PI()) -> 0.30077591 | AW32: =SQRT(AU32^2+AV32^2)+SQRT((AU32-$BC$10)^2+(AV32-$BD$10)^2) -> 0.77419628 | AX32: =AW32/(2*$BC$3) -> 1.0000001 | AY32: =AT32-0.127 -> 0.18049542 | AZ32: =AY32-'Master Radiusverkleinerung'!G20/100 -> 0.18049542 | BA32: =SQRT((AU32-AU31)^2+(AV32-AV31)^2) -> 0.032199443
A33: 84 | B33: =BC$3*COS(A33/180*PI()) -> 0.04046277 | C33: =BC$3*SIN(A33/180*PI()) -> 0.38497754 | D33: =SQRT(B33^2+C33^2)+SQRT((B33-$BC$10)^2+(C33-$BD$10)^2) -> 0.93267553 | E33: =D33/(2*$BC$3) -> 1.2047018 | F33: =$BC$3/E33 -> 0.32132276 | G33: =F33*COS(A33/180*PI()) -> 0.033587375 | H33: =F33*SIN(A33/180*PI()) -> 0.31956252 | I33: =SQRT(G33^2+H33^2)+SQRT((G33-$BC$10)^2+(H33-$BD$10)^2) -> 0.80116594 | J33: =I33/(2*$BC$3) -> 1.0348358 | K33: =F33/J33 -> 0.31050604 | L33: =K33*COS(A33/180*PI()) -> 0.032456719 | M33: =K33*SIN(A33/180*PI()) -> 0.30880505 | N33: =SQRT(L33^2+M33^2)+SQRT((L33-$BC$10)^2+(M33-$BD$10)^2) -> 0.77954035 | O33: =N33/(2*$BC$3) -> 1.0069028 | P33: =K33/O33 -> 0.30837736 | Q33: =P33*COS(A33/180*PI()) -> 0.032234211 | R33: =P33*SIN(A33/180*PI()) -> 0.30668803 | S33: =SQRT(Q33^2+R33^2)+SQRT((Q33-$BC$10)^2+(R33-$BD$10)^2) -> 0.77528458 | T33: =S33/(2*$BC$3) -> 1.0014058 | U33: =P33/T33 -> 0.30794444 | V33: =U33*COS(A33/180*PI()) -> 0.032188959 | W33: =U33*SIN(A33/180*PI()) -> 0.30625749 | X33: =SQRT(V33^2+W33^2)+SQRT((V33-$BC$10)^2+(W33-$BD$10)^2) -> 0.77441908 | Y33: =X33/(2*$BC$3) -> 1.0002879 | Z33: =U33/Y33 -> 0.30785582 | AA33: =Z33*COS(A33/180*PI()) -> 0.032179695 | AB33: =Z33*SIN(A33/180*PI()) -> 0.30616935 | AC33: =SQRT(AA33^2+AB33^2)+SQRT((AA33-$BC$10)^2+(AB33-$BD$10)^2) -> 0.77424189 | AD33: =AC33/(2*$BC$3) -> 1.000059 | AE33: =Z33/AD33 -> 0.30783765 | AF33: =AE33*COS(A33/180*PI()) -> 0.032177796 | AG33: =AE33*SIN(A33/180*PI()) -> 0.30615128 | AH33: =SQRT(AF33^2+AG33^2)+SQRT((AF33-$BC$10)^2+(AG33-$BD$10)^2) -> 0.77420557 | AI33: =AH33/(2*$BC$3) -> 1.0000121 | AJ33: =AE33/AI33 -> 0.30783392 | AK33: =AJ33*COS(A33/180*PI()) -> 0.032177407 | AL33: =AJ33*SIN(A33/180*PI()) -> 0.30614758 | AM33: =SQRT(AK33^2+AL33^2)+SQRT((AK33-$BC$10)^2+(AL33-$BD$10)^2) -> 0.77419812 | AN33: =AM33/(2*$BC$3) -> 1.0000025 | AO33: =AJ33/AN33 -> 0.30783316 | AP33: =AO33*COS(A33/180*PI()) -> 0.032177327 | AQ33: =AO33*SIN(A33/180*PI()) -> 0.30614682 | AR33: =SQRT(AP33^2+AQ33^2)+SQRT((AP33-$BC$10)^2+(AQ33-$BD$10)^2) -> 0.77419659 | AS33: =AR33/(2*$BC$3) -> 1.0000005 | AT33: =AO33/AS33 -> 0.307833 | AU33: =AT33*COS(A33/180*PI()) -> 0.032177311 | AV33: =AT33*SIN(A33/180*PI()) -> 0.30614666 | AW33: =SQRT(AU33^2+AV33^2)+SQRT((AU33-$BC$10)^2+(AV33-$BD$10)^2) -> 0.77419628 | AX33: =AW33/(2*$BC$3) -> 1.0000001 | AY33: =AT33-0.127 -> 0.180833 | AZ33: =AY33-'Master Radiusverkleinerung'!G21/100 -> 0.180833 | BA33: =SQRT((AU33-AU32)^2+(AV33-AV32)^2) -> 0.032205566
A35: 90 | B35: =BC$3*COS(A35/180*PI()) -> 2.3712632e-17 | C35: =BC$3*SIN(A35/180*PI()) -> 0.3870981 | D35: =SQRT(B35^2+C35^2)+SQRT((B35-$BC$10)^2+(C35-$BD$10)^2) -> 0.93071612 | E35: =D35/(2*$BC$3) -> 1.2021709 | F35: =$BC$3/E35 -> 0.32199924 | G35: =F35*COS(A35/180*PI()) -> 1.9724843e-17 | H35: =F35*SIN(A35/180*PI()) -> 0.32199924 | I35: =SQRT(G35^2+H35^2)+SQRT((G35-$BC$10)^2+(H35-$BD$10)^2) -> 0.8006676 | J35: =I35/(2*$BC$3) -> 1.0341921 | K35: =F35/J35 -> 0.31135341 | L35: =K35*COS(A35/180*PI()) -> 1.9072707e-17 | M35: =K35*SIN(A35/180*PI()) -> 0.31135341 | N35: =SQRT(L35^2+M35^2)+SQRT((L35-$BC$10)^2+(M35-$BD$10)^2) -> 0.77940429 | O35: =N35/(2*$BC$3) -> 1.0067271 | P35: =K35/O35 -> 0.3092729 | Q35: =P35*COS(A35/180*PI()) -> 1.8945261e-17 | R35: =P35*SIN(A35/180*PI()) -> 0.3092729 | S35: =SQRT(Q35^2+R35^2)+SQRT((Q35-$BC$10)^2+(R35-$BD$10)^2) -> 0.77524896 | T35: =S35/(2*$BC$3) -> 1.0013598 | U35: =P35/T35 -> 0.30885292 | V35: =U35*COS(A35/180*PI()) -> 1.8919534e-17 | W35: =U35*SIN(A35/180*PI()) -> 0.30885292 | X35: =SQRT(V35^2+W35^2)+SQRT((V35-$BC$10)^2+(W35-$BD$10)^2) -> 0.77441015 | Y35: =X35/(2*$BC$3) -> 1.0002764 | Z35: =U35/Y35 -> 0.30876759 | AA35: =Z35*COS(A35/180*PI()) -> 1.8914307e-17 | AB35: =Z35*SIN(A35/180*PI()) -> 0.30876759 | AC35: =SQRT(AA35^2+AB35^2)+SQRT((AA35-$BC$10)^2+(AB35-$BD$10)^2) -> 0.77423973 | AD35: =AC35/(2*$BC$3) -> 1.0000562 | AE35: =Z35/AD35 -> 0.30875023 | AF35: =AE35*COS(A35/180*PI()) -> 1.8913243e-17 | AG35: =AE35*SIN(A35/180*PI()) -> 0.30875023 | AH35: =SQRT(AF35^2+AG35^2)+SQRT((AF35-$BC$10)^2+(AG35-$BD$10)^2) -> 0.77420506 | AI35: =AH35/(2*$BC$3) -> 1.0000114 | AJ35: =AE35/AI35 -> 0.3087467 | AK35: =AJ35*COS(A35/180*PI()) -> 1.8913027e-17 | AL35: =AJ35*SIN(A35/180*PI()) -> 0.3087467 | AM35: =SQRT(AK35^2+AL35^2)+SQRT((AK35-$BC$10)^2+(AL35-$BD$10)^2) -> 0.774198 | AN35: =AM35/(2*$BC$3) -> 1.0000023 | AO35: =AJ35/AN35 -> 0.30874598 | AP35: =AO35*COS(A35/180*PI()) -> 1.8912983e-17 | AQ35: =AO35*SIN(A35/180*PI()) -> 0.30874598 | AR35: =SQRT(AP35^2+AQ35^2)+SQRT((AP35-$BC$10)^2+(AQ35-$BD$10)^2) -> 0.77419657 | AS35: =AR35/(2*$BC$3) -> 1.0000005 | AT35: =AO35/AS35 -> 0.30874583 | AU35: =AT35*COS(A35/180*PI()) -> 1.8912974e-17 | AV35: =AT35*SIN(A35/180*PI()) -> 0.30874583 | AW35: =SQRT(AU35^2+AV35^2)+SQRT((AU35-$BC$10)^2+(AV35-$BD$10)^2) -> 0.77419627 | AX35: =AW35/(2*$BC$3) -> 1.0000001 | AY35: =AT35-0.127 -> 0.18174583 | AZ35: =AY35-'Master Radiusverkleinerung'!G22/100 -> 0.18174583 | BA35: =SQRT((AU35-AU33)^2+(AV35-AV33)^2) -> 0.032282116
A36: 96 | B36: =BC$3*COS(A36/180*PI()) -> -0.04046277 | C36: =BC$3*SIN(A36/180*PI()) -> 0.38497754 | D36: =SQRT(B36^2+C36^2)+SQRT((B36-$BC$10)^2+(C36-$BD$10)^2) -> 0.92753129 | E36: =D36/(2*$BC$3) -> 1.1980571 | F36: =$BC$3/E36 -> 0.32310487 | G36: =F36*COS(A36/180*PI()) -> -0.033773656 | H36: =F36*SIN(A36/180*PI()) -> 0.32133487 | I36: =SQRT(G36^2+H36^2)+SQRT((G36-$BC$10)^2+(H36-$BD$10)^2) -> 0.79986327 | J36: =I36/(2*$BC$3) -> 1.0331532 | K36: =F36/J36 -> 0.31273666 | L36: =K36*COS(A36/180*PI()) -> -0.032689882 | M36: =K36*SIN(A36/180*PI()) -> 0.31102345 | N36: =SQRT(L36^2+M36^2)+SQRT((L36-$BC$10)^2+(M36-$BD$10)^2) -> 0.77918664 | O36: =N36/(2*$BC$3) -> 1.006446 | P36: =K36/O36 -> 0.31073368 | Q36: =P36*COS(A36/180*PI()) -> -0.032480514 | R36: =P36*SIN(A36/180*PI()) -> 0.30903145 | S36: =SQRT(Q36^2+R36^2)+SQRT((Q36-$BC$10)^2+(R36-$BD$10)^2) -> 0.77519254 | T36: =S36/(2*$BC$3) -> 1.0012869 | U36: =P36/T36 -> 0.3103343 | V36: =U36*COS(A36/180*PI()) -> -0.032438767 | W36: =U36*SIN(A36/180*PI()) -> 0.30863425 | X36: =SQRT(V36^2+W36^2)+SQRT((V36-$BC$10)^2+(W36-$BD$10)^2) -> 0.77439616 | Y36: =X36/(2*$BC$3) -> 1.0002583 | Z36: =U36/Y36 -> 0.31025417 | AA36: =Z36*COS(A36/180*PI()) -> -0.032430391 | AB36: =Z36*SIN(A36/180*PI()) -> 0.30855456 | AC36: =SQRT(AA36^2+AB36^2)+SQRT((AA36-$BC$10)^2+(AB36-$BD$10)^2) -> 0.77423637 | AD36: =AC36/(2*$BC$3) -> 1.0000519 | AE36: =Z36/AD36 -> 0.31023807 | AF36: =AE36*COS(A36/180*PI()) -> -0.032428709 | AG36: =AE36*SIN(A36/180*PI()) -> 0.30853855 | AH36: =SQRT(AF36^2+AG36^2)+SQRT((AF36-$BC$10)^2+(AG36-$BD$10)^2) -> 0.77420427 | AI36: =AH36/(2*$BC$3) -> 1.0000104 | AJ36: =AE36/AI36 -> 0.31023483 | AK36: =AJ36*COS(A36/180*PI()) -> -0.032428371 | AL36: =AJ36*SIN(A36/180*PI()) -> 0.30853534 | AM36: =SQRT(AK36^2+AL36^2)+SQRT((AK36-$BC$10)^2+(AL36-$BD$10)^2) -> 0.77419782 | AN36: =AM36/(2*$BC$3) -> 1.0000021 | AO36: =AJ36/AN36 -> 0.31023418 | AP36: =AO36*COS(A36/180*PI()) -> -0.032428303 | AQ36: =AO36*SIN(A36/180*PI()) -> 0.30853469 | AR36: =SQRT(AP36^2+AQ36^2)+SQRT((AP36-$BC$10)^2+(AQ36-$BD$10)^2) -> 0.77419653 | AS36: =AR36/(2*$BC$3) -> 1.0000004 | AT36: =AO36/AS36 -> 0.31023405 | AU36: =AT36*COS(A36/180*PI()) -> -0.032428289 | AV36: =AT36*SIN(A36/180*PI()) -> 0.30853456 | AW36: =SQRT(AU36^2+AV36^2)+SQRT((AU36-$BC$10)^2+(AV36-$BD$10)^2) -> 0.77419627 | AX36: =AW36/(2*$BC$3) -> 1.0000001 | AY36: =AT36-0.127 -> 0.18323405 | AZ36: =AY36-'Master Radiusverkleinerung'!G23/100 -> 0.18323405 | BA36: =SQRT((AU36-AU35)^2+(AV36-AV35)^2) -> 0.032428977
A37: 102 | B37: =BC$3*COS(A37/180*PI()) -> -0.08048222 | C37: =BC$3*SIN(A37/180*PI()) -> 0.37863908 | D37: =SQRT(B37^2+C37^2)+SQRT((B37-$BC$10)^2+(C37-$BD$10)^2) -> 0.92313448 | E37: =D37/(2*$BC$3) -> 1.192378 | F37: =$BC$3/E37 -> 0.32464379 | G37: =F37*COS(A37/180*PI()) -> -0.06749724 | H37: =F37*SIN(A37/180*PI()) -> 0.31754955 | I37: =SQRT(G37^2+H37^2)+SQRT((G37-$BC$10)^2+(H37-$BD$10)^2) -> 0.79876471 | J37: =I37/(2*$BC$3) -> 1.0317342 | K37: =F37/J37 -> 0.31465836 | L37: =K37*COS(A37/180*PI()) -> -0.065421151 | M37: =K37*SIN(A37/180*PI()) -> 0.30778232 | N37: =SQRT(L37^2+M37^2)+SQRT((L37-$BC$10)^2+(M37-$BD$10)^2) -> 0.77889337 | O37: =N37/(2*$BC$3) -> 1.0060672 | P37: =K37/O37 -> 0.31276079 | Q37: =P37*COS(A37/180*PI()) -> -0.065026624 | R37: =P37*SIN(A37/180*PI()) -> 0.30592621 | S37: =SQRT(Q37^2+R37^2)+SQRT((Q37-$BC$10)^2+(R37-$BD$10)^2) -> 0.77511763 | T37: =S37/(2*$BC$3) -> 1.0011902 | U37: =P37/T37 -> 0.31238899 | V37: =U37*COS(A37/180*PI()) -> -0.064949323 | W37: =U37*SIN(A37/180*PI()) -> 0.30556254 | X37: =SQRT(V37^2+W37^2)+SQRT((V37-$BC$10)^2+(W37-$BD$10)^2) -> 0.77437785 | Y37: =X37/(2*$BC$3) -> 1.0002346 | Z37: =U37/Y37 -> 0.31231571 | AA37: =Z37*COS(A37/180*PI()) -> -0.064934087 | AB37: =Z37*SIN(A37/180*PI()) -> 0.30549086 | AC37: =SQRT(AA37^2+AB37^2)+SQRT((AA37-$BC$10)^2+(AB37-$BD$10)^2) -> 0.77423205 | AD37: =AC37/(2*$BC$3) -> 1.0000463 | AE37: =Z37/AD37 -> 0.31230125 | AF37: =AE37*COS(A37/180*PI()) -> -0.06493108 | AG37: =AE37*SIN(A37/180*PI()) -> 0.30547672 | AH37: =SQRT(AF37^2+AG37^2)+SQRT((AF37-$BC$10)^2+(AG37-$BD$10)^2) -> 0.77420328 | AI37: =AH37/(2*$BC$3) -> 1.0000091 | AJ37: =AE37/AI37 -> 0.31229839 | AK37: =AJ37*COS(A37/180*PI()) -> -0.064930487 | AL37: =AJ37*SIN(A37/180*PI()) -> 0.30547392 | AM37: =SQRT(AK37^2+AL37^2)+SQRT((AK37-$BC$10)^2+(AL37-$BD$10)^2) -> 0.7741976 | AN37: =AM37/(2*$BC$3) -> 1.0000018 | AO37: =AJ37/AN37 -> 0.31229783 | AP37: =AO37*COS(A37/180*PI()) -> -0.06493037 | AQ37: =AO37*SIN(A37/180*PI()) -> 0.30547337 | AR37: =SQRT(AP37^2+AQ37^2)+SQRT((AP37-$BC$10)^2+(AQ37-$BD$10)^2) -> 0.77419648 | AS37: =AR37/(2*$BC$3) -> 1.0000004 | AT37: =AO37/AS37 -> 0.31229772 | AU37: =AT37*COS(A37/180*PI()) -> -0.064930347 | AV37: =AT37*SIN(A37/180*PI()) -> 0.30547326 | AW37: =SQRT(AU37^2+AV37^2)+SQRT((AU37-$BC$10)^2+(AV37-$BD$10)^2) -> 0.77419625 | AX37: =AW37/(2*$BC$3) -> 1.0000001 | AY37: =AT37-0.127 -> 0.18529772 | AZ37: =AY37-'Master Radiusverkleinerung'!G24/100 -> 0.18529772 | BA37: =SQRT((AU37-AU36)^2+(AV37-AV36)^2) -> 0.032645908
A38: 108 | B38: =BC$3*COS(A38/180*PI()) -> -0.11961989 | C38: =BC$3*SIN(A38/180*PI()) -> 0.36815217 | D38: =SQRT(B38^2+C38^2)+SQRT((B38-$BC$10)^2+(C38-$BD$10)^2) -> 0.91754443 | E38: =D38/(2*$BC$3) -> 1.1851575 | F38: =$BC$3/E38 -> 0.32662165 | G38: =F38*COS(A38/180*PI()) -> -0.10093164 | H38: =F38*SIN(A38/180*PI()) -> 0.31063565 | I38: =SQRT(G38^2+H38^2)+SQRT((G38-$BC$10)^2+(H38-$BD$10)^2) -> 0.79738852 | J38: =I38/(2*$BC$3) -> 1.0299566 | K38: =F38/J38 -> 0.31712175 | L38: =K38*COS(A38/180*PI()) -> -0.097996009 | M38: =K38*SIN(A38/180*PI()) -> 0.3016007 | N38: =SQRT(L38^2+M38^2)+SQRT((L38-$BC$10)^2+(M38-$BD$10)^2) -> 0.77853277 | O38: =N38/(2*$BC$3) -> 1.0056014 | P38: =K38/O38 -> 0.31535532 | Q38: =P38*COS(A38/180*PI()) -> -0.097450153 | R38: =P38*SIN(A38/180*PI()) -> 0.29992073 | S38: =SQRT(Q38^2+R38^2)+SQRT((Q38-$BC$10)^2+(R38-$BD$10)^2) -> 0.77502736 | T38: =S38/(2*$BC$3) -> 1.0010736 | U38: =P38/T38 -> 0.31501713 | V38: =U38*COS(A38/180*PI()) -> -0.097345646 | W38: =U38*SIN(A38/180*PI()) -> 0.29959909 | X38: =SQRT(V38^2+W38^2)+SQRT((V38-$BC$10)^2+(W38-$BD$10)^2) -> 0.77435625 | Y38: =X38/(2*$BC$3) -> 1.0002067 | Z38: =U38/Y38 -> 0.31495202 | AA38: =Z38*COS(A38/180*PI()) -> -0.097325526 | AB38: =Z38*SIN(A38/180*PI()) -> 0.29953717 | AC38: =SQRT(AA38^2+AB38^2)+SQRT((AA38-$BC$10)^2+(AB38-$BD$10)^2) -> 0.77422705 | AD38: =AC38/(2*$BC$3) -> 1.0000398 | AE38: =Z38/AD38 -> 0.31493947 | AF38: =AE38*COS(A38/180*PI()) -> -0.097321649 | AG38: =AE38*SIN(A38/180*PI()) -> 0.29952524 | AH38: =SQRT(AF38^2+AG38^2)+SQRT((AF38-$BC$10)^2+(AG38-$BD$10)^2) -> 0.77420215 | AI38: =AH38/(2*$BC$3) -> 1.0000077 | AJ38: =AE38/AI38 -> 0.31493705 | AK38: =AJ38*COS(A38/180*PI()) -> -0.097320901 | AL38: =AJ38*SIN(A38/180*PI()) -> 0.29952294 | AM38: =SQRT(AK38^2+AL38^2)+SQRT((AK38-$BC$10)^2+(AL38-$BD$10)^2) -> 0.77419735 | AN38: =AM38/(2*$BC$3) -> 1.0000015 | AO38: =AJ38/AN38 -> 0.31493659 | AP38: =AO38*COS(A38/180*PI()) -> -0.097320757 | AQ38: =AO38*SIN(A38/180*PI()) -> 0.29952249 | AR38: =SQRT(AP38^2+AQ38^2)+SQRT((AP38-$BC$10)^2+(AQ38-$BD$10)^2) -> 0.77419642 | AS38: =AR38/(2*$BC$3) -> 1.0000003 | AT38: =AO38/AS38 -> 0.3149365 | AU38: =AT38*COS(A38/180*PI()) -> -0.097320729 | AV38: =AT38*SIN(A38/180*PI()) -> 0.29952241 | AW38: =SQRT(AU38^2+AV38^2)+SQRT((AU38-$BC$10)^2+(AV38-$BD$10)^2) -> 0.77419624 | AX38: =AW38/(2*$BC$3) -> 1.0000001 | AY38: =AT38-0.127 -> 0.1879365 | AZ38: =AY38-'Master Radiusverkleinerung'!G25/100 -> 0.1879365 | BA38: =SQRT((AU38-AU37)^2+(AV38-AV37)^2) -> 0.032932501
A39: 114 | B39: =BC$3*COS(A39/180*PI()) -> -0.15744698 | C39: =BC$3*SIN(A39/180*PI()) -> 0.35363171 | D39: =SQRT(B39^2+C39^2)+SQRT((B39-$BC$10)^2+(C39-$BD$10)^2) -> 0.91078531 | E39: =D39/(2*$BC$3) -> 1.176427 | F39: =$BC$3/E39 -> 0.32904558 | G39: =F39*COS(A39/180*PI()) -> -0.13383489 | H39: =F39*SIN(A39/180*PI()) -> 0.30059809 | I39: =SQRT(G39^2+H39^2)+SQRT((G39-$BC$10)^2+(H39-$BD$10)^2) -> 0.79575654 | J39: =I39/(2*$BC$3) -> 1.0278487 | K39: =F39/J39 -> 0.32013037 | L39: =K39*COS(A39/180*PI()) -> -0.13020875 | M39: =K39*SIN(A39/180*PI()) -> 0.29245364 | N39: =SQRT(L39^2+M39^2)+SQRT((L39-$BC$10)^2+(M39-$BD$10)^2) -> 0.77811536 | O39: =N39/(2*$BC$3) -> 1.0050622 | P39: =K39/O39 -> 0.31851796 | Q39: =P39*COS(A39/180*PI()) -> -0.12955293 | R39: =P39*SIN(A39/180*PI()) -> 0.29098063 | S39: =SQRT(Q39^2+R39^2)+SQRT((Q39-$BC$10)^2+(R39-$BD$10)^2) -> 0.77492554 | T39: =S39/(2*$BC$3) -> 1.0009421 | U39: =P39/T39 -> 0.31821818 | V39: =U39*COS(A39/180*PI()) -> -0.12943099 | W39: =U39*SIN(A39/180*PI()) -> 0.29070677 | X39: =SQRT(V39^2+W39^2)+SQRT((V39-$BC$10)^2+(W39-$BD$10)^2) -> 0.77433251 | Y39: =X39/(2*$BC$3) -> 1.0001761 | Z39: =U39/Y39 -> 0.31816216 | AA39: =Z39*COS(A39/180*PI()) -> -0.12940821 | AB39: =Z39*SIN(A39/180*PI()) -> 0.29065559 | AC39: =SQRT(AA39^2+AB39^2)+SQRT((AA39-$BC$10)^2+(AB39-$BD$10)^2) -> 0.7742217 | AD39: =AC39/(2*$BC$3) -> 1.0000329 | AE39: =Z39/AD39 -> 0.31815168 | AF39: =AE39*COS(A39/180*PI()) -> -0.12940395 | AG39: =AE39*SIN(A39/180*PI()) -> 0.29064602 | AH39: =SQRT(AF39^2+AG39^2)+SQRT((AF39-$BC$10)^2+(AG39-$BD$10)^2) -> 0.77420097 | AI39: =AH39/(2*$BC$3) -> 1.0000062 | AJ39: =AE39/AI39 -> 0.31814972 | AK39: =AJ39*COS(A39/180*PI()) -> -0.12940315 | AL39: =AJ39*SIN(A39/180*PI()) -> 0.29064423 | AM39: =SQRT(AK39^2+AL39^2)+SQRT((AK39-$BC$10)^2+(AL39-$BD$10)^2) -> 0.77419709 | AN39: =AM39/(2*$BC$3) -> 1.0000012 | AO39: =AJ39/AN39 -> 0.31814935 | AP39: =AO39*COS(A39/180*PI()) -> -0.129403 | AQ39: =AO39*SIN(A39/180*PI()) -> 0.2906439 | AR39: =SQRT(AP39^2+AQ39^2)+SQRT((AP39-$BC$10)^2+(AQ39-$BD$10)^2) -> 0.77419637 | AS39: =AR39/(2*$BC$3) -> 1.0000002 | AT39: =AO39/AS39 -> 0.31814928 | AU39: =AT39*COS(A39/180*PI()) -> -0.12940297 | AV39: =AT39*SIN(A39/180*PI()) -> 0.29064383 | AW39: =SQRT(AU39^2+AV39^2)+SQRT((AU39-$BC$10)^2+(AV39-$BD$10)^2) -> 0.77419623 | AX39: =AW39/(2*$BC$3) -> 1 | AY39: =AT39-0.127 -> 0.19114928 | AZ39: =AY39-'Master Radiusverkleinerung'!G26/100 -> 0.19114928 | BA39: =SQRT((AU39-AU38)^2+(AV39-AV38)^2) -> 0.033288126
A41: 120 | B41: =BC$3*COS(A41/180*PI()) -> -0.19354905 | C41: =BC$3*SIN(A41/180*PI()) -> 0.33523679 | D41: =SQRT(B41^2+C41^2)+SQRT((B41-$BC$10)^2+(C41-$BD$10)^2) -> 0.90288681 | E41: =D41/(2*$BC$3) -> 1.1662248 | F41: =$BC$3/E41 -> 0.33192408 | G41: =F41*COS(A41/180*PI()) -> -0.16596204 | H41: =F41*SIN(A41/180*PI()) -> 0.28745469 | I41: =SQRT(G41^2+H41^2)+SQRT((G41-$BC$10)^2+(H41-$BD$10)^2) -> 0.79389622 | J41: =I41/(2*$BC$3) -> 1.0254458 | K41: =F41/J41 -> 0.3236876 | L41: =K41*COS(A41/180*PI()) -> -0.1618438 | M41: =K41*SIN(A41/180*PI()) -> 0.28032169 | N41: =SQRT(L41^2+M41^2)+SQRT((L41-$BC$10)^2+(M41-$BD$10)^2) -> 0.77765386 | O41: =N41/(2*$BC$3) -> 1.0044661 | P41: =K41/O41 -> 0.3222484 | Q41: =P41*COS(A41/180*PI()) -> -0.1611242 | R41: =P41*SIN(A41/180*PI()) -> 0.2790753 | S41: =SQRT(Q41^2+R41^2)+SQRT((Q41-$BC$10)^2+(R41-$BD$10)^2) -> 0.7748166 | T41: =S41/(2*$BC$3) -> 1.0008013 | U41: =P41/T41 -> 0.32199038 | V41: =U41*COS(A41/180*PI()) -> -0.16099519 | W41: =U41*SIN(A41/180*PI()) -> 0.27885184 | X41: =SQRT(V41^2+W41^2)+SQRT((V41-$BC$10)^2+(W41-$BD$10)^2) -> 0.77430795 | Y41: =X41/(2*$BC$3) -> 1.0001443 | Z41: =U41/Y41 -> 0.3219439 | AA41: =Z41*COS(A41/180*PI()) -> -0.16097195 | AB41: =Z41*SIN(A41/180*PI()) -> 0.2788116 | AC41: =SQRT(AA41^2+AB41^2)+SQRT((AA41-$BC$10)^2+(AB41-$BD$10)^2) -> 0.77421634 | AD41: =AC41/(2*$BC$3) -> 1.000026 | AE41: =Z41/AD41 -> 0.32193553 | AF41: =AE41*COS(A41/180*PI()) -> -0.16096776 | AG41: =AE41*SIN(A41/180*PI()) -> 0.27880435 | AH41: =SQRT(AF41^2+AG41^2)+SQRT((AF41-$BC$10)^2+(AG41-$BD$10)^2) -> 0.77419983 | AI41: =AH41/(2*$BC$3) -> 1.0000047 | AJ41: =AE41/AI41 -> 0.32193402 | AK41: =AJ41*COS(A41/180*PI()) -> -0.16096701 | AL41: =AJ41*SIN(A41/180*PI()) -> 0.27880304 | AM41: =SQRT(AK41^2+AL41^2)+SQRT((AK41-$BC$10)^2+(AL41-$BD$10)^2) -> 0.77419685 | AN41: =AM41/(2*$BC$3) -> 1.0000008 | AO41: =AJ41/AN41 -> 0.32193375 | AP41: =AO41*COS(A41/180*PI()) -> -0.16096687 | AQ41: =AO41*SIN(A41/180*PI()) -> 0.2788028 | AR41: =SQRT(AP41^2+AQ41^2)+SQRT((AP41-$BC$10)^2+(AQ41-$BD$10)^2) -> 0.77419632 | AS41: =AR41/(2*$BC$3) -> 1.0000002 | AT41: =AO41/AS41 -> 0.3219337 | AU41: =AT41*COS(A41/180*PI()) -> -0.16096685 | AV41: =AT41*SIN(A41/180*PI()) -> 0.27880276 | AW41: =SQRT(AU41^2+AV41^2)+SQRT((AU41-$BC$10)^2+(AV41-$BD$10)^2) -> 0.77419622 | AX41: =AW41/(2*$BC$3) -> 1 | AY41: =AT41-0.127 -> 0.1949337 | AZ41: =AY41-'Master Radiusverkleinerung'!G27/100 -> 0.1949337 | BA41: =SQRT((AU41-AU39)^2+(AV41-AV39)^2) -> 0.033711857
A42: 126 | B42: =BC$3*COS(A42/180*PI()) -> -0.22753055 | C42: =BC$3*SIN(A42/180*PI()) -> 0.31316894 | D42: =SQRT(B42^2+C42^2)+SQRT((B42-$BC$10)^2+(C42-$BD$10)^2) -> 0.89388443 | E42: =D42/(2*$BC$3) -> 1.1545968 | F42: =$BC$3/E42 -> 0.33526692 | G42: =F42*COS(A42/180*PI()) -> -0.19706495 | H42: =F42*SIN(A42/180*PI()) -> 0.27123664 | I42: =SQRT(G42^2+H42^2)+SQRT((G42-$BC$10)^2+(H42-$BD$10)^2) -> 0.79184118 | J42: =I42/(2*$BC$3) -> 1.0227914 | K42: =F42/J42 -> 0.327796 | L42: =K42*COS(A42/180*PI()) -> -0.19267366 | M42: =K42*SIN(A42/180*PI()) -> 0.26519254 | N42: =SQRT(L42^2+M42^2)+SQRT((L42-$BC$10)^2+(M42-$BD$10)^2) -> 0.77716305 | O42: =N42/(2*$BC$3) -> 1.0038322 | P42: =K42/O42 -> 0.32654463 | Q42: =P42*COS(A42/180*PI()) -> -0.19193812 | R42: =P42*SIN(A42/180*PI()) -> 0.26418015 | S42: =SQRT(Q42^2+R42^2)+SQRT((Q42-$BC$10)^2+(R42-$BD$10)^2) -> 0.77470532 | T42: =S42/(2*$BC$3) -> 1.0006576 | U42: =P42/T42 -> 0.32633003 | V42: =U42*COS(A42/180*PI()) -> -0.19181198 | W42: =U42*SIN(A42/180*PI()) -> 0.26400654 | X42: =SQRT(V42^2+W42^2)+SQRT((V42-$BC$10)^2+(W42-$BD$10)^2) -> 0.77428387 | Y42: =X42/(2*$BC$3) -> 1.0001132 | Z42: =U42/Y42 -> 0.32629309 | AA42: =Z42*COS(A42/180*PI()) -> -0.19179026 | AB42: =Z42*SIN(A42/180*PI()) -> 0.26397665 | AC42: =SQRT(AA42^2+AB42^2)+SQRT((AA42-$BC$10)^2+(AB42-$BD$10)^2) -> 0.7742113 | AD42: =AC42/(2*$BC$3) -> 1.0000195 | AE42: =Z42/AD42 -> 0.32628672 | AF42: =AE42*COS(A42/180*PI()) -> -0.19178652 | AG42: =AE42*SIN(A42/180*PI()) -> 0.2639715 | AH42: =SQRT(AF42^2+AG42^2)+SQRT((AF42-$BC$10)^2+(AG42-$BD$10)^2) -> 0.7741988 | AI42: =AH42/(2*$BC$3) -> 1.0000034 | AJ42: =AE42/AI42 -> 0.32628562 | AK42: =AJ42*COS(A42/180*PI()) -> -0.19178588 | AL42: =AJ42*SIN(A42/180*PI()) -> 0.26397061 | AM42: =SQRT(AK42^2+AL42^2)+SQRT((AK42-$BC$10)^2+(AL42-$BD$10)^2) -> 0.77419665 | AN42: =AM42/(2*$BC$3) -> 1.0000006 | AO42: =AJ42/AN42 -> 0.32628543 | AP42: =AO42*COS(A42/180*PI()) -> -0.19178577 | AQ42: =AO42*SIN(A42/180*PI()) -> 0.26397046 | AR42: =SQRT(AP42^2+AQ42^2)+SQRT((AP42-$BC$10)^2+(AQ42-$BD$10)^2) -> 0.77419628 | AS42: =AR42/(2*$BC$3) -> 1.0000001 | AT42: =AO42/AS42 -> 0.3262854 | AU42: =AT42*COS(A42/180*PI()) -> -0.19178575 | AV42: =AT42*SIN(A42/180*PI()) -> 0.26397043 | AW42: =SQRT(AU42^2+AV42^2)+SQRT((AU42-$BC$10)^2+(AV42-$BD$10)^2) -> 0.77419621 | AX42: =AW42/(2*$BC$3) -> 1 | AY42: =AT42-0.127 -> 0.1992854 | AZ42: =AY42-'Master Radiusverkleinerung'!G28/100 -> 0.1992854 | BA42: =SQRT((AU42-AU41)^2+(AV42-AV41)^2) -> 0.034202374
A43: 132 | B43: =BC$3*COS(A43/180*PI()) -> -0.25901919 | C43: =BC$3*SIN(A43/180*PI()) -> 0.28766995 | D43: =SQRT(B43^2+C43^2)+SQRT((B43-$BC$10)^2+(C43-$BD$10)^2) -> 0.88381965 | E43: =D43/(2*$BC$3) -> 1.1415965 | F43: =$BC$3/E43 -> 0.33908488 | G43: =F43*COS(A43/180*PI()) -> -0.22689207 | H43: =F43*SIN(A43/180*PI()) -> 0.25198917 | I43: =SQRT(G43^2+H43^2)+SQRT((G43-$BC$10)^2+(H43-$BD$10)^2) -> 0.78963187 | J43: =I43/(2*$BC$3) -> 1.0199377 | K43: =F43/J43 -> 0.33245647 | L43: =K43*COS(A43/180*PI()) -> -0.2224568 | M43: =K43*SIN(A43/180*PI()) -> 0.2470633 | N43: =SQRT(L43^2+M43^2)+SQRT((L43-$BC$10)^2+(M43-$BD$10)^2) -> 0.77665952 | O43: =N43/(2*$BC$3) -> 1.0031818 | P43: =K43/O43 -> 0.33140202 | Q43: =P43*COS(A43/180*PI()) -> -0.22175124 | R43: =P43*SIN(A43/180*PI()) -> 0.2462797 | S43: =SQRT(Q43^2+R43^2)+SQRT((Q43-$BC$10)^2+(R43-$BD$10)^2) -> 0.77459664 | T43: =S43/(2*$BC$3) -> 1.0005172 | U43: =P43/T43 -> 0.3312307 | V43: =U43*COS(A43/180*PI()) -> -0.2216366 | W43: =U43*SIN(A43/180*PI()) -> 0.24615238 | X43: =SQRT(V43^2+W43^2)+SQRT((V43-$BC$10)^2+(W43-$BD$10)^2) -> 0.77426149 | Y43: =X43/(2*$BC$3) -> 1.0000843 | Z43: =U43/Y43 -> 0.33120277 | AA43: =Z43*COS(A43/180*PI()) -> -0.22161791 | AB43: =Z43*SIN(A43/180*PI()) -> 0.24613162 | AC43: =SQRT(AA43^2+AB43^2)+SQRT((AA43-$BC$10)^2+(AB43-$BD$10)^2) -> 0.77420685 | AD43: =AC43/(2*$BC$3) -> 1.0000138 | AE43: =Z43/AD43 -> 0.33119821 | AF43: =AE43*COS(A43/180*PI()) -> -0.22161486 | AG43: =AE43*SIN(A43/180*PI()) -> 0.24612824 | AH43: =SQRT(AF43^2+AG43^2)+SQRT((AF43-$BC$10)^2+(AG43-$BD$10)^2) -> 0.77419794 | AI43: =AH43/(2*$BC$3) -> 1.0000022 | AJ43: =AE43/AI43 -> 0.33119747 | AK43: =AJ43*COS(A43/180*PI()) -> -0.22161436 | AL43: =AJ43*SIN(A43/180*PI()) -> 0.24612768 | AM43: =SQRT(AK43^2+AL43^2)+SQRT((AK43-$BC$10)^2+(AL43-$BD$10)^2) -> 0.77419648 | AN43: =AM43/(2*$BC$3) -> 1.0000004 | AO43: =AJ43/AN43 -> 0.33119735 | AP43: =AO43*COS(A43/180*PI()) -> -0.22161428 | AQ43: =AO43*SIN(A43/180*PI()) -> 0.24612759 | AR43: =SQRT(AP43^2+AQ43^2)+SQRT((AP43-$BC$10)^2+(AQ43-$BD$10)^2) -> 0.77419625 | AS43: =AR43/(2*$BC$3) -> 1.0000001 | AT43: =AO43/AS43 -> 0.33119733 | AU43: =AT43*COS(A43/180*PI()) -> -0.22161427 | AV43: =AT43*SIN(A43/180*PI()) -> 0.24612758 | AW43: =SQRT(AU43^2+AV43^2)+SQRT((AU43-$BC$10)^2+(AV43-$BD$10)^2) -> 0.77419621 | AX43: =AW43/(2*$BC$3) -> 1 | AY43: =AT43-0.127 -> 0.20419733 | AZ43: =AY43-'Master Radiusverkleinerung'!G29/100 -> 0.20419733 | BA43: =SQRT((AU43-AU42)^2+(AV43-AV42)^2) -> 0.03475785
