Workbook

Sheet Merkur
A1: Merkur
A3: Große Halbachse a [AE]: | BC3: 0.3870981 | BD3: (alle Daten: Stand 7.7.2013, Ahnerts Jahrbuch 2013, S. 174)
A4: numerische Exzentrizität e der Bahn: | BC4: 0.20564526
A5: Abstand der Brennpunkte [AE]: | BC5: =BC4*BC3*2 -> 0.15920978
A6: Länge des Perihels v [Grad]: | BC6: 77.47853 | BD6: (w + W aus Ahnerts Jahrbuch)
BC8: x | BD8: y
A9: Koordinaten der Sonne (x|y): | BC9: 0 | BD9: 0
A10: Koordinaten des 2. Brennpunktes (xF|yF): | BC10: =BC5*COS((BC6+180)/180*PI()) -> -0.034517546 | BD10: =BC5*SIN((BC6+180)/180*PI()) -> -0.15542295
A12: Von l* wurden | BA12: ='Master Radiusverkleinerung'!G7 -> 3.7 | BB12: cm | BC12: abgezogen um l** zu erhalten
A14: Winkel a | B14: x0 | C14: y0 | D14: l1+l2 | E14: (l1+l2)/2a | F14: l1 | G14: x1 | H14: y1 | I14: l1+l2 | J14: (l1+l2)/2a | K14: l1 | L14: x2 | M14: y2 | N14: l1+l2 | O14: (l1+l2)/2a | P14: l1 | Q14: x3 | R14: y3 | S14: l1+l2 | T14: (l1+l2)/2a | U14: l1 | V14: x4 | W14: y4 | X14: l1+l2 | Y14: (l1+l2)/2a | Z14: l1 | AA14: x5 | AB14: y5 | AC14: l1+l2 | AD14: (l1+l2)/2a | AE14: l1 | AF14: x6 | AG14: y6 | AH14: l1+l2 | AI14: (l1+l2)/2a | AJ14: l1 | AK14: x7 | AL14: y7 | AM14: l1+l2 | AN14: (l1+l2)/2a | AO14: l1 | AP14: x8 | AQ14: y8 | AR14: l1+l2 | AS14: (l1+l2)/2a | AT14: l1 | AU14: x9 | AV14: y9 | AW14: l1+l2 | AX14: (l1+l2)/2a | AY14: l* | AZ14: l** | BA14: Abstand | BC14: l* bezieht sich auf das Maßband (12,7 cm sind schon abgezogen)
A15: [Grad] | AT15: [m] | AY15: [m] | AZ15: [m] | BA15: [m] | BC15: l1 = l* + 0,127 m ist der wirkliche Abstand vom Sonnenmittelpunkt
BC16: (vgl. Spalte AT und AY)
A17: 0 | B17: =BC$3*COS(A17/180*PI()) -> 0.3870981 | C17: =BC$3*SIN(A17/180*PI()) -> 0 | D17: =SQRT(B17^2+C17^2)+SQRT((B17-$BC$10)^2+(C17-$BD$10)^2) -> 0.83644879 | E17: =D17/(2*$BC$3) -> 1.0804093 | F17: =$BC$3/E17 -> 0.35828837 | G17: =F17*COS(A17/180*PI()) -> 0.35828837 | H17: =F17*SIN(A17/180*PI()) -> 0 | I17: =SQRT(G17^2+H17^2)+SQRT((G17-$BC$10)^2+(H17-$BD$10)^2) -> 0.7807251 | J17: =I17/(2*$BC$3) -> 1.0084331 | K17: =F17/J17 -> 0.35529215 | L17: =K17*COS(A17/180*PI()) -> 0.35529215 | M17: =K17*SIN(A17/180*PI()) -> 0 | N17: =SQRT(L17^2+M17^2)+SQRT((L17-$BC$10)^2+(M17-$BD$10)^2) -> 0.77494426 | O17: =N17/(2*$BC$3) -> 1.0009662 | P17: =K17/O17 -> 0.35494918 | Q17: =P17*COS(A17/180*PI()) -> 0.35494918 | R17: =P17*SIN(A17/180*PI()) -> 0 | S17: =SQRT(Q17^2+R17^2)+SQRT((Q17-$BC$10)^2+(R17-$BD$10)^2) -> 0.77428274 | T17: =S17/(2*$BC$3) -> 1.0001118 | U17: =P17/T17 -> 0.35490951 | V17: =U17*COS(A17/180*PI()) -> 0.35490951 | W17: =U17*SIN(A17/180*PI()) -> 0 | X17: =SQRT(V17^2+W17^2)+SQRT((V17-$BC$10)^2+(W17-$BD$10)^2) -> 0.77420622 | Y17: =X17/(2*$BC$3) -> 1.0000129 | Z17: =U17/Y17 -> 0.35490492 | AA17: =Z17*COS(A17/180*PI()) -> 0.35490492 | AB17: =Z17*SIN(A17/180*PI()) -> 0 | AC17: =SQRT(AA17^2+AB17^2)+SQRT((AA17-$BC$10)^2+(AB17-$BD$10)^2) -> 0.77419736 | AD17: =AC17/(2*$BC$3) -> 1.0000015 | AE17: =Z17/AD17 -> 0.35490439 | AF17: =AE17*COS(A17/180*PI()) -> 0.35490439 | AG17: =AE17*SIN(A17/180*PI()) -> 0 | AH17: =SQRT(AF17^2+AG17^2)+SQRT((AF17-$BC$10)^2+(AG17-$BD$10)^2) -> 0.77419633 | AI17: =AH17/(2*$BC$3) -> 1.0000002 | AJ17: =AE17/AI17 -> 0.35490433 | AK17: =AJ17*COS(A17/180*PI()) -> 0.35490433 | AL17: =AJ17*SIN(A17/180*PI()) -> 0 | AM17: =SQRT(AK17^2+AL17^2)+SQRT((AK17-$BC$10)^2+(AL17-$BD$10)^2) -> 0.77419622 | AN17: =AM17/(2*$BC$3) -> 1 | AO17: =AJ17/AN17 -> 0.35490432 | AP17: =AO17*COS(A17/180*PI()) -> 0.35490432 | AQ17: =AO17*SIN(A17/180*PI()) -> 0 | AR17: =SQRT(AP17^2+AQ17^2)+SQRT((AP17-$BC$10)^2+(AQ17-$BD$10)^2) -> 0.7741962 | AS17: =AR17/(2*$BC$3) -> 1 | AT17: =AO17/AS17 -> 0.35490432 | AU17: =AT17*COS(A17/180*PI()) -> 0.35490432 | AV17: =AT17*SIN(A17/180*PI()) -> 0 | AW17: =SQRT(AU17^2+AV17^2)+SQRT((AU17-$BC$10)^2+(AV17-$BD$10)^2) -> 0.7741962 | AX17: =AW17/(2*$BC$3) -> 1 | AY17: =AT17-0.127 -> 0.22790432 | AZ17: =AY17-'Master Radiusverkleinerung'!G7/100 -> 0.19090432
A18: 6 | B18: =BC$3*COS(A18/180*PI()) -> 0.38497754 | C18: =BC$3*SIN(A18/180*PI()) -> 0.04046277 | D18: =SQRT(B18^2+C18^2)+SQRT((B18-$BC$10)^2+(C18-$BD$10)^2) -> 0.85007471 | E18: =D18/(2*$BC$3) -> 1.0980094 | F18: =$BC$3/E18 -> 0.35254534 | G18: =F18*COS(A18/180*PI()) -> 0.35061406 | H18: =F18*SIN(A18/180*PI()) -> 0.036851023 | I18: =SQRT(G18^2+H18^2)+SQRT((G18-$BC$10)^2+(H18-$BD$10)^2) -> 0.78300514 | J18: =I18/(2*$BC$3) -> 1.0113782 | K18: =F18/J18 -> 0.34857915 | L18: =K18*COS(A18/180*PI()) -> 0.3466696 | M18: =K18*SIN(A18/180*PI()) -> 0.036436443 | N18: =SQRT(L18^2+M18^2)+SQRT((L18-$BC$10)^2+(M18-$BD$10)^2) -> 0.77532692 | O18: =N18/(2*$BC$3) -> 1.0014605 | P18: =K18/O18 -> 0.34807079 | Q18: =P18*COS(A18/180*PI()) -> 0.34616402 | R18: =P18*SIN(A18/180*PI()) -> 0.036383304 | S18: =SQRT(Q18^2+R18^2)+SQRT((Q18-$BC$10)^2+(R18-$BD$10)^2) -> 0.77434311 | T18: =S18/(2*$BC$3) -> 1.0001898 | U18: =P18/T18 -> 0.34800475 | V18: =U18*COS(A18/180*PI()) -> 0.34609834 | W18: =U18*SIN(A18/180*PI()) -> 0.036376402 | X18: =SQRT(V18^2+W18^2)+SQRT((V18-$BC$10)^2+(W18-$BD$10)^2) -> 0.77421532 | Y18: =X18/(2*$BC$3) -> 1.0000247 | Z18: =U18/Y18 -> 0.34799616 | AA18: =Z18*COS(A18/180*PI()) -> 0.3460898 | AB18: =Z18*SIN(A18/180*PI()) -> 0.036375504 | AC18: =SQRT(AA18^2+AB18^2)+SQRT((AA18-$BC$10)^2+(AB18-$BD$10)^2) -> 0.77419869 | AD18: =AC18/(2*$BC$3) -> 1.0000032 | AE18: =Z18/AD18 -> 0.34799504 | AF18: =AE18*COS(A18/180*PI()) -> 0.34608869 | AG18: =AE18*SIN(A18/180*PI()) -> 0.036375387 | AH18: =SQRT(AF18^2+AG18^2)+SQRT((AF18-$BC$10)^2+(AG18-$BD$10)^2) -> 0.77419652 | AI18: =AH18/(2*$BC$3) -> 1.0000004 | AJ18: =AE18/AI18 -> 0.34799489 | AK18: =AJ18*COS(A18/180*PI()) -> 0.34608854 | AL18: =AJ18*SIN(A18/180*PI()) -> 0.036375371 | AM18: =SQRT(AK18^2+AL18^2)+SQRT((AK18-$BC$10)^2+(AL18-$BD$10)^2) -> 0.77419624 | AN18: =AM18/(2*$BC$3) -> 1.0000001 | AO18: =AJ18/AN18 -> 0.34799488 | AP18: =AO18*COS(A18/180*PI()) -> 0.34608852 | AQ18: =AO18*SIN(A18/180*PI()) -> 0.03637537 | AR18: =SQRT(AP18^2+AQ18^2)+SQRT((AP18-$BC$10)^2+(AQ18-$BD$10)^2) -> 0.77419621 | AS18: =AR18/(2*$BC$3) -> 1 | AT18: =AO18/AS18 -> 0.34799487 | AU18: =AT18*COS(A18/180*PI()) -> 0.34608852 | AV18: =AT18*SIN(A18/180*PI()) -> 0.036375369 | AW18: =SQRT(AU18^2+AV18^2)+SQRT((AU18-$BC$10)^2+(AV18-$BD$10)^2) -> 0.7741962 | AX18: =AW18/(2*$BC$3) -> 1 | AY18: =AT18-0.127 -> 0.22099487 | AZ18: =AY18-'Master Radiusverkleinerung'!G8/100 -> 0.22099487 | BA18: =SQRT((AU18-AU17)^2+(AV18-AV17)^2) -> 0.037428409
A19: 12 | B19: =BC$3*COS(A19/180*PI()) -> 0.37863908 | C19: =BC$3*SIN(A19/180*PI()) -> 0.08048222 | D19: =SQRT(B19^2+C19^2)+SQRT((B19-$BC$10)^2+(C19-$BD$10)^2) -> 0.86286027 | E19: =D19/(2*$BC$3) -> 1.114524 | F19: =$BC$3/E19 -> 0.34732145 | G19: =F19*COS(A19/180*PI()) -> 0.33973164 | H19: =F19*SIN(A19/180*PI()) -> 0.072212189 | I19: =SQRT(G19^2+H19^2)+SQRT((G19-$BC$10)^2+(H19-$BD$10)^2) -> 0.78536278 | J19: =I19/(2*$BC$3) -> 1.0144234 | K19: =F19/J19 -> 0.3423831 | L19: =K19*COS(A19/180*PI()) -> 0.33490121 | M19: =K19*SIN(A19/180*PI()) -> 0.07118545 | N19: =SQRT(L19^2+M19^2)+SQRT((L19-$BC$10)^2+(M19-$BD$10)^2) -> 0.77576698 | O19: =N19/(2*$BC$3) -> 1.0020289 | P19: =K19/O19 -> 0.34168984 | Q19: =P19*COS(A19/180*PI()) -> 0.3342231 | R19: =P19*SIN(A19/180*PI()) -> 0.071041313 | S19: =SQRT(Q19^2+R19^2)+SQRT((Q19-$BC$10)^2+(R19-$BD$10)^2) -> 0.77442039 | T19: =S19/(2*$BC$3) -> 1.0002896 | U19: =P19/T19 -> 0.34159093 | V19: =U19*COS(A19/180*PI()) -> 0.33412634 | W19: =U19*SIN(A19/180*PI()) -> 0.071020747 | X19: =SQRT(V19^2+W19^2)+SQRT((V19-$BC$10)^2+(W19-$BD$10)^2) -> 0.77422826 | Y19: =X19/(2*$BC$3) -> 1.0000414 | Z19: =U19/Y19 -> 0.34157678 | AA19: =Z19*COS(A19/180*PI()) -> 0.33411251 | AB19: =Z19*SIN(A19/180*PI()) -> 0.071017806 | AC19: =SQRT(AA19^2+AB19^2)+SQRT((AA19-$BC$10)^2+(AB19-$BD$10)^2) -> 0.77420079 | AD19: =AC19/(2*$BC$3) -> 1.0000059 | AE19: =Z19/AD19 -> 0.34157476 | AF19: =AE19*COS(A19/180*PI()) -> 0.33411053 | AG19: =AE19*SIN(A19/180*PI()) -> 0.071017385 | AH19: =SQRT(AF19^2+AG19^2)+SQRT((AF19-$BC$10)^2+(AG19-$BD$10)^2) -> 0.77419686 | AI19: =AH19/(2*$BC$3) -> 1.0000008 | AJ19: =AE19/AI19 -> 0.34157447 | AK19: =AJ19*COS(A19/180*PI()) -> 0.33411025 | AL19: =AJ19*SIN(A19/180*PI()) -> 0.071017325 | AM19: =SQRT(AK19^2+AL19^2)+SQRT((AK19-$BC$10)^2+(AL19-$BD$10)^2) -> 0.77419629 | AN19: =AM19/(2*$BC$3) -> 1.0000001 | AO19: =AJ19/AN19 -> 0.34157443 | AP19: =AO19*COS(A19/180*PI()) -> 0.3341102 | AQ19: =AO19*SIN(A19/180*PI()) -> 0.071017316 | AR19: =SQRT(AP19^2+AQ19^2)+SQRT((AP19-$BC$10)^2+(AQ19-$BD$10)^2) -> 0.77419621 | AS19: =AR19/(2*$BC$3) -> 1 | AT19: =AO19/AS19 -> 0.34157442 | AU19: =AT19*COS(A19/180*PI()) -> 0.3341102 | AV19: =AT19*SIN(A19/180*PI()) -> 0.071017315 | AW19: =SQRT(AU19^2+AV19^2)+SQRT((AU19-$BC$10)^2+(AV19-$BD$10)^2) -> 0.7741962 | AX19: =AW19/(2*$BC$3) -> 1 | AY19: =AT19-0.127 -> 0.21457442 | AZ19: =AY19-'Master Radiusverkleinerung'!G9/100 -> 0.21457442 | BA19: =SQRT((AU19-AU18)^2+(AV19-AV18)^2) -> 0.036654394
A20: 18 | B20: =BC$3*COS(A20/180*PI()) -> 0.36815217 | C20: =BC$3*SIN(A20/180*PI()) -> 0.11961989 | D20: =SQRT(B20^2+C20^2)+SQRT((B20-$BC$10)^2+(C20-$BD$10)^2) -> 0.87473676 | E20: =D20/(2*$BC$3) -> 1.1298644 | F20: =$BC$3/E20 -> 0.34260579 | G20: =F20*COS(A20/180*PI()) -> 0.32583747 | H20: =F20*SIN(A20/180*PI()) -> 0.10587101 | I20: =SQRT(G20^2+H20^2)+SQRT((G20-$BC$10)^2+(H20-$BD$10)^2) -> 0.78772405 | J20: =I20/(2*$BC$3) -> 1.0174734 | K20: =F20/J20 -> 0.3367221 | L20: =K20*COS(A20/180*PI()) -> 0.32024175 | M20: =K20*SIN(A20/180*PI()) -> 0.10405285 | N20: =SQRT(L20^2+M20^2)+SQRT((L20-$BC$10)^2+(M20-$BD$10)^2) -> 0.77624667 | O20: =N20/(2*$BC$3) -> 1.0026485 | P20: =K20/O20 -> 0.33583264 | Q20: =P20*COS(A20/180*PI()) -> 0.31939582 | R20: =P20*SIN(A20/180*PI()) -> 0.10377799 | S20: =SQRT(Q20^2+R20^2)+SQRT((Q20-$BC$10)^2+(R20-$BD$10)^2) -> 0.77451225 | T20: =S20/(2*$BC$3) -> 1.0004082 | U20: =P20/T20 -> 0.3356956 | V20: =U20*COS(A20/180*PI()) -> 0.31926549 | W20: =U20*SIN(A20/180*PI()) -> 0.10373565 | X20: =SQRT(V20^2+W20^2)+SQRT((V20-$BC$10)^2+(W20-$BD$10)^2) -> 0.77424504 | Y20: =X20/(2*$BC$3) -> 1.0000631 | Z20: =U20/Y20 -> 0.33567442 | AA20: =Z20*COS(A20/180*PI()) -> 0.31924535 | AB20: =Z20*SIN(A20/180*PI()) -> 0.1037291 | AC20: =SQRT(AA20^2+AB20^2)+SQRT((AA20-$BC$10)^2+(AB20-$BD$10)^2) -> 0.77420375 | AD20: =AC20/(2*$BC$3) -> 1.0000098 | AE20: =Z20/AD20 -> 0.33567115 | AF20: =AE20*COS(A20/180*PI()) -> 0.31924223 | AG20: =AE20*SIN(A20/180*PI()) -> 0.10372809 | AH20: =SQRT(AF20^2+AG20^2)+SQRT((AF20-$BC$10)^2+(AG20-$BD$10)^2) -> 0.77419737 | AI20: =AH20/(2*$BC$3) -> 1.0000015 | AJ20: =AE20/AI20 -> 0.33567064 | AK20: =AJ20*COS(A20/180*PI()) -> 0.31924175 | AL20: =AJ20*SIN(A20/180*PI()) -> 0.10372793 | AM20: =SQRT(AK20^2+AL20^2)+SQRT((AK20-$BC$10)^2+(AL20-$BD$10)^2) -> 0.77419638 | AN20: =AM20/(2*$BC$3) -> 1.0000002 | AO20: =AJ20/AN20 -> 0.33567057 | AP20: =AO20*COS(A20/180*PI()) -> 0.31924168 | AQ20: =AO20*SIN(A20/180*PI()) -> 0.10372791 | AR20: =SQRT(AP20^2+AQ20^2)+SQRT((AP20-$BC$10)^2+(AQ20-$BD$10)^2) -> 0.77419623 | AS20: =AR20/(2*$BC$3) -> 1 | AT20: =AO20/AS20 -> 0.33567055 | AU20: =AT20*COS(A20/180*PI()) -> 0.31924167 | AV20: =AT20*SIN(A20/180*PI()) -> 0.10372791 | AW20: =SQRT(AU20^2+AV20^2)+SQRT((AU20-$BC$10)^2+(AV20-$BD$10)^2) -> 0.7741962 | AX20: =AW20/(2*$BC$3) -> 1 | AY20: =AT20-0.127 -> 0.20867055 | AZ20: =AY20-'Master Radiusverkleinerung'!G10/100 -> 0.20867055 | BA20: =SQRT((AU20-AU19)^2+(AV20-AV19)^2) -> 0.035931267
A21: 24 | B21: =BC$3*COS(A21/180*PI()) -> 0.35363171 | C21: =BC$3*SIN(A21/180*PI()) -> 0.15744698 | D21: =SQRT(B21^2+C21^2)+SQRT((B21-$BC$10)^2+(C21-$BD$10)^2) -> 0.88564342 | E21: =D21/(2*$BC$3) -> 1.1439522 | F21: =$BC$3/E21 -> 0.33838661 | G21: =F21*COS(A21/180*PI()) -> 0.30913155 | H21: =F21*SIN(A21/180*PI()) -> 0.13763424 | I21: =SQRT(G21^2+H21^2)+SQRT((G21-$BC$10)^2+(H21-$BD$10)^2) -> 0.79002498 | J21: =I21/(2*$BC$3) -> 1.0204454 | K21: =F21/J21 -> 0.33160677 | L21: =K21*COS(A21/180*PI()) -> 0.30293786 | M21: =K21*SIN(A21/180*PI()) -> 0.13487662 | N21: =SQRT(L21^2+M21^2)+SQRT((L21-$BC$10)^2+(M21-$BD$10)^2) -> 0.77674718 | O21: =N21/(2*$BC$3) -> 1.003295 | P21: =K21/O21 -> 0.33051771 | Q21: =P21*COS(A21/180*PI()) -> 0.30194295 | R21: =P21*SIN(A21/180*PI()) -> 0.13443366 | S21: =SQRT(Q21^2+R21^2)+SQRT((Q21-$BC$10)^2+(R21-$BD$10)^2) -> 0.77461513 | T21: =S21/(2*$BC$3) -> 1.0005411 | U21: =P21/T21 -> 0.33033896 | V21: =U21*COS(A21/180*PI()) -> 0.30177965 | W21: =U21*SIN(A21/180*PI()) -> 0.13436096 | X21: =SQRT(V21^2+W21^2)+SQRT((V21-$BC$10)^2+(W21-$BD$10)^2) -> 0.77426521 | Y21: =X21/(2*$BC$3) -> 1.0000891 | Z21: =U21/Y21 -> 0.33030951 | AA21: =Z21*COS(A21/180*PI()) -> 0.30175276 | AB21: =Z21*SIN(A21/180*PI()) -> 0.13434898 | AC21: =SQRT(AA21^2+AB21^2)+SQRT((AA21-$BC$10)^2+(AB21-$BD$10)^2) -> 0.77420757 | AD21: =AC21/(2*$BC$3) -> 1.0000147 | AE21: =Z21/AD21 -> 0.33030466 | AF21: =AE21*COS(A21/180*PI()) -> 0.30174832 | AG21: =AE21*SIN(A21/180*PI()) -> 0.13434701 | AH21: =SQRT(AF21^2+AG21^2)+SQRT((AF21-$BC$10)^2+(AG21-$BD$10)^2) -> 0.77419807 | AI21: =AH21/(2*$BC$3) -> 1.0000024 | AJ21: =AE21/AI21 -> 0.33030386 | AK21: =AJ21*COS(A21/180*PI()) -> 0.30174759 | AL21: =AJ21*SIN(A21/180*PI()) -> 0.13434668 | AM21: =SQRT(AK21^2+AL21^2)+SQRT((AK21-$BC$10)^2+(AL21-$BD$10)^2) -> 0.77419651 | AN21: =AM21/(2*$BC$3) -> 1.0000004 | AO21: =AJ21/AN21 -> 0.33030373 | AP21: =AO21*COS(A21/180*PI()) -> 0.30174747 | AQ21: =AO21*SIN(A21/180*PI()) -> 0.13434663 | AR21: =SQRT(AP21^2+AQ21^2)+SQRT((AP21-$BC$10)^2+(AQ21-$BD$10)^2) -> 0.77419625 | AS21: =AR21/(2*$BC$3) -> 1.0000001 | AT21: =AO21/AS21 -> 0.33030371 | AU21: =AT21*COS(A21/180*PI()) -> 0.30174745 | AV21: =AT21*SIN(A21/180*PI()) -> 0.13434662 | AW21: =SQRT(AU21^2+AV21^2)+SQRT((AU21-$BC$10)^2+(AV21-$BD$10)^2) -> 0.77419621 | AX21: =AW21/(2*$BC$3) -> 1 | AY21: =AT21-0.127 -> 0.20330371 | AZ21: =AY21-'Master Radiusverkleinerung'!G11/100 -> 0.20330371 | BA21: =SQRT((AU21-AU20)^2+(AV21-AV20)^2) -> 0.035264052
A23: 30 | B23: =BC$3*COS(A23/180*PI()) -> 0.33523679 | C23: =BC$3*SIN(A23/180*PI()) -> 0.19354905 | D23: =SQRT(B23^2+C23^2)+SQRT((B23-$BC$10)^2+(C23-$BD$10)^2) -> 0.89552678 | E23: =D23/(2*$BC$3) -> 1.1567181 | F23: =$BC$3/E23 -> 0.33465206 | G23: =F23*COS(A23/180*PI()) -> 0.28981718 | H23: =F23*SIN(A23/180*PI()) -> 0.16732603 | I23: =SQRT(G23^2+H23^2)+SQRT((G23-$BC$10)^2+(H23-$BD$10)^2) -> 0.7922107 | J23: =I23/(2*$BC$3) -> 1.0232687 | K23: =F23/J23 -> 0.32704222 | L23: =K23*COS(A23/180*PI()) -> 0.28322687 | M23: =K23*SIN(A23/180*PI()) -> 0.16352111 | N23: =SQRT(L23^2+M23^2)+SQRT((L23-$BC$10)^2+(M23-$BD$10)^2) -> 0.77724976 | O23: =N23/(2*$BC$3) -> 1.0039442 | P23: =K23/O23 -> 0.32575738 | Q23: =P23*COS(A23/180*PI()) -> 0.28211417 | R23: =P23*SIN(A23/180*PI()) -> 0.16287869 | S23: =SQRT(Q23^2+R23^2)+SQRT((Q23-$BC$10)^2+(R23-$BD$10)^2) -> 0.77472461 | T23: =S23/(2*$BC$3) -> 1.0006825 | U23: =P23/T23 -> 0.32553519 | V23: =U23*COS(A23/180*PI()) -> 0.28192175 | W23: =U23*SIN(A23/180*PI()) -> 0.1627676 | X23: =SQRT(V23^2+W23^2)+SQRT((V23-$BC$10)^2+(W23-$BD$10)^2) -> 0.77428796 | Y23: =X23/(2*$BC$3) -> 1.0001185 | Z23: =U23/Y23 -> 0.32549661 | AA23: =Z23*COS(A23/180*PI()) -> 0.28188834 | AB23: =Z23*SIN(A23/180*PI()) -> 0.16274831 | AC23: =SQRT(AA23^2+AB23^2)+SQRT((AA23-$BC$10)^2+(AB23-$BD$10)^2) -> 0.77421215 | AD23: =AC23/(2*$BC$3) -> 1.0000206 | AE23: =Z23/AD23 -> 0.32548991 | AF23: =AE23*COS(A23/180*PI()) -> 0.28188253 | AG23: =AE23*SIN(A23/180*PI()) -> 0.16274495 | AH23: =SQRT(AF23^2+AG23^2)+SQRT((AF23-$BC$10)^2+(AG23-$BD$10)^2) -> 0.77419897 | AI23: =AH23/(2*$BC$3) -> 1.0000036 | AJ23: =AE23/AI23 -> 0.32548874 | AK23: =AJ23*COS(A23/180*PI()) -> 0.28188152 | AL23: =AJ23*SIN(A23/180*PI()) -> 0.16274437 | AM23: =SQRT(AK23^2+AL23^2)+SQRT((AK23-$BC$10)^2+(AL23-$BD$10)^2) -> 0.77419668 | AN23: =AM23/(2*$BC$3) -> 1.0000006 | AO23: =AJ23/AN23 -> 0.32548854 | AP23: =AO23*COS(A23/180*PI()) -> 0.28188135 | AQ23: =AO23*SIN(A23/180*PI()) -> 0.16274427 | AR23: =SQRT(AP23^2+AQ23^2)+SQRT((AP23-$BC$10)^2+(AQ23-$BD$10)^2) -> 0.77419628 | AS23: =AR23/(2*$BC$3) -> 1.0000001 | AT23: =AO23/AS23 -> 0.32548851 | AU23: =AT23*COS(A23/180*PI()) -> 0.28188132 | AV23: =AT23*SIN(A23/180*PI()) -> 0.16274425 | AW23: =SQRT(AU23^2+AV23^2)+SQRT((AU23-$BC$10)^2+(AV23-$BD$10)^2) -> 0.77419621 | AX23: =AW23/(2*$BC$3) -> 1 | AY23: =AT23-0.127 -> 0.19848851 | AZ23: =AY23-'Master Radiusverkleinerung'!G12/100 -> 0.19848851 | BA23: =SQRT((AU23-AU21)^2+(AV23-AV21)^2) -> 0.034656729
A24: 36 | B24: =BC$3*COS(A24/180*PI()) -> 0.31316894 | C24: =BC$3*SIN(A24/180*PI()) -> 0.22753055 | D24: =SQRT(B24^2+C24^2)+SQRT((B24-$BC$10)^2+(C24-$BD$10)^2) -> 0.90434009 | E24: =D24/(2*$BC$3) -> 1.168102 | F24: =$BC$3/E24 -> 0.33139068 | G24: =F24*COS(A24/180*PI()) -> 0.26810069 | H24: =F24*SIN(A24/180*PI()) -> 0.19478655 | I24: =SQRT(G24^2+H24^2)+SQRT((G24-$BC$10)^2+(H24-$BD$10)^2) -> 0.7942346 | J24: =I24/(2*$BC$3) -> 1.0258828 | K24: =F24/J24 -> 0.32302975 | L24: =K24*COS(A24/180*PI()) -> 0.26133656 | M24: =K24*SIN(A24/180*PI()) -> 0.18987212 | N24: =SQRT(L24^2+M24^2)+SQRT((L24-$BC$10)^2+(M24-$BD$10)^2) -> 0.77773662 | O24: =N24/(2*$BC$3) -> 1.004573 | P24: =K24/O24 -> 0.32155925 | Q24: =P24*COS(A24/180*PI()) -> 0.2601469 | R24: =P24*SIN(A24/180*PI()) -> 0.18900779 | S24: =SQRT(Q24^2+R24^2)+SQRT((Q24-$BC$10)^2+(R24-$BD$10)^2) -> 0.77483584 | T24: =S24/(2*$BC$3) -> 1.0008262 | U24: =P24/T24 -> 0.3212938 | V24: =U24*COS(A24/180*PI()) -> 0.25993214 | W24: =U24*SIN(A24/180*PI()) -> 0.18885176 | X24: =SQRT(V24^2+W24^2)+SQRT((V24-$BC$10)^2+(W24-$BD$10)^2) -> 0.77431222 | Y24: =X24/(2*$BC$3) -> 1.0001499 | Z24: =U24/Y24 -> 0.32124566 | AA24: =Z24*COS(A24/180*PI()) -> 0.2598932 | AB24: =Z24*SIN(A24/180*PI()) -> 0.18882346 | AC24: =SQRT(AA24^2+AB24^2)+SQRT((AA24-$BC$10)^2+(AB24-$BD$10)^2) -> 0.77421726 | AD24: =AC24/(2*$BC$3) -> 1.0000272 | AE24: =Z24/AD24 -> 0.32123692 | AF24: =AE24*COS(A24/180*PI()) -> 0.25988613 | AG24: =AE24*SIN(A24/180*PI()) -> 0.18881832 | AH24: =SQRT(AF24^2+AG24^2)+SQRT((AF24-$BC$10)^2+(AG24-$BD$10)^2) -> 0.77420002 | AI24: =AH24/(2*$BC$3) -> 1.0000049 | AJ24: =AE24/AI24 -> 0.32123533 | AK24: =AJ24*COS(A24/180*PI()) -> 0.25988484 | AL24: =AJ24*SIN(A24/180*PI()) -> 0.18881739 | AM24: =SQRT(AK24^2+AL24^2)+SQRT((AK24-$BC$10)^2+(AL24-$BD$10)^2) -> 0.77419689 | AN24: =AM24/(2*$BC$3) -> 1.0000009 | AO24: =AJ24/AN24 -> 0.32123504 | AP24: =AO24*COS(A24/180*PI()) -> 0.25988461 | AQ24: =AO24*SIN(A24/180*PI()) -> 0.18881722 | AR24: =SQRT(AP24^2+AQ24^2)+SQRT((AP24-$BC$10)^2+(AQ24-$BD$10)^2) -> 0.77419633 | AS24: =AR24/(2*$BC$3) -> 1.0000002 | AT24: =AO24/AS24 -> 0.32123499 | AU24: =AT24*COS(A24/180*PI()) -> 0.25988457 | AV24: =AT24*SIN(A24/180*PI()) -> 0.18881719 | AW24: =SQRT(AU24^2+AV24^2)+SQRT((AU24-$BC$10)^2+(AV24-$BD$10)^2) -> 0.77419622 | AX24: =AW24/(2*$BC$3) -> 1 | AY24: =AT24-0.127 -> 0.19423499 | AZ24: =AY24-'Master Radiusverkleinerung'!G13/100 -> 0.19423499 | BA24: =SQRT((AU24-AU23)^2+(AV24-AV23)^2) -> 0.034112387
A25: 42 | B25: =BC$3*COS(A25/180*PI()) -> 0.28766995 | C25: =BC$3*SIN(A25/180*PI()) -> 0.25901919 | D25: =SQRT(B25^2+C25^2)+SQRT((B25-$BC$10)^2+(C25-$BD$10)^2) -> 0.91204292 | E25: =D25/(2*$BC$3) -> 1.1780514 | F25: =$BC$3/E25 -> 0.32859186 | G25: =F25*COS(A25/180*PI()) -> 0.24419134 | H25: =F25*SIN(A25/180*PI()) -> 0.21987087 | I25: =SQRT(G25^2+H25^2)+SQRT((G25-$BC$10)^2+(H25-$BD$10)^2) -> 0.79605746 | J25: =I25/(2*$BC$3) -> 1.0282374 | K25: =F25/J25 -> 0.3195681 | L25: =K25*COS(A25/180*PI()) -> 0.23748538 | M25: =K25*SIN(A25/180*PI()) -> 0.21383279 | N25: =SQRT(L25^2+M25^2)+SQRT((L25-$BC$10)^2+(M25-$BD$10)^2) -> 0.77819146 | O25: =N25/(2*$BC$3) -> 1.0051605 | P25: =K25/O25 -> 0.31792742 | Q25: =P25*COS(A25/180*PI()) -> 0.23626612 | R25: =P25*SIN(A25/180*PI()) -> 0.21273497 | S25: =SQRT(Q25^2+R25^2)+SQRT((Q25-$BC$10)^2+(R25-$BD$10)^2) -> 0.77494388 | T25: =S25/(2*$BC$3) -> 1.0009658 | U25: =P25/T25 -> 0.31762068 | V25: =U25*COS(A25/180*PI()) -> 0.23603816 | W25: =U25*SIN(A25/180*PI()) -> 0.21252972 | X25: =SQRT(V25^2+W25^2)+SQRT((V25-$BC$10)^2+(W25-$BD$10)^2) -> 0.77433674 | Y25: =X25/(2*$BC$3) -> 1.0001815 | Z25: =U25/Y25 -> 0.31756303 | AA25: =Z25*COS(A25/180*PI()) -> 0.23599533 | AB25: =Z25*SIN(A25/180*PI()) -> 0.21249115 | AC25: =SQRT(AA25^2+AB25^2)+SQRT((AA25-$BC$10)^2+(AB25-$BD$10)^2) -> 0.77422264 | AD25: =AC25/(2*$BC$3) -> 1.0000341 | AE25: =Z25/AD25 -> 0.31755219 | AF25: =AE25*COS(A25/180*PI()) -> 0.23598727 | AG25: =AE25*SIN(A25/180*PI()) -> 0.21248389 | AH25: =SQRT(AF25^2+AG25^2)+SQRT((AF25-$BC$10)^2+(AG25-$BD$10)^2) -> 0.77420117 | AI25: =AH25/(2*$BC$3) -> 1.0000064 | AJ25: =AE25/AI25 -> 0.31755015 | AK25: =AJ25*COS(A25/180*PI()) -> 0.23598575 | AL25: =AJ25*SIN(A25/180*PI()) -> 0.21248252 | AM25: =SQRT(AK25^2+AL25^2)+SQRT((AK25-$BC$10)^2+(AL25-$BD$10)^2) -> 0.77419714 | AN25: =AM25/(2*$BC$3) -> 1.0000012 | AO25: =AJ25/AN25 -> 0.31754977 | AP25: =AO25*COS(A25/180*PI()) -> 0.23598547 | AQ25: =AO25*SIN(A25/180*PI()) -> 0.21248227 | AR25: =SQRT(AP25^2+AQ25^2)+SQRT((AP25-$BC$10)^2+(AQ25-$BD$10)^2) -> 0.77419638 | AS25: =AR25/(2*$BC$3) -> 1.0000002 | AT25: =AO25/AS25 -> 0.31754969 | AU25: =AT25*COS(A25/180*PI()) -> 0.23598541 | AV25: =AT25*SIN(A25/180*PI()) -> 0.21248222 | AW25: =SQRT(AU25^2+AV25^2)+SQRT((AU25-$BC$10)^2+(AV25-$BD$10)^2) -> 0.77419623 | AX25: =AW25/(2*$BC$3) -> 1 | AY25: =AT25-0.127 -> 0.19054969 | AZ25: =AY25-'Master Radiusverkleinerung'!G14/100 -> 0.19054969 | BA25: =SQRT((AU25-AU24)^2+(AV25-AV24)^2) -> 0.033633365
A26: 48 | B26: =BC$3*COS(A26/180*PI()) -> 0.25901919 | C26: =BC$3*SIN(A26/180*PI()) -> 0.28766995 | D26: =SQRT(B26^2+C26^2)+SQRT((B26-$BC$10)^2+(C26-$BD$10)^2) -> 0.91860081 | E26: =D26/(2*$BC$3) -> 1.186522 | F26: =$BC$3/E26 -> 0.32624604 | G26: =F26*COS(A26/180*PI()) -> 0.21830121 | H26: =F26*SIN(A26/180*PI()) -> 0.24244806 | I26: =SQRT(G26^2+H26^2)+SQRT((G26-$BC$10)^2+(H26-$BD$10)^2) -> 0.79764679 | J26: =I26/(2*$BC$3) -> 1.0302902 | K26: =F26/J26 -> 0.3166545 | L26: =K26*COS(A26/180*PI()) -> 0.21188322 | M26: =K26*SIN(A26/180*PI()) -> 0.23532015 | N26: =SQRT(L26^2+M26^2)+SQRT((L26-$BC$10)^2+(M26-$BD$10)^2) -> 0.77859986 | O26: =N26/(2*$BC$3) -> 1.005688 | P26: =K26/O26 -> 0.31486355 | Q26: =P26*COS(A26/180*PI()) -> 0.21068484 | R26: =P26*SIN(A26/180*PI()) -> 0.23398922 | S26: =SQRT(Q26^2+R26^2)+SQRT((Q26-$BC$10)^2+(R26-$BD$10)^2) -> 0.77504399 | T26: =S26/(2*$BC$3) -> 1.0010951 | U26: =P26/T26 -> 0.31451913 | V26: =U26*COS(A26/180*PI()) -> 0.21045438 | W26: =U26*SIN(A26/180*PI()) -> 0.23373326 | X26: =SQRT(V26^2+W26^2)+SQRT((V26-$BC$10)^2+(W26-$BD$10)^2) -> 0.77436019 | Y26: =X26/(2*$BC$3) -> 1.0002118 | Z26: =U26/Y26 -> 0.31445252 | AA26: =Z26*COS(A26/180*PI()) -> 0.21040981 | AB26: =Z26*SIN(A26/180*PI()) -> 0.23368377 | AC26: =SQRT(AA26^2+AB26^2)+SQRT((AA26-$BC$10)^2+(AB26-$BD$10)^2) -> 0.77422795 | AD26: =AC26/(2*$BC$3) -> 1.000041 | AE26: =Z26/AD26 -> 0.31443963 | AF26: =AE26*COS(A26/180*PI()) -> 0.21040118 | AG26: =AE26*SIN(A26/180*PI()) -> 0.23367418 | AH26: =SQRT(AF26^2+AG26^2)+SQRT((AF26-$BC$10)^2+(AG26-$BD$10)^2) -> 0.77420235 | AI26: =AH26/(2*$BC$3) -> 1.0000079 | AJ26: =AE26/AI26 -> 0.31443713 | AK26: =AJ26*COS(A26/180*PI()) -> 0.21039951 | AL26: =AJ26*SIN(A26/180*PI()) -> 0.23367233 | AM26: =SQRT(AK26^2+AL26^2)+SQRT((AK26-$BC$10)^2+(AL26-$BD$10)^2) -> 0.77419739 | AN26: =AM26/(2*$BC$3) -> 1.0000015 | AO26: =AJ26/AN26 -> 0.31443665 | AP26: =AO26*COS(A26/180*PI()) -> 0.21039918 | AQ26: =AO26*SIN(A26/180*PI()) -> 0.23367197 | AR26: =SQRT(AP26^2+AQ26^2)+SQRT((AP26-$BC$10)^2+(AQ26-$BD$10)^2) -> 0.77419643 | AS26: =AR26/(2*$BC$3) -> 1.0000003 | AT26: =AO26/AS26 -> 0.31443655 | AU26: =AT26*COS(A26/180*PI()) -> 0.21039912 | AV26: =AT26*SIN(A26/180*PI()) -> 0.2336719 | AW26: =SQRT(AU26^2+AV26^2)+SQRT((AU26-$BC$10)^2+(AV26-$BD$10)^2) -> 0.77419624 | AX26: =AW26/(2*$BC$3) -> 1.0000001 | AY26: =AT26-0.127 -> 0.18743655 | AZ26: =AY26-'Master Radiusverkleinerung'!G15/100 -> 0.18743655 | BA26: =SQRT((AU26-AU25)^2+(AV26-AV25)^2) -> 0.033221389
A27: 54 | B27: =BC$3*COS(A27/180*PI()) -> 0.22753055 | C27: =BC$3*SIN(A27/180*PI()) -> 0.31316894 | D27: =SQRT(B27^2+C27^2)+SQRT((B27-$BC$10)^2+(C27-$BD$10)^2) -> 0.92398502 | E27: =D27/(2*$BC$3) -> 1.1934766 | F27: =$BC$3/E27 -> 0.32434495 | G27: =F27*COS(A27/180*PI()) -> 0.19064518 | H27: =F27*SIN(A27/180*PI()) -> 0.26240058 | I27: =SQRT(G27^2+H27^2)+SQRT((G27-$BC$10)^2+(H27-$BD$10)^2) -> 0.79897613 | J27: =I27/(2*$BC$3) -> 1.0320073 | K27: =F27/J27 -> 0.31428552 | L27: =K27*COS(A27/180*PI()) -> 0.1847324 | M27: =K27*SIN(A27/180*PI()) -> 0.25426233 | N27: =SQRT(L27^2+M27^2)+SQRT((L27-$BC$10)^2+(M27-$BD$10)^2) -> 0.77894945 | O27: =N27/(2*$BC$3) -> 1.0061396 | P27: =K27/O27 -> 0.31236771 | Q27: =P27*COS(A27/180*PI()) -> 0.18360514 | R27: =P27*SIN(A27/180*PI()) -> 0.25271079 | S27: =SQRT(Q27^2+R27^2)+SQRT((Q27-$BC$10)^2+(R27-$BD$10)^2) -> 0.77513185 | T27: =S27/(2*$BC$3) -> 1.0012085 | U27: =P27/T27 -> 0.31199066 | V27: =U27*COS(A27/180*PI()) -> 0.18338351 | W27: =U27*SIN(A27/180*PI()) -> 0.25240574 | X27: =SQRT(V27^2+W27^2)+SQRT((V27-$BC$10)^2+(W27-$BD$10)^2) -> 0.7743813 | Y27: =X27/(2*$BC$3) -> 1.0002391 | Z27: =U27/Y27 -> 0.31191608 | AA27: =Z27*COS(A27/180*PI()) -> 0.18333967 | AB27: =Z27*SIN(A27/180*PI()) -> 0.25234541 | AC27: =SQRT(AA27^2+AB27^2)+SQRT((AA27-$BC$10)^2+(AB27-$BD$10)^2) -> 0.77423286 | AD27: =AC27/(2*$BC$3) -> 1.0000473 | AE27: =Z27/AD27 -> 0.31190131 | AF27: =AE27*COS(A27/180*PI()) -> 0.18333099 | AG27: =AE27*SIN(A27/180*PI()) -> 0.25233346 | AH27: =SQRT(AF27^2+AG27^2)+SQRT((AF27-$BC$10)^2+(AG27-$BD$10)^2) -> 0.77420346 | AI27: =AH27/(2*$BC$3) -> 1.0000094 | AJ27: =AE27/AI27 -> 0.31189839 | AK27: =AJ27*COS(A27/180*PI()) -> 0.18332927 | AL27: =AJ27*SIN(A27/180*PI()) -> 0.2523311 | AM27: =SQRT(AK27^2+AL27^2)+SQRT((AK27-$BC$10)^2+(AL27-$BD$10)^2) -> 0.77419764 | AN27: =AM27/(2*$BC$3) -> 1.0000019 | AO27: =AJ27/AN27 -> 0.31189781 | AP27: =AO27*COS(A27/180*PI()) -> 0.18332893 | AQ27: =AO27*SIN(A27/180*PI()) -> 0.25233063 | AR27: =SQRT(AP27^2+AQ27^2)+SQRT((AP27-$BC$10)^2+(AQ27-$BD$10)^2) -> 0.77419648 | AS27: =AR27/(2*$BC$3) -> 1.0000004 | AT27: =AO27/AS27 -> 0.31189769 | AU27: =AT27*COS(A27/180*PI()) -> 0.18332886 | AV27: =AT27*SIN(A27/180*PI()) -> 0.25233053 | AW27: =SQRT(AU27^2+AV27^2)+SQRT((AU27-$BC$10)^2+(AV27-$BD$10)^2) -> 0.77419626 | AX27: =AW27/(2*$BC$3) -> 1.0000001 | AY27: =AT27-0.127 -> 0.18489769 | AZ27: =AY27-'Master Radiusverkleinerung'!G16/100 -> 0.18489769 | BA27: =SQRT((AU27-AU26)^2+(AV27-AV26)^2) -> 0.032877706
A29: 60 | B29: =BC$3*COS(A29/180*PI()) -> 0.19354905 | C29: =BC$3*SIN(A29/180*PI()) -> 0.33523679 | D29: =SQRT(B29^2+C29^2)+SQRT((B29-$BC$10)^2+(C29-$BD$10)^2) -> 0.92817235 | E29: =D29/(2*$BC$3) -> 1.1988852 | F29: =$BC$3/E29 -> 0.32288171 | G29: =F29*COS(A29/180*PI()) -> 0.16144086 | H29: =F29*SIN(A29/180*PI()) -> 0.27962376 | I29: =SQRT(G29^2+H29^2)+SQRT((G29-$BC$10)^2+(H29-$BD$10)^2) -> 0.8000246 | J29: =I29/(2*$BC$3) -> 1.0333616 | K29: =F29/J29 -> 0.31245763 | L29: =K29*COS(A29/180*PI()) -> 0.15622882 | M29: =K29*SIN(A29/180*PI()) -> 0.27059625 | N29: =SQRT(L29^2+M29^2)+SQRT((L29-$BC$10)^2+(M29-$BD$10)^2) -> 0.7792301 | O29: =N29/(2*$BC$3) -> 1.0065021 | P29: =K29/O29 -> 0.31043913 | Q29: =P29*COS(A29/180*PI()) -> 0.15521957 | R29: =P29*SIN(A29/180*PI()) -> 0.26884817 | S29: =SQRT(Q29^2+R29^2)+SQRT((Q29-$BC$10)^2+(R29-$BD$10)^2) -> 0.77520375 | T29: =S29/(2*$BC$3) -> 1.0013014 | U29: =P29/T29 -> 0.31003564 | V29: =U29*COS(A29/180*PI()) -> 0.15501782 | W29: =U29*SIN(A29/180*PI()) -> 0.26849874 | X29: =SQRT(V29^2+W29^2)+SQRT((V29-$BC$10)^2+(W29-$BD$10)^2) -> 0.77439892 | Y29: =X29/(2*$BC$3) -> 1.0002619 | Z29: =U29/Y29 -> 0.30995448 | AA29: =Z29*COS(A29/180*PI()) -> 0.15497724 | AB29: =Z29*SIN(A29/180*PI()) -> 0.26842846 | AC29: =SQRT(AA29^2+AB29^2)+SQRT((AA29-$BC$10)^2+(AB29-$BD$10)^2) -> 0.77423703 | AD29: =AC29/(2*$BC$3) -> 1.0000527 | AE29: =Z29/AD29 -> 0.30993814 | AF29: =AE29*COS(A29/180*PI()) -> 0.15496907 | AG29: =AE29*SIN(A29/180*PI()) -> 0.2684143 | AH29: =SQRT(AF29^2+AG29^2)+SQRT((AF29-$BC$10)^2+(AG29-$BD$10)^2) -> 0.77420443 | AI29: =AH29/(2*$BC$3) -> 1.0000106 | AJ29: =AE29/AI29 -> 0.30993484 | AK29: =AJ29*COS(A29/180*PI()) -> 0.15496742 | AL29: =AJ29*SIN(A29/180*PI()) -> 0.26841145 | AM29: =SQRT(AK29^2+AL29^2)+SQRT((AK29-$BC$10)^2+(AL29-$BD$10)^2) -> 0.77419786 | AN29: =AM29/(2*$BC$3) -> 1.0000021 | AO29: =AJ29/AN29 -> 0.30993418 | AP29: =AO29*COS(A29/180*PI()) -> 0.15496709 | AQ29: =AO29*SIN(A29/180*PI()) -> 0.26841087 | AR29: =SQRT(AP29^2+AQ29^2)+SQRT((AP29-$BC$10)^2+(AQ29-$BD$10)^2) -> 0.77419653 | AS29: =AR29/(2*$BC$3) -> 1.0000004 | AT29: =AO29/AS29 -> 0.30993405 | AU29: =AT29*COS(A29/180*PI()) -> 0.15496702 | AV29: =AT29*SIN(A29/180*PI()) -> 0.26841076 | AW29: =SQRT(AU29^2+AV29^2)+SQRT((AU29-$BC$10)^2+(AV29-$BD$10)^2) -> 0.77419627 | AX29: =AW29/(2*$BC$3) -> 1.0000001 | AY29: =AT29-0.127 -> 0.18293405 | AZ29: =AY29-'Master Radiusverkleinerung'!G17/100 -> 0.18293405 | BA29: =SQRT((AU29-AU27)^2+(AV29-AV27)^2) -> 0.032603184
A30: 66 | B30: =BC$3*COS(A30/180*PI()) -> 0.15744698 | C30: =BC$3*SIN(A30/180*PI()) -> 0.35363171 | D30: =SQRT(B30^2+C30^2)+SQRT((B30-$BC$10)^2+(C30-$BD$10)^2) -> 0.931145 | E30: =D30/(2*$BC$3) -> 1.2027248 | F30: =$BC$3/E30 -> 0.32185092 | G30: =F30*COS(A30/180*PI()) -> 0.13090856 | H30: =F30*SIN(A30/180*PI()) -> 0.29402545 | I30: =SQRT(G30^2+H30^2)+SQRT((G30-$BC$10)^2+(H30-$BD$10)^2) -> 0.80077645 | J30: =I30/(2*$BC$3) -> 1.0343327 | K30: =F30/J30 -> 0.3111677 | L30: =K30*COS(A30/180*PI()) -> 0.1265633 | M30: =K30*SIN(A30/180*PI()) -> 0.28426583 | N30: =SQRT(L30^2+M30^2)+SQRT((L30-$BC$10)^2+(M30-$BD$10)^2) -> 0.77943393 | O30: =N30/(2*$BC$3) -> 1.0067654 | P30: =K30/O30 -> 0.30907668 | Q30: =P30*COS(A30/180*PI()) -> 0.12571281 | R30: =P30*SIN(A30/180*PI()) -> 0.28235559 | S30: =SQRT(Q30^2+R30^2)+SQRT((Q30-$BC$10)^2+(R30-$BD$10)^2) -> 0.7752567 | T30: =S30/(2*$BC$3) -> 1.0013698 | U30: =P30/T30 -> 0.30865388 | V30: =U30*COS(A30/180*PI()) -> 0.12554084 | W30: =U30*SIN(A30/180*PI()) -> 0.28196935 | X30: =SQRT(V30^2+W30^2)+SQRT((V30-$BC$10)^2+(W30-$BD$10)^2) -> 0.77441209 | Y30: =X30/(2*$BC$3) -> 1.0002789 | Z30: =U30/Y30 -> 0.30856783 | AA30: =Z30*COS(A30/180*PI()) -> 0.12550584 | AB30: =Z30*SIN(A30/180*PI()) -> 0.28189074 | AC30: =SQRT(AA30^2+AB30^2)+SQRT((AA30-$BC$10)^2+(AB30-$BD$10)^2) -> 0.7742402 | AD30: =AC30/(2*$BC$3) -> 1.0000568 | AE30: =Z30/AD30 -> 0.3085503 | AF30: =AE30*COS(A30/180*PI()) -> 0.12549871 | AG30: =AE30*SIN(A30/180*PI()) -> 0.28187472 | AH30: =SQRT(AF30^2+AG30^2)+SQRT((AF30-$BC$10)^2+(AG30-$BD$10)^2) -> 0.77420517 | AI30: =AH30/(2*$BC$3) -> 1.0000116 | AJ30: =AE30/AI30 -> 0.30854672 | AK30: =AJ30*COS(A30/180*PI()) -> 0.12549726 | AL30: =AJ30*SIN(A30/180*PI()) -> 0.28187146 | AM30: =SQRT(AK30^2+AL30^2)+SQRT((AK30-$BC$10)^2+(AL30-$BD$10)^2) -> 0.77419803 | AN30: =AM30/(2*$BC$3) -> 1.0000024 | AO30: =AJ30/AN30 -> 0.308546 | AP30: =AO30*COS(A30/180*PI()) -> 0.12549696 | AQ30: =AO30*SIN(A30/180*PI()) -> 0.28187079 | AR30: =SQRT(AP30^2+AQ30^2)+SQRT((AP30-$BC$10)^2+(AQ30-$BD$10)^2) -> 0.77419657 | AS30: =AR30/(2*$BC$3) -> 1.0000005 | AT30: =AO30/AS30 -> 0.30854585 | AU30: =AT30*COS(A30/180*PI()) -> 0.1254969 | AV30: =AT30*SIN(A30/180*PI()) -> 0.28187066 | AW30: =SQRT(AU30^2+AV30^2)+SQRT((AU30-$BC$10)^2+(AV30-$BD$10)^2) -> 0.77419628 | AX30: =AW30/(2*$BC$3) -> 1.0000001 | AY30: =AT30-0.127 -> 0.18154585 | AZ30: =AY30-'Master Radiusverkleinerung'!G18/100 -> 0.18154585 | BA30: =SQRT((AU30-AU29)^2+(AV30-AV29)^2) -> 0.032398409
A31: 72 | B31: =BC$3*COS(A31/180*PI()) -> 0.11961989 | C31: =BC$3*SIN(A31/180*PI()) -> 0.36815217 | D31: =SQRT(B31^2+C31^2)+SQRT((B31-$BC$10)^2+(C31-$BD$10)^2) -> 0.93289042 | E31: =D31/(2*$BC$3) -> 1.2049793 | F31: =$BC$3/E31 -> 0.32124875 | G31: =F31*COS(A31/180*PI()) -> 0.099271322 | H31: =F31*SIN(A31/180*PI()) -> 0.30552571 | I31: =SQRT(G31^2+H31^2)+SQRT((G31-$BC$10)^2+(H31-$BD$10)^2) -> 0.80122076 | J31: =I31/(2*$BC$3) -> 1.0349066 | K31: =F31/J31 -> 0.31041328 | L31: =K31*COS(A31/180*PI()) -> 0.095922977 | M31: =K31*SIN(A31/180*PI()) -> 0.29522057 | N31: =SQRT(L31^2+M31^2)+SQRT((L31-$BC$10)^2+(M31-$BD$10)^2) -> 0.77955537 | O31: =N31/(2*$BC$3) -> 1.0069222 | P31: =K31/O31 -> 0.30827929 | Q31: =P31*COS(A31/180*PI()) -> 0.09526354 | R31: =P31*SIN(A31/180*PI()) -> 0.29319103 | S31: =SQRT(Q31^2+R31^2)+SQRT((Q31-$BC$10)^2+(R31-$BD$10)^2) -> 0.77528853 | T31: =S31/(2*$BC$3) -> 1.0014109 | U31: =P31/T31 -> 0.30784495 | V31: =U31*COS(A31/180*PI()) -> 0.09512932 | W31: =U31*SIN(A31/180*PI()) -> 0.29277794 | X31: =SQRT(V31^2+W31^2)+SQRT((V31-$BC$10)^2+(W31-$BD$10)^2) -> 0.77442007 | Y31: =X31/(2*$BC$3) -> 1.0002892 | Z31: =U31/Y31 -> 0.30775595 | AA31: =Z31*COS(A31/180*PI()) -> 0.09510182 | AB31: =Z31*SIN(A31/180*PI()) -> 0.2926933 | AC31: =SQRT(AA31^2+AB31^2)+SQRT((AA31-$BC$10)^2+(AB31-$BD$10)^2) -> 0.77424213 | AD31: =AC31/(2*$BC$3) -> 1.0000593 | AE31: =Z31/AD31 -> 0.3077377 | AF31: =AE31*COS(A31/180*PI()) -> 0.095096178 | AG31: =AE31*SIN(A31/180*PI()) -> 0.29267594 | AH31: =SQRT(AF31^2+AG31^2)+SQRT((AF31-$BC$10)^2+(AG31-$BD$10)^2) -> 0.77420563 | AI31: =AH31/(2*$BC$3) -> 1.0000122 | AJ31: =AE31/AI31 -> 0.30773395 | AK31: =AJ31*COS(A31/180*PI()) -> 0.09509502 | AL31: =AJ31*SIN(A31/180*PI()) -> 0.29267238 | AM31: =SQRT(AK31^2+AL31^2)+SQRT((AK31-$BC$10)^2+(AL31-$BD$10)^2) -> 0.77419813 | AN31: =AM31/(2*$BC$3) -> 1.0000025 | AO31: =AJ31/AN31 -> 0.30773318 | AP31: =AO31*COS(A31/180*PI()) -> 0.095094782 | AQ31: =AO31*SIN(A31/180*PI()) -> 0.29267165 | AR31: =SQRT(AP31^2+AQ31^2)+SQRT((AP31-$BC$10)^2+(AQ31-$BD$10)^2) -> 0.7741966 | AS31: =AR31/(2*$BC$3) -> 1.0000005 | AT31: =AO31/AS31 -> 0.30773302 | AU31: =AT31*COS(A31/180*PI()) -> 0.095094733 | AV31: =AT31*SIN(A31/180*PI()) -> 0.2926715 | AW31: =SQRT(AU31^2+AV31^2)+SQRT((AU31-$BC$10)^2+(AV31-$BD$10)^2) -> 0.77419628 | AX31: =AW31/(2*$BC$3) -> 1.0000001 | AY31: =AT31-0.127 -> 0.18073302 | AZ31: =AY31-'Master Radiusverkleinerung'!G19/100 -> 0.18073302 | BA31: =SQRT((AU31-AU30)^2+(AV31-AV30)^2) -> 0.032263756
A32: 78 | B32: =BC$3*COS(A32/180*PI()) -> 0.08048222 | C32: =BC$3*SIN(A32/180*PI()) -> 0.37863908 | D32: =SQRT(B32^2+C32^2)+SQRT((B32-$BC$10)^2+(C32-$BD$10)^2) -> 0.93340131 | E32: =D32/(2*$BC$3) -> 1.2056392 | F32: =$BC$3/E32 -> 0.32107291 | G32: =F32*COS(A32/180*PI()) -> 0.066754813 | H32: =F32*SIN(A32/180*PI()) -> 0.3140567 | I32: =SQRT(G32^2+H32^2)+SQRT((G32-$BC$10)^2+(H32-$BD$10)^2) -> 0.8013512 | J32: =I32/(2*$BC$3) -> 1.0350751 | K32: =F32/J32 -> 0.31019287 | L32: =K32*COS(A32/180*PI()) -> 0.064492725 | M32: =K32*SIN(A32/180*PI()) -> 0.30341441 | N32: =SQRT(L32^2+M32^2)+SQRT((L32-$BC$10)^2+(M32-$BD$10)^2) -> 0.77959117 | O32: =N32/(2*$BC$3) -> 1.0069685 | P32: =K32/O32 -> 0.30804626 | Q32: =P32*COS(A32/180*PI()) -> 0.064046419 | R32: =P32*SIN(A32/180*PI()) -> 0.30131471 | S32: =SQRT(Q32^2+R32^2)+SQRT((Q32-$BC$10)^2+(R32-$BD$10)^2) -> 0.77529795 | T32: =S32/(2*$BC$3) -> 1.0014231 | U32: =P32/T32 -> 0.30760851 | V32: =U32*COS(A32/180*PI()) -> 0.063955404 | W32: =U32*SIN(A32/180*PI()) -> 0.30088652 | X32: =SQRT(V32^2+W32^2)+SQRT((V32-$BC$10)^2+(W32-$BD$10)^2) -> 0.77442244 | Y32: =X32/(2*$BC$3) -> 1.0002922 | Z32: =U32/Y32 -> 0.30751864 | AA32: =Z32*COS(A32/180*PI()) -> 0.06393672 | AB32: =Z32*SIN(A32/180*PI()) -> 0.30079862 | AC32: =SQRT(AA32^2+AB32^2)+SQRT((AA32-$BC$10)^2+(AB32-$BD$10)^2) -> 0.77424271 | AD32: =AC32/(2*$BC$3) -> 1.0000601 | AE32: =Z32/AD32 -> 0.30750016 | AF32: =AE32*COS(A32/180*PI()) -> 0.063932879 | AG32: =AE32*SIN(A32/180*PI()) -> 0.30078055 | AH32: =SQRT(AF32^2+AG32^2)+SQRT((AF32-$BC$10)^2+(AG32-$BD$10)^2) -> 0.77420576 | AI32: =AH32/(2*$BC$3) -> 1.0000124 | AJ32: =AE32/AI32 -> 0.30749637 | AK32: =AJ32*COS(A32/180*PI()) -> 0.063932089 | AL32: =AJ32*SIN(A32/180*PI()) -> 0.30077683 | AM32: =SQRT(AK32^2+AL32^2)+SQRT((AK32-$BC$10)^2+(AL32-$BD$10)^2) -> 0.77419817 | AN32: =AM32/(2*$BC$3) -> 1.0000025 | AO32: =AJ32/AN32 -> 0.30749559 | AP32: =AO32*COS(A32/180*PI()) -> 0.063931927 | AQ32: =AO32*SIN(A32/180*PI()) -> 0.30077607 | AR32: =SQRT(AP32^2+AQ32^2)+SQRT((AP32-$BC$10)^2+(AQ32-$BD$10)^2) -> 0.7741966 | AS32: =AR32/(2*$BC$3) -> 1.0000005 | AT32: =AO32/AS32 -> 0.30749542 | AU32: =AT32*COS(A32/180*PI()) -> 0.063931894 | AV32: =AT32*SIN(A32/180*PI()) -> 0.30077591 | AW32: =SQRT(AU32^2+AV32^2)+SQRT((AU32-$BC$10)^2+(AV32-$BD$10)^2) -> 0.77419628 | AX32: =AW32/(2*$BC$3) -> 1.0000001 | AY32: =AT32-0.127 -> 0.18049542 | AZ32: =AY32-'Master Radiusverkleinerung'!G20/100 -> 0.18049542 | BA32: =SQRT((AU32-AU31)^2+(AV32-AV31)^2) -> 0.032199443
A33: 84 | B33: =BC$3*COS(A33/180*PI()) -> 0.04046277 | C33: =BC$3*SIN(A33/180*PI()) -> 0.38497754 | D33: =SQRT(B33^2+C33^2)+SQRT((B33-$BC$10)^2+(C33-$BD$10)^2) -> 0.93267553 | E33: =D33/(2*$BC$3) -> 1.2047018 | F33: =$BC$3/E33 -> 0.32132276 | G33: =F33*COS(A33/180*PI()) -> 0.033587375 | H33: =F33*SIN(A33/180*PI()) -> 0.31956252 | I33: =SQRT(G33^2+H33^2)+SQRT((G33-$BC$10)^2+(H33-$BD$10)^2) -> 0.80116594 | J33: =I33/(2*$BC$3) -> 1.0348358 | K33: =F33/J33 -> 0.31050604 | L33: =K33*COS(A33/180*PI()) -> 0.032456719 | M33: =K33*SIN(A33/180*PI()) -> 0.30880505 | N33: =SQRT(L33^2+M33^2)+SQRT((L33-$BC$10)^2+(M33-$BD$10)^2) -> 0.77954035 | O33: =N33/(2*$BC$3) -> 1.0069028 | P33: =K33/O33 -> 0.30837736 | Q33: =P33*COS(A33/180*PI()) -> 0.032234211 | R33: =P33*SIN(A33/180*PI()) -> 0.30668803 | S33: =SQRT(Q33^2+R33^2)+SQRT((Q33-$BC$10)^2+(R33-$BD$10)^2) -> 0.77528458 | T33: =S33/(2*$BC$3) -> 1.0014058 | U33: =P33/T33 -> 0.30794444 | V33: =U33*COS(A33/180*PI()) -> 0.032188959 | W33: =U33*SIN(A33/180*PI()) -> 0.30625749 | X33: =SQRT(V33^2+W33^2)+SQRT((V33-$BC$10)^2+(W33-$BD$10)^2) -> 0.77441908 | Y33: =X33/(2*$BC$3) -> 1.0002879 | Z33: =U33/Y33 -> 0.30785582 | AA33: =Z33*COS(A33/180*PI()) -> 0.032179695 | AB33: =Z33*SIN(A33/180*PI()) -> 0.30616935 | AC33: =SQRT(AA33^2+AB33^2)+SQRT((AA33-$BC$10)^2+(AB33-$BD$10)^2) -> 0.77424189 | AD33: =AC33/(2*$BC$3) -> 1.000059 | AE33: =Z33/AD33 -> 0.30783765 | AF33: =AE33*COS(A33/180*PI()) -> 0.032177796 | AG33: =AE33*SIN(A33/180*PI()) -> 0.30615128 | AH33: =SQRT(AF33^2+AG33^2)+SQRT((AF33-$BC$10)^2+(AG33-$BD$10)^2) -> 0.77420557 | AI33: =AH33/(2*$BC$3) -> 1.0000121 | AJ33: =AE33/AI33 -> 0.30783392 | AK33: =AJ33*COS(A33/180*PI()) -> 0.032177407 | AL33: =AJ33*SIN(A33/180*PI()) -> 0.30614758 | AM33: =SQRT(AK33^2+AL33^2)+SQRT((AK33-$BC$10)^2+(AL33-$BD$10)^2) -> 0.77419812 | AN33: =AM33/(2*$BC$3) -> 1.0000025 | AO33: =AJ33/AN33 -> 0.30783316 | AP33: =AO33*COS(A33/180*PI()) -> 0.032177327 | AQ33: =AO33*SIN(A33/180*PI()) -> 0.30614682 | AR33: =SQRT(AP33^2+AQ33^2)+SQRT((AP33-$BC$10)^2+(AQ33-$BD$10)^2) -> 0.77419659 | AS33: =AR33/(2*$BC$3) -> 1.0000005 | AT33: =AO33/AS33 -> 0.307833 | AU33: =AT33*COS(A33/180*PI()) -> 0.032177311 | AV33: =AT33*SIN(A33/180*PI()) -> 0.30614666 | AW33: =SQRT(AU33^2+AV33^2)+SQRT((AU33-$BC$10)^2+(AV33-$BD$10)^2) -> 0.77419628 | AX33: =AW33/(2*$BC$3) -> 1.0000001 | AY33: =AT33-0.127 -> 0.180833 | AZ33: =AY33-'Master Radiusverkleinerung'!G21/100 -> 0.180833 | BA33: =SQRT((AU33-AU32)^2+(AV33-AV32)^2) -> 0.032205566
A35: 90 | B35: =BC$3*COS(A35/180*PI()) -> 2.3712632e-17 | C35: =BC$3*SIN(A35/180*PI()) -> 0.3870981 | D35: =SQRT(B35^2+C35^2)+SQRT((B35-$BC$10)^2+(C35-$BD$10)^2) -> 0.93071612 | E35: =D35/(2*$BC$3) -> 1.2021709 | F35: =$BC$3/E35 -> 0.32199924 | G35: =F35*COS(A35/180*PI()) -> 1.9724843e-17 | H35: =F35*SIN(A35/180*PI()) -> 0.32199924 | I35: =SQRT(G35^2+H35^2)+SQRT((G35-$BC$10)^2+(H35-$BD$10)^2) -> 0.8006676 | J35: =I35/(2*$BC$3) -> 1.0341921 | K35: =F35/J35 -> 0.31135341 | L35: =K35*COS(A35/180*PI()) -> 1.9072707e-17 | M35: =K35*SIN(A35/180*PI()) -> 0.31135341 | N35: =SQRT(L35^2+M35^2)+SQRT((L35-$BC$10)^2+(M35-$BD$10)^2) -> 0.77940429 | O35: =N35/(2*$BC$3) -> 1.0067271 | P35: =K35/O35 -> 0.3092729 | Q35: =P35*COS(A35/180*PI()) -> 1.8945261e-17 | R35: =P35*SIN(A35/180*PI()) -> 0.3092729 | S35: =SQRT(Q35^2+R35^2)+SQRT((Q35-$BC$10)^2+(R35-$BD$10)^2) -> 0.77524896 | T35: =S35/(2*$BC$3) -> 1.0013598 | U35: =P35/T35 -> 0.30885292 | V35: =U35*COS(A35/180*PI()) -> 1.8919534e-17 | W35: =U35*SIN(A35/180*PI()) -> 0.30885292 | X35: =SQRT(V35^2+W35^2)+SQRT((V35-$BC$10)^2+(W35-$BD$10)^2) -> 0.77441015 | Y35: =X35/(2*$BC$3) -> 1.0002764 | Z35: =U35/Y35 -> 0.30876759 | AA35: =Z35*COS(A35/180*PI()) -> 1.8914307e-17 | AB35: =Z35*SIN(A35/180*PI()) -> 0.30876759 | AC35: =SQRT(AA35^2+AB35^2)+SQRT((AA35-$BC$10)^2+(AB35-$BD$10)^2) -> 0.77423973 | AD35: =AC35/(2*$BC$3) -> 1.0000562 | AE35: =Z35/AD35 -> 0.30875023 | AF35: =AE35*COS(A35/180*PI()) -> 1.8913243e-17 | AG35: =AE35*SIN(A35/180*PI()) -> 0.30875023 | AH35: =SQRT(AF35^2+AG35^2)+SQRT((AF35-$BC$10)^2+(AG35-$BD$10)^2) -> 0.77420506 | AI35: =AH35/(2*$BC$3) -> 1.0000114 | AJ35: =AE35/AI35 -> 0.3087467 | AK35: =AJ35*COS(A35/180*PI()) -> 1.8913027e-17 | AL35: =AJ35*SIN(A35/180*PI()) -> 0.3087467 | AM35: =SQRT(AK35^2+AL35^2)+SQRT((AK35-$BC$10)^2+(AL35-$BD$10)^2) -> 0.774198 | AN35: =AM35/(2*$BC$3) -> 1.0000023 | AO35: =AJ35/AN35 -> 0.30874598 | AP35: =AO35*COS(A35/180*PI()) -> 1.8912983e-17 | AQ35: =AO35*SIN(A35/180*PI()) -> 0.30874598 | AR35: =SQRT(AP35^2+AQ35^2)+SQRT((AP35-$BC$10)^2+(AQ35-$BD$10)^2) -> 0.77419657 | AS35: =AR35/(2*$BC$3) -> 1.0000005 | AT35: =AO35/AS35 -> 0.30874583 | AU35: =AT35*COS(A35/180*PI()) -> 1.8912974e-17 | AV35: =AT35*SIN(A35/180*PI()) -> 0.30874583 | AW35: =SQRT(AU35^2+AV35^2)+SQRT((AU35-$BC$10)^2+(AV35-$BD$10)^2) -> 0.77419627 | AX35: =AW35/(2*$BC$3) -> 1.0000001 | AY35: =AT35-0.127 -> 0.18174583 | AZ35: =AY35-'Master Radiusverkleinerung'!G22/100 -> 0.18174583 | BA35: =SQRT((AU35-AU33)^2+(AV35-AV33)^2) -> 0.032282116
A36: 96 | B36: =BC$3*COS(A36/180*PI()) -> -0.04046277 | C36: =BC$3*SIN(A36/180*PI()) -> 0.38497754 | D36: =SQRT(B36^2+C36^2)+SQRT((B36-$BC$10)^2+(C36-$BD$10)^2) -> 0.92753129 | E36: =D36/(2*$BC$3) -> 1.1980571 | F36: =$BC$3/E36 -> 0.32310487 | G36: =F36*COS(A36/180*PI()) -> -0.033773656 | H36: =F36*SIN(A36/180*PI()) -> 0.32133487 | I36: =SQRT(G36^2+H36^2)+SQRT((G36-$BC$10)^2+(H36-$BD$10)^2) -> 0.79986327 | J36: =I36/(2*$BC$3) -> 1.0331532 | K36: =F36/J36 -> 0.31273666 | L36: =K36*COS(A36/180*PI()) -> -0.032689882 | M36: =K36*SIN(A36/180*PI()) -> 0.31102345 | N36: =SQRT(L36^2+M36^2)+SQRT((L36-$BC$10)^2+(M36-$BD$10)^2) -> 0.77918664 | O36: =N36/(2*$BC$3) -> 1.006446 | P36: =K36/O36 -> 0.31073368 | Q36: =P36*COS(A36/180*PI()) -> -0.032480514 | R36: =P36*SIN(A36/180*PI()) -> 0.30903145 | S36: =SQRT(Q36^2+R36^2)+SQRT((Q36-$BC$10)^2+(R36-$BD$10)^2) -> 0.77519254 | T36: =S36/(2*$BC$3) -> 1.0012869 | U36: =P36/T36 -> 0.3103343 | V36: =U36*COS(A36/180*PI()) -> -0.032438767 | W36: =U36*SIN(A36/180*PI()) -> 0.30863425 | X36: =SQRT(V36^2+W36^2)+SQRT((V36-$BC$10)^2+(W36-$BD$10)^2) -> 0.77439616 | Y36: =X36/(2*$BC$3) -> 1.0002583 | Z36: =U36/Y36 -> 0.31025417 | AA36: =Z36*COS(A36/180*PI()) -> -0.032430391 | AB36: =Z36*SIN(A36/180*PI()) -> 0.30855456 | AC36: =SQRT(AA36^2+AB36^2)+SQRT((AA36-$BC$10)^2+(AB36-$BD$10)^2) -> 0.77423637 | AD36: =AC36/(2*$BC$3) -> 1.0000519 | AE36: =Z36/AD36 -> 0.31023807 | AF36: =AE36*COS(A36/180*PI()) -> -0.032428709 | AG36: =AE36*SIN(A36/180*PI()) -> 0.30853855 | AH36: =SQRT(AF36^2+AG36^2)+SQRT((AF36-$BC$10)^2+(AG36-$BD$10)^2) -> 0.77420427 | AI36: =AH36/(2*$BC$3) -> 1.0000104 | AJ36: =AE36/AI36 -> 0.31023483 | AK36: =AJ36*COS(A36/180*PI()) -> -0.032428371 | AL36: =AJ36*SIN(A36/180*PI()) -> 0.30853534 | AM36: =SQRT(AK36^2+AL36^2)+SQRT((AK36-$BC$10)^2+(AL36-$BD$10)^2) -> 0.77419782 | AN36: =AM36/(2*$BC$3) -> 1.0000021 | AO36: =AJ36/AN36 -> 0.31023418 | AP36: =AO36*COS(A36/180*PI()) -> -0.032428303 | AQ36: =AO36*SIN(A36/180*PI()) -> 0.30853469 | AR36: =SQRT(AP36^2+AQ36^2)+SQRT((AP36-$BC$10)^2+(AQ36-$BD$10)^2) -> 0.77419653 | AS36: =AR36/(2*$BC$3) -> 1.0000004 | AT36: =AO36/AS36 -> 0.31023405 | AU36: =AT36*COS(A36/180*PI()) -> -0.032428289 | AV36: =AT36*SIN(A36/180*PI()) -> 0.30853456 | AW36: =SQRT(AU36^2+AV36^2)+SQRT((AU36-$BC$10)^2+(AV36-$BD$10)^2) -> 0.77419627 | AX36: =AW36/(2*$BC$3) -> 1.0000001 | AY36: =AT36-0.127 -> 0.18323405 | AZ36: =AY36-'Master Radiusverkleinerung'!G23/100 -> 0.18323405 | BA36: =SQRT((AU36-AU35)^2+(AV36-AV35)^2) -> 0.032428977
A37: 102 | B37: =BC$3*COS(A37/180*PI()) -> -0.08048222 | C37: =BC$3*SIN(A37/180*PI()) -> 0.37863908 | D37: =SQRT(B37^2+C37^2)+SQRT((B37-$BC$10)^2+(C37-$BD$10)^2) -> 0.92313448 | E37: =D37/(2*$BC$3) -> 1.192378 | F37: =$BC$3/E37 -> 0.32464379 | G37: =F37*COS(A37/180*PI()) -> -0.06749724 | H37: =F37*SIN(A37/180*PI()) -> 0.31754955 | I37: =SQRT(G37^2+H37^2)+SQRT((G37-$BC$10)^2+(H37-$BD$10)^2) -> 0.79876471 | J37: =I37/(2*$BC$3) -> 1.0317342 | K37: =F37/J37 -> 0.31465836 | L37: =K37*COS(A37/180*PI()) -> -0.065421151 | M37: =K37*SIN(A37/180*PI()) -> 0.30778232 | N37: =SQRT(L37^2+M37^2)+SQRT((L37-$BC$10)^2+(M37-$BD$10)^2) -> 0.77889337 | O37: =N37/(2*$BC$3) -> 1.0060672 | P37: =K37/O37 -> 0.31276079 | Q37: =P37*COS(A37/180*PI()) -> -0.065026624 | R37: =P37*SIN(A37/180*PI()) -> 0.30592621 | S37: =SQRT(Q37^2+R37^2)+SQRT((Q37-$BC$10)^2+(R37-$BD$10)^2) -> 0.77511763 | T37: =S37/(2*$BC$3) -> 1.0011902 | U37: =P37/T37 -> 0.31238899 | V37: =U37*COS(A37/180*PI()) -> -0.064949323 | W37: =U37*SIN(A37/180*PI()) -> 0.30556254 | X37: =SQRT(V37^2+W37^2)+SQRT((V37-$BC$10)^2+(W37-$BD$10)^2) -> 0.77437785 | Y37: =X37/(2*$BC$3) -> 1.0002346 | Z37: =U37/Y37 -> 0.31231571 | AA37: =Z37*COS(A37/180*PI()) -> -0.064934087 | AB37: =Z37*SIN(A37/180*PI()) -> 0.30549086 | AC37: =SQRT(AA37^2+AB37^2)+SQRT((AA37-$BC$10)^2+(AB37-$BD$10)^2) -> 0.77423205 | AD37: =AC37/(2*$BC$3) -> 1.0000463 | AE37: =Z37/AD37 -> 0.31230125 | AF37: =AE37*COS(A37/180*PI()) -> -0.06493108 | AG37: =AE37*SIN(A37/180*PI()) -> 0.30547672 | AH37: =SQRT(AF37^2+AG37^2)+SQRT((AF37-$BC$10)^2+(AG37-$BD$10)^2) -> 0.77420328 | AI37: =AH37/(2*$BC$3) -> 1.0000091 | AJ37: =AE37/AI37 -> 0.31229839 | AK37: =AJ37*COS(A37/180*PI()) -> -0.064930487 | AL37: =AJ37*SIN(A37/180*PI()) -> 0.30547392 | AM37: =SQRT(AK37^2+AL37^2)+SQRT((AK37-$BC$10)^2+(AL37-$BD$10)^2) -> 0.7741976 | AN37: =AM37/(2*$BC$3) -> 1.0000018 | AO37: =AJ37/AN37 -> 0.31229783 | AP37: =AO37*COS(A37/180*PI()) -> -0.06493037 | AQ37: =AO37*SIN(A37/180*PI()) -> 0.30547337 | AR37: =SQRT(AP37^2+AQ37^2)+SQRT((AP37-$BC$10)^2+(AQ37-$BD$10)^2) -> 0.77419648 | AS37: =AR37/(2*$BC$3) -> 1.0000004 | AT37: =AO37/AS37 -> 0.31229772 | AU37: =AT37*COS(A37/180*PI()) -> -0.064930347 | AV37: =AT37*SIN(A37/180*PI()) -> 0.30547326 | AW37: =SQRT(AU37^2+AV37^2)+SQRT((AU37-$BC$10)^2+(AV37-$BD$10)^2) -> 0.77419625 | AX37: =AW37/(2*$BC$3) -> 1.0000001 | AY37: =AT37-0.127 -> 0.18529772 | AZ37: =AY37-'Master Radiusverkleinerung'!G24/100 -> 0.18529772 | BA37: =SQRT((AU37-AU36)^2+(AV37-AV36)^2) -> 0.032645908
A38: 108 | B38: =BC$3*COS(A38/180*PI()) -> -0.11961989 | C38: =BC$3*SIN(A38/180*PI()) -> 0.36815217 | D38: =SQRT(B38^2+C38^2)+SQRT((B38-$BC$10)^2+(C38-$BD$10)^2) -> 0.91754443 | E38: =D38/(2*$BC$3) -> 1.1851575 | F38: =$BC$3/E38 -> 0.32662165 | G38: =F38*COS(A38/180*PI()) -> -0.10093164 | H38: =F38*SIN(A38/180*PI()) -> 0.31063565 | I38: =SQRT(G38^2+H38^2)+SQRT((G38-$BC$10)^2+(H38-$BD$10)^2) -> 0.79738852 | J38: =I38/(2*$BC$3) -> 1.0299566 | K38: =F38/J38 -> 0.31712175 | L38: =K38*COS(A38/180*PI()) -> -0.097996009 | M38: =K38*SIN(A38/180*PI()) -> 0.3016007 | N38: =SQRT(L38^2+M38^2)+SQRT((L38-$BC$10)^2+(M38-$BD$10)^2) -> 0.77853277 | O38: =N38/(2*$BC$3) -> 1.0056014 | P38: =K38/O38 -> 0.31535532 | Q38: =P38*COS(A38/180*PI()) -> -0.097450153 | R38: =P38*SIN(A38/180*PI()) -> 0.29992073 | S38: =SQRT(Q38^2+R38^2)+SQRT((Q38-$BC$10)^2+(R38-$BD$10)^2) -> 0.77502736 | T38: =S38/(2*$BC$3) -> 1.0010736 | U38: =P38/T38 -> 0.31501713 | V38: =U38*COS(A38/180*PI()) -> -0.097345646 | W38: =U38*SIN(A38/180*PI()) -> 0.29959909 | X38: =SQRT(V38^2+W38^2)+SQRT((V38-$BC$10)^2+(W38-$BD$10)^2) -> 0.77435625 | Y38: =X38/(2*$BC$3) -> 1.0002067 | Z38: =U38/Y38 -> 0.31495202 | AA38: =Z38*COS(A38/180*PI()) -> -0.097325526 | AB38: =Z38*SIN(A38/180*PI()) -> 0.29953717 | AC38: =SQRT(AA38^2+AB38^2)+SQRT((AA38-$BC$10)^2+(AB38-$BD$10)^2) -> 0.77422705 | AD38: =AC38/(2*$BC$3) -> 1.0000398 | AE38: =Z38/AD38 -> 0.31493947 | AF38: =AE38*COS(A38/180*PI()) -> -0.097321649 | AG38: =AE38*SIN(A38/180*PI()) -> 0.29952524 | AH38: =SQRT(AF38^2+AG38^2)+SQRT((AF38-$BC$10)^2+(AG38-$BD$10)^2) -> 0.77420215 | AI38: =AH38/(2*$BC$3) -> 1.0000077 | AJ38: =AE38/AI38 -> 0.31493705 | AK38: =AJ38*COS(A38/180*PI()) -> -0.097320901 | AL38: =AJ38*SIN(A38/180*PI()) -> 0.29952294 | AM38: =SQRT(AK38^2+AL38^2)+SQRT((AK38-$BC$10)^2+(AL38-$BD$10)^2) -> 0.77419735 | AN38: =AM38/(2*$BC$3) -> 1.0000015 | AO38: =AJ38/AN38 -> 0.31493659 | AP38: =AO38*COS(A38/180*PI()) -> -0.097320757 | AQ38: =AO38*SIN(A38/180*PI()) -> 0.29952249 | AR38: =SQRT(AP38^2+AQ38^2)+SQRT((AP38-$BC$10)^2+(AQ38-$BD$10)^2) -> 0.77419642 | AS38: =AR38/(2*$BC$3) -> 1.0000003 | AT38: =AO38/AS38 -> 0.3149365 | AU38: =AT38*COS(A38/180*PI()) -> -0.097320729 | AV38: =AT38*SIN(A38/180*PI()) -> 0.29952241 | AW38: =SQRT(AU38^2+AV38^2)+SQRT((AU38-$BC$10)^2+(AV38-$BD$10)^2) -> 0.77419624 | AX38: =AW38/(2*$BC$3) -> 1.0000001 | AY38: =AT38-0.127 -> 0.1879365 | AZ38: =AY38-'Master Radiusverkleinerung'!G25/100 -> 0.1879365 | BA38: =SQRT((AU38-AU37)^2+(AV38-AV37)^2) -> 0.032932501
A39: 114 | B39: =BC$3*COS(A39/180*PI()) -> -0.15744698 | C39: =BC$3*SIN(A39/180*PI()) -> 0.35363171 | D39: =SQRT(B39^2+C39^2)+SQRT((B39-$BC$10)^2+(C39-$BD$10)^2) -> 0.91078531 | E39: =D39/(2*$BC$3) -> 1.176427 | F39: =$BC$3/E39 -> 0.32904558 | G39: =F39*COS(A39/180*PI()) -> -0.13383489 | H39: =F39*SIN(A39/180*PI()) -> 0.30059809 | I39: =SQRT(G39^2+H39^2)+SQRT((G39-$BC$10)^2+(H39-$BD$10)^2) -> 0.79575654 | J39: =I39/(2*$BC$3) -> 1.0278487 | K39: =F39/J39 -> 0.32013037 | L39: =K39*COS(A39/180*PI()) -> -0.13020875 | M39: =K39*SIN(A39/180*PI()) -> 0.29245364 | N39: =SQRT(L39^2+M39^2)+SQRT((L39-$BC$10)^2+(M39-$BD$10)^2) -> 0.77811536 | O39: =N39/(2*$BC$3) -> 1.0050622 | P39: =K39/O39 -> 0.31851796 | Q39: =P39*COS(A39/180*PI()) -> -0.12955293 | R39: =P39*SIN(A39/180*PI()) -> 0.29098063 | S39: =SQRT(Q39^2+R39^2)+SQRT((Q39-$BC$10)^2+(R39-$BD$10)^2) -> 0.77492554 | T39: =S39/(2*$BC$3) -> 1.0009421 | U39: =P39/T39 -> 0.31821818 | V39: =U39*COS(A39/180*PI()) -> -0.12943099 | W39: =U39*SIN(A39/180*PI()) -> 0.29070677 | X39: =SQRT(V39^2+W39^2)+SQRT((V39-$BC$10)^2+(W39-$BD$10)^2) -> 0.77433251 | Y39: =X39/(2*$BC$3) -> 1.0001761 | Z39: =U39/Y39 -> 0.31816216 | AA39: =Z39*COS(A39/180*PI()) -> -0.12940821 | AB39: =Z39*SIN(A39/180*PI()) -> 0.29065559 | AC39: =SQRT(AA39^2+AB39^2)+SQRT((AA39-$BC$10)^2+(AB39-$BD$10)^2) -> 0.7742217 | AD39: =AC39/(2*$BC$3) -> 1.0000329 | AE39: =Z39/AD39 -> 0.31815168 | AF39: =AE39*COS(A39/180*PI()) -> -0.12940395 | AG39: =AE39*SIN(A39/180*PI()) -> 0.29064602 | AH39: =SQRT(AF39^2+AG39^2)+SQRT((AF39-$BC$10)^2+(AG39-$BD$10)^2) -> 0.77420097 | AI39: =AH39/(2*$BC$3) -> 1.0000062 | AJ39: =AE39/AI39 -> 0.31814972 | AK39: =AJ39*COS(A39/180*PI()) -> -0.12940315 | AL39: =AJ39*SIN(A39/180*PI()) -> 0.29064423 | AM39: =SQRT(AK39^2+AL39^2)+SQRT((AK39-$BC$10)^2+(AL39-$BD$10)^2) -> 0.77419709 | AN39: =AM39/(2*$BC$3) -> 1.0000012 | AO39: =AJ39/AN39 -> 0.31814935 | AP39: =AO39*COS(A39/180*PI()) -> -0.129403 | AQ39: =AO39*SIN(A39/180*PI()) -> 0.2906439 | AR39: =SQRT(AP39^2+AQ39^2)+SQRT((AP39-$BC$10)^2+(AQ39-$BD$10)^2) -> 0.77419637 | AS39: =AR39/(2*$BC$3) -> 1.0000002 | AT39: =AO39/AS39 -> 0.31814928 | AU39: =AT39*COS(A39/180*PI()) -> -0.12940297 | AV39: =AT39*SIN(A39/180*PI()) -> 0.29064383 | AW39: =SQRT(AU39^2+AV39^2)+SQRT((AU39-$BC$10)^2+(AV39-$BD$10)^2) -> 0.77419623 | AX39: =AW39/(2*$BC$3) -> 1 | AY39: =AT39-0.127 -> 0.19114928 | AZ39: =AY39-'Master Radiusverkleinerung'!G26/100 -> 0.19114928 | BA39: =SQRT((AU39-AU38)^2+(AV39-AV38)^2) -> 0.033288126
A41: 120 | B41: =BC$3*COS(A41/180*PI()) -> -0.19354905 | C41: =BC$3*SIN(A41/180*PI()) -> 0.33523679 | D41: =SQRT(B41^2+C41^2)+SQRT((B41-$BC$10)^2+(C41-$BD$10)^2) -> 0.90288681 | E41: =D41/(2*$BC$3) -> 1.1662248 | F41: =$BC$3/E41 -> 0.33192408 | G41: =F41*COS(A41/180*PI()) -> -0.16596204 | H41: =F41*SIN(A41/180*PI()) -> 0.28745469 | I41: =SQRT(G41^2+H41^2)+SQRT((G41-$BC$10)^2+(H41-$BD$10)^2) -> 0.79389622 | J41: =I41/(2*$BC$3) -> 1.0254458 | K41: =F41/J41 -> 0.3236876 | L41: =K41*COS(A41/180*PI()) -> -0.1618438 | M41: =K41*SIN(A41/180*PI()) -> 0.28032169 | N41: =SQRT(L41^2+M41^2)+SQRT((L41-$BC$10)^2+(M41-$BD$10)^2) -> 0.77765386 | O41: =N41/(2*$BC$3) -> 1.0044661 | P41: =K41/O41 -> 0.3222484 | Q41: =P41*COS(A41/180*PI()) -> -0.1611242 | R41: =P41*SIN(A41/180*PI()) -> 0.2790753 | S41: =SQRT(Q41^2+R41^2)+SQRT((Q41-$BC$10)^2+(R41-$BD$10)^2) -> 0.7748166 | T41: =S41/(2*$BC$3) -> 1.0008013 | U41: =P41/T41 -> 0.32199038 | V41: =U41*COS(A41/180*PI()) -> -0.16099519 | W41: =U41*SIN(A41/180*PI()) -> 0.27885184 | X41: =SQRT(V41^2+W41^2)+SQRT((V41-$BC$10)^2+(W41-$BD$10)^2) -> 0.77430795 | Y41: =X41/(2*$BC$3) -> 1.0001443 | Z41: =U41/Y41 -> 0.3219439 | AA41: =Z41*COS(A41/180*PI()) -> -0.16097195 | AB41: =Z41*SIN(A41/180*PI()) -> 0.2788116 | AC41: =SQRT(AA41^2+AB41^2)+SQRT((AA41-$BC$10)^2+(AB41-$BD$10)^2) -> 0.77421634 | AD41: =AC41/(2*$BC$3) -> 1.000026 | AE41: =Z41/AD41 -> 0.32193553 | AF41: =AE41*COS(A41/180*PI()) -> -0.16096776 | AG41: =AE41*SIN(A41/180*PI()) -> 0.27880435 | AH41: =SQRT(AF41^2+AG41^2)+SQRT((AF41-$BC$10)^2+(AG41-$BD$10)^2) -> 0.77419983 | AI41: =AH41/(2*$BC$3) -> 1.0000047 | AJ41: =AE41/AI41 -> 0.32193402 | AK41: =AJ41*COS(A41/180*PI()) -> -0.16096701 | AL41: =AJ41*SIN(A41/180*PI()) -> 0.27880304 | AM41: =SQRT(AK41^2+AL41^2)+SQRT((AK41-$BC$10)^2+(AL41-$BD$10)^2) -> 0.77419685 | AN41: =AM41/(2*$BC$3) -> 1.0000008 | AO41: =AJ41/AN41 -> 0.32193375 | AP41: =AO41*COS(A41/180*PI()) -> -0.16096687 | AQ41: =AO41*SIN(A41/180*PI()) -> 0.2788028 | AR41: =SQRT(AP41^2+AQ41^2)+SQRT((AP41-$BC$10)^2+(AQ41-$BD$10)^2) -> 0.77419632 | AS41: =AR41/(2*$BC$3) -> 1.0000002 | AT41: =AO41/AS41 -> 0.3219337 | AU41: =AT41*COS(A41/180*PI()) -> -0.16096685 | AV41: =AT41*SIN(A41/180*PI()) -> 0.27880276 | AW41: =SQRT(AU41^2+AV41^2)+SQRT((AU41-$BC$10)^2+(AV41-$BD$10)^2) -> 0.77419622 | AX41: =AW41/(2*$BC$3) -> 1 | AY41: =AT41-0.127 -> 0.1949337 | AZ41: =AY41-'Master Radiusverkleinerung'!G27/100 -> 0.1949337 | BA41: =SQRT((AU41-AU39)^2+(AV41-AV39)^2) -> 0.033711857
A42: 126 | B42: =BC$3*COS(A42/180*PI()) -> -0.22753055 | C42: =BC$3*SIN(A42/180*PI()) -> 0.31316894 | D42: =SQRT(B42^2+C42^2)+SQRT((B42-$BC$10)^2+(C42-$BD$10)^2) -> 0.89388443 | E42: =D42/(2*$BC$3) -> 1.1545968 | F42: =$BC$3/E42 -> 0.33526692 | G42: =F42*COS(A42/180*PI()) -> -0.19706495 | H42: =F42*SIN(A42/180*PI()) -> 0.27123664 | I42: =SQRT(G42^2+H42^2)+SQRT((G42-$BC$10)^2+(H42-$BD$10)^2) -> 0.79184118 | J42: =I42/(2*$BC$3) -> 1.0227914 | K42: =F42/J42 -> 0.327796 | L42: =K42*COS(A42/180*PI()) -> -0.19267366 | M42: =K42*SIN(A42/180*PI()) -> 0.26519254 | N42: =SQRT(L42^2+M42^2)+SQRT((L42-$BC$10)^2+(M42-$BD$10)^2) -> 0.77716305 | O42: =N42/(2*$BC$3) -> 1.0038322 | P42: =K42/O42 -> 0.32654463 | Q42: =P42*COS(A42/180*PI()) -> -0.19193812 | R42: =P42*SIN(A42/180*PI()) -> 0.26418015 | S42: =SQRT(Q42^2+R42^2)+SQRT((Q42-$BC$10)^2+(R42-$BD$10)^2) -> 0.77470532 | T42: =S42/(2*$BC$3) -> 1.0006576 | U42: =P42/T42 -> 0.32633003 | V42: =U42*COS(A42/180*PI()) -> -0.19181198 | W42: =U42*SIN(A42/180*PI()) -> 0.26400654 | X42: =SQRT(V42^2+W42^2)+SQRT((V42-$BC$10)^2+(W42-$BD$10)^2) -> 0.77428387 | Y42: =X42/(2*$BC$3) -> 1.0001132 | Z42: =U42/Y42 -> 0.32629309 | AA42: =Z42*COS(A42/180*PI()) -> -0.19179026 | AB42: =Z42*SIN(A42/180*PI()) -> 0.26397665 | AC42: =SQRT(AA42^2+AB42^2)+SQRT((AA42-$BC$10)^2+(AB42-$BD$10)^2) -> 0.7742113 | AD42: =AC42/(2*$BC$3) -> 1.0000195 | AE42: =Z42/AD42 -> 0.32628672 | AF42: =AE42*COS(A42/180*PI()) -> -0.19178652 | AG42: =AE42*SIN(A42/180*PI()) -> 0.2639715 | AH42: =SQRT(AF42^2+AG42^2)+SQRT((AF42-$BC$10)^2+(AG42-$BD$10)^2) -> 0.7741988 | AI42: =AH42/(2*$BC$3) -> 1.0000034 | AJ42: =AE42/AI42 -> 0.32628562 | AK42: =AJ42*COS(A42/180*PI()) -> -0.19178588 | AL42: =AJ42*SIN(A42/180*PI()) -> 0.26397061 | AM42: =SQRT(AK42^2+AL42^2)+SQRT((AK42-$BC$10)^2+(AL42-$BD$10)^2) -> 0.77419665 | AN42: =AM42/(2*$BC$3) -> 1.0000006 | AO42: =AJ42/AN42 -> 0.32628543 | AP42: =AO42*COS(A42/180*PI()) -> -0.19178577 | AQ42: =AO42*SIN(A42/180*PI()) -> 0.26397046 | AR42: =SQRT(AP42^2+AQ42^2)+SQRT((AP42-$BC$10)^2+(AQ42-$BD$10)^2) -> 0.77419628 | AS42: =AR42/(2*$BC$3) -> 1.0000001 | AT42: =AO42/AS42 -> 0.3262854 | AU42: =AT42*COS(A42/180*PI()) -> -0.19178575 | AV42: =AT42*SIN(A42/180*PI()) -> 0.26397043 | AW42: =SQRT(AU42^2+AV42^2)+SQRT((AU42-$BC$10)^2+(AV42-$BD$10)^2) -> 0.77419621 | AX42: =AW42/(2*$BC$3) -> 1 | AY42: =AT42-0.127 -> 0.1992854 | AZ42: =AY42-'Master Radiusverkleinerung'!G28/100 -> 0.1992854 | BA42: =SQRT((AU42-AU41)^2+(AV42-AV41)^2) -> 0.034202374
A43: 132 | B43: =BC$3*COS(A43/180*PI()) -> -0.25901919 | C43: =BC$3*SIN(A43/180*PI()) -> 0.28766995 | D43: =SQRT(B43^2+C43^2)+SQRT((B43-$BC$10)^2+(C43-$BD$10)^2) -> 0.88381965 | E43: =D43/(2*$BC$3) -> 1.1415965 | F43: =$BC$3/E43 -> 0.33908488 | G43: =F43*COS(A43/180*PI()) -> -0.22689207 | H43: =F43*SIN(A43/180*PI()) -> 0.25198917 | I43: =SQRT(G43^2+H43^2)+SQRT((G43-$BC$10)^2+(H43-$BD$10)^2) -> 0.78963187 | J43: =I43/(2*$BC$3) -> 1.0199377 | K43: =F43/J43 -> 0.33245647 | L43: =K43*COS(A43/180*PI()) -> -0.2224568 | M43: =K43*SIN(A43/180*PI()) -> 0.2470633 | N43: =SQRT(L43^2+M43^2)+SQRT((L43-$BC$10)^2+(M43-$BD$10)^2) -> 0.77665952 | O43: =N43/(2*$BC$3) -> 1.0031818 | P43: =K43/O43 -> 0.33140202 | Q43: =P43*COS(A43/180*PI()) -> -0.22175124 | R43: =P43*SIN(A43/180*PI()) -> 0.2462797 | S43: =SQRT(Q43^2+R43^2)+SQRT((Q43-$BC$10)^2+(R43-$BD$10)^2) -> 0.77459664 | T43: =S43/(2*$BC$3) -> 1.0005172 | U43: =P43/T43 -> 0.3312307 | V43: =U43*COS(A43/180*PI()) -> -0.2216366 | W43: =U43*SIN(A43/180*PI()) -> 0.24615238 | X43: =SQRT(V43^2+W43^2)+SQRT((V43-$BC$10)^2+(W43-$BD$10)^2) -> 0.77426149 | Y43: =X43/(2*$BC$3) -> 1.0000843 | Z43: =U43/Y43 -> 0.33120277 | AA43: =Z43*COS(A43/180*PI()) -> -0.22161791 | AB43: =Z43*SIN(A43/180*PI()) -> 0.24613162 | AC43: =SQRT(AA43^2+AB43^2)+SQRT((AA43-$BC$10)^2+(AB43-$BD$10)^2) -> 0.77420685 | AD43: =AC43/(2*$BC$3) -> 1.0000138 | AE43: =Z43/AD43 -> 0.33119821 | AF43: =AE43*COS(A43/180*PI()) -> -0.22161486 | AG43: =AE43*SIN(A43/180*PI()) -> 0.24612824 | AH43: =SQRT(AF43^2+AG43^2)+SQRT((AF43-$BC$10)^2+(AG43-$BD$10)^2) -> 0.77419794 | AI43: =AH43/(2*$BC$3) -> 1.0000022 | AJ43: =AE43/AI43 -> 0.33119747 | AK43: =AJ43*COS(A43/180*PI()) -> -0.22161436 | AL43: =AJ43*SIN(A43/180*PI()) -> 0.24612768 | AM43: =SQRT(AK43^2+AL43^2)+SQRT((AK43-$BC$10)^2+(AL43-$BD$10)^2) -> 0.77419648 | AN43: =AM43/(2*$BC$3) -> 1.0000004 | AO43: =AJ43/AN43 -> 0.33119735 | AP43: =AO43*COS(A43/180*PI()) -> -0.22161428 | AQ43: =AO43*SIN(A43/180*PI()) -> 0.24612759 | AR43: =SQRT(AP43^2+AQ43^2)+SQRT((AP43-$BC$10)^2+(AQ43-$BD$10)^2) -> 0.77419625 | AS43: =AR43/(2*$BC$3) -> 1.0000001 | AT43: =AO43/AS43 -> 0.33119733 | AU43: =AT43*COS(A43/180*PI()) -> -0.22161427 | AV43: =AT43*SIN(A43/180*PI()) -> 0.24612758 | AW43: =SQRT(AU43^2+AV43^2)+SQRT((AU43-$BC$10)^2+(AV43-$BD$10)^2) -> 0.77419621 | AX43: =AW43/(2*$BC$3) -> 1 | AY43: =AT43-0.127 -> 0.20419733 | AZ43: =AY43-'Master Radiusverkleinerung'!G29/100 -> 0.20419733 | BA43: =SQRT((AU43-AU42)^2+(AV43-AV42)^2) -> 0.03475785
A44: 138 | B44: =BC$3*COS(A44/180*PI()) -> -0.28766995 | C44: =BC$3*SIN(A44/180*PI()) -> 0.25901919 | D44: =SQRT(B44^2+C44^2)+SQRT((B44-$BC$10)^2+(C44-$BD$10)^2) -> 0.87274038 | E44: =D44/(2*$BC$3) -> 1.1272858 | F44: =$BC$3/E44 -> 0.3433895 | G44: =F44*COS(A44/180*PI()) -> -0.25518813 | H44: =F44*SIN(A44/180*PI()) -> 0.22977242 | I44: =SQRT(G44^2+H44^2)+SQRT((G44-$BC$10)^2+(H44-$BD$10)^2) -> 0.78731627 | J44: =I44/(2*$BC$3) -> 1.0169467 | K44: =F44/J44 -> 0.33766715 | L44: =K44*COS(A44/180*PI()) -> -0.2509356 | M44: =K44*SIN(A44/180*PI()) -> 0.22594343 | N44: =SQRT(L44^2+M44^2)+SQRT((L44-$BC$10)^2+(M44-$BD$10)^2) -> 0.77616126 | O44: =N44/(2*$BC$3) -> 1.0025382 | P44: =K44/O44 -> 0.33681226 | Q44: =P44*COS(A44/180*PI()) -> -0.25030029 | R44: =P44*SIN(A44/180*PI()) -> 0.22537139 | S44: =SQRT(Q44^2+R44^2)+SQRT((Q44-$BC$10)^2+(R44-$BD$10)^2) -> 0.77449538 | T44: =S44/(2*$BC$3) -> 1.0003864 | U44: =P44/T44 -> 0.33668215 | V44: =U44*COS(A44/180*PI()) -> -0.2502036 | W44: =U44*SIN(A44/180*PI()) -> 0.22528433 | X44: =SQRT(V44^2+W44^2)+SQRT((V44-$BC$10)^2+(W44-$BD$10)^2) -> 0.77424186 | Y44: =X44/(2*$BC$3) -> 1.000059 | Z44: =U44/Y44 -> 0.33666229 | AA44: =Z44*COS(A44/180*PI()) -> -0.25018884 | AB44: =Z44*SIN(A44/180*PI()) -> 0.22527104 | AC44: =SQRT(AA44^2+AB44^2)+SQRT((AA44-$BC$10)^2+(AB44-$BD$10)^2) -> 0.77420317 | AD44: =AC44/(2*$BC$3) -> 1.000009 | AE44: =Z44/AD44 -> 0.33665926 | AF44: =AE44*COS(A44/180*PI()) -> -0.25018659 | AG44: =AE44*SIN(A44/180*PI()) -> 0.22526901 | AH44: =SQRT(AF44^2+AG44^2)+SQRT((AF44-$BC$10)^2+(AG44-$BD$10)^2) -> 0.77419726 | AI44: =AH44/(2*$BC$3) -> 1.0000014 | AJ44: =AE44/AI44 -> 0.3366588 | AK44: =AJ44*COS(A44/180*PI()) -> -0.25018624 | AL44: =AJ44*SIN(A44/180*PI()) -> 0.2252687 | AM44: =SQRT(AK44^2+AL44^2)+SQRT((AK44-$BC$10)^2+(AL44-$BD$10)^2) -> 0.77419636 | AN44: =AM44/(2*$BC$3) -> 1.0000002 | AO44: =AJ44/AN44 -> 0.33665873 | AP44: =AO44*COS(A44/180*PI()) -> -0.25018619 | AQ44: =AO44*SIN(A44/180*PI()) -> 0.22526866 | AR44: =SQRT(AP44^2+AQ44^2)+SQRT((AP44-$BC$10)^2+(AQ44-$BD$10)^2) -> 0.77419622 | AS44: =AR44/(2*$BC$3) -> 1 | AT44: =AO44/AS44 -> 0.33665872 | AU44: =AT44*COS(A44/180*PI()) -> -0.25018618 | AV44: =AT44*SIN(A44/180*PI()) -> 0.22526865 | AW44: =SQRT(AU44^2+AV44^2)+SQRT((AU44-$BC$10)^2+(AV44-$BD$10)^2) -> 0.7741962 | AX44: =AW44/(2*$BC$3) -> 1 | AY44: =AT44-0.127 -> 0.20965872 | AZ44: =AY44-'Master Radiusverkleinerung'!G30/100 -> 0.20965872 | BA44: =SQRT((AU44-AU43)^2+(AV44-AV43)^2) -> 0.035375828
A45: 144 | B45: =BC$3*COS(A45/180*PI()) -> -0.31316894 | C45: =BC$3*SIN(A45/180*PI()) -> 0.22753055 | D45: =SQRT(B45^2+C45^2)+SQRT((B45-$BC$10)^2+(C45-$BD$10)^2) -> 0.86070129 | E45: =D45/(2*$BC$3) -> 1.1117354 | F45: =$BC$3/E45 -> 0.34819267 | G45: =F45*COS(A45/180*PI()) -> -0.28169378 | H45: =F45*SIN(A45/180*PI()) -> 0.20466251 | I45: =SQRT(G45^2+H45^2)+SQRT((G45-$BC$10)^2+(H45-$BD$10)^2) -> 0.78495076 | J45: =I45/(2*$BC$3) -> 1.0138913 | K45: =F45/J45 -> 0.3434221 | L45: =K45*COS(A45/180*PI()) -> -0.27783432 | M45: =K45*SIN(A45/180*PI()) -> 0.20185845 | N45: =SQRT(L45^2+M45^2)+SQRT((L45-$BC$10)^2+(M45-$BD$10)^2) -> 0.77568712 | O45: =N45/(2*$BC$3) -> 1.0019258 | P45: =K45/O45 -> 0.34276202 | Q45: =P45*COS(A45/180*PI()) -> -0.2773003 | R45: =P45*SIN(A45/180*PI()) -> 0.20147046 | S45: =SQRT(Q45^2+R45^2)+SQRT((Q45-$BC$10)^2+(R45-$BD$10)^2) -> 0.77440583 | T45: =S45/(2*$BC$3) -> 1.0002708 | U45: =P45/T45 -> 0.34266924 | V45: =U45*COS(A45/180*PI()) -> -0.27722524 | W45: =U45*SIN(A45/180*PI()) -> 0.20141593 | X45: =SQRT(V45^2+W45^2)+SQRT((V45-$BC$10)^2+(W45-$BD$10)^2) -> 0.77422573 | Y45: =X45/(2*$BC$3) -> 1.0000381 | Z45: =U45/Y45 -> 0.34265617 | AA45: =Z45*COS(A45/180*PI()) -> -0.27721466 | AB45: =Z45*SIN(A45/180*PI()) -> 0.20140824 | AC45: =SQRT(AA45^2+AB45^2)+SQRT((AA45-$BC$10)^2+(AB45-$BD$10)^2) -> 0.77420036 | AD45: =AC45/(2*$BC$3) -> 1.0000054 | AE45: =Z45/AD45 -> 0.34265433 | AF45: =AE45*COS(A45/180*PI()) -> -0.27721317 | AG45: =AE45*SIN(A45/180*PI()) -> 0.20140716 | AH45: =SQRT(AF45^2+AG45^2)+SQRT((AF45-$BC$10)^2+(AG45-$BD$10)^2) -> 0.77419679 | AI45: =AH45/(2*$BC$3) -> 1.0000008 | AJ45: =AE45/AI45 -> 0.34265407 | AK45: =AJ45*COS(A45/180*PI()) -> -0.27721296 | AL45: =AJ45*SIN(A45/180*PI()) -> 0.20140701 | AM45: =SQRT(AK45^2+AL45^2)+SQRT((AK45-$BC$10)^2+(AL45-$BD$10)^2) -> 0.77419628 | AN45: =AM45/(2*$BC$3) -> 1.0000001 | AO45: =AJ45/AN45 -> 0.34265403 | AP45: =AO45*COS(A45/180*PI()) -> -0.27721293 | AQ45: =AO45*SIN(A45/180*PI()) -> 0.20140699 | AR45: =SQRT(AP45^2+AQ45^2)+SQRT((AP45-$BC$10)^2+(AQ45-$BD$10)^2) -> 0.77419621 | AS45: =AR45/(2*$BC$3) -> 1 | AT45: =AO45/AS45 -> 0.34265403 | AU45: =AT45*COS(A45/180*PI()) -> -0.27721293 | AV45: =AT45*SIN(A45/180*PI()) -> 0.20140698 | AW45: =SQRT(AU45^2+AV45^2)+SQRT((AU45-$BC$10)^2+(AV45-$BD$10)^2) -> 0.7741962 | AX45: =AW45/(2*$BC$3) -> 1 | AY45: =AT45-0.127 -> 0.21565403 | AZ45: =AY45-'Master Radiusverkleinerung'!G31/100 -> 0.21565403 | BA45: =SQRT((AU45-AU44)^2+(AV45-AV44)^2) -> 0.036053076
A47: 150 | B47: =BC$3*COS(A47/180*PI()) -> -0.33523679 | C47: =BC$3*SIN(A47/180*PI()) -> 0.19354905 | D47: =SQRT(B47^2+C47^2)+SQRT((B47-$BC$10)^2+(C47-$BD$10)^2) -> 0.84776448 | E47: =D47/(2*$BC$3) -> 1.0950254 | F47: =$BC$3/E47 -> 0.35350605 | G47: =F47*COS(A47/180*PI()) -> -0.30614522 | H47: =F47*SIN(A47/180*PI()) -> 0.17675303 | I47: =SQRT(G47^2+H47^2)+SQRT((G47-$BC$10)^2+(H47-$BD$10)^2) -> 0.782601 | J47: =I47/(2*$BC$3) -> 1.0108562 | K47: =F47/J47 -> 0.34970955 | L47: =K47*COS(A47/180*PI()) -> -0.30285735 | M47: =K47*SIN(A47/180*PI()) -> 0.17485477 | N47: =SQRT(L47^2+M47^2)+SQRT((L47-$BC$10)^2+(M47-$BD$10)^2) -> 0.77525582 | O47: =N47/(2*$BC$3) -> 1.0013687 | P47: =K47/O47 -> 0.34923157 | Q47: =P47*COS(A47/180*PI()) -> -0.30244341 | R47: =P47*SIN(A47/180*PI()) -> 0.17461578 | S47: =SQRT(Q47^2+R47^2)+SQRT((Q47-$BC$10)^2+(R47-$BD$10)^2) -> 0.77433136 | T47: =S47/(2*$BC$3) -> 1.0001746 | U47: =P47/T47 -> 0.34917061 | V47: =U47*COS(A47/180*PI()) -> -0.30239062 | W47: =U47*SIN(A47/180*PI()) -> 0.1745853 | X47: =SQRT(V47^2+W47^2)+SQRT((V47-$BC$10)^2+(W47-$BD$10)^2) -> 0.77421347 | Y47: =X47/(2*$BC$3) -> 1.0000223 | Z47: =U47/Y47 -> 0.34916282 | AA47: =Z47*COS(A47/180*PI()) -> -0.30238387 | AB47: =Z47*SIN(A47/180*PI()) -> 0.17458141 | AC47: =SQRT(AA47^2+AB47^2)+SQRT((AA47-$BC$10)^2+(AB47-$BD$10)^2) -> 0.77419841 | AD47: =AC47/(2*$BC$3) -> 1.0000028 | AE47: =Z47/AD47 -> 0.34916183 | AF47: =AE47*COS(A47/180*PI()) -> -0.30238301 | AG47: =AE47*SIN(A47/180*PI()) -> 0.17458091 | AH47: =SQRT(AF47^2+AG47^2)+SQRT((AF47-$BC$10)^2+(AG47-$BD$10)^2) -> 0.77419648 | AI47: =AH47/(2*$BC$3) -> 1.0000004 | AJ47: =AE47/AI47 -> 0.3491617 | AK47: =AJ47*COS(A47/180*PI()) -> -0.3023829 | AL47: =AJ47*SIN(A47/180*PI()) -> 0.17458085 | AM47: =SQRT(AK47^2+AL47^2)+SQRT((AK47-$BC$10)^2+(AL47-$BD$10)^2) -> 0.77419624 | AN47: =AM47/(2*$BC$3) -> 1 | AO47: =AJ47/AN47 -> 0.34916168 | AP47: =AO47*COS(A47/180*PI()) -> -0.30238289 | AQ47: =AO47*SIN(A47/180*PI()) -> 0.17458084 | AR47: =SQRT(AP47^2+AQ47^2)+SQRT((AP47-$BC$10)^2+(AQ47-$BD$10)^2) -> 0.7741962 | AS47: =AR47/(2*$BC$3) -> 1 | AT47: =AO47/AS47 -> 0.34916168 | AU47: =AT47*COS(A47/180*PI()) -> -0.30238289 | AV47: =AT47*SIN(A47/180*PI()) -> 0.17458084 | AW47: =SQRT(AU47^2+AV47^2)+SQRT((AU47-$BC$10)^2+(AV47-$BD$10)^2) -> 0.7741962 | AX47: =AW47/(2*$BC$3) -> 1 | AY47: =AT47-0.127 -> 0.22216168 | AZ47: =AY47-'Master Radiusverkleinerung'!G32/100 -> 0.22216168 | BA47: =SQRT((AU47-AU45)^2+(AV47-AV45)^2) -> 0.03678544
A48: 156 | B48: =BC$3*COS(A48/180*PI()) -> -0.35363171 | C48: =BC$3*SIN(A48/180*PI()) -> 0.15744698 | D48: =SQRT(B48^2+C48^2)+SQRT((B48-$BC$10)^2+(C48-$BD$10)^2) -> 0.83400015 | E48: =D48/(2*$BC$3) -> 1.0772465 | F48: =$BC$3/E48 -> 0.35934032 | G48: =F48*COS(A48/180*PI()) -> -0.32827371 | H48: =F48*SIN(A48/180*PI()) -> 0.14615687 | I48: =SQRT(G48^2+H48^2)+SQRT((G48-$BC$10)^2+(H48-$BD$10)^2) -> 0.78034278 | J48: =I48/(2*$BC$3) -> 1.0079393 | K48: =F48/J48 -> 0.35650988 | L48: =K48*COS(A48/180*PI()) -> -0.32568798 | M48: =K48*SIN(A48/180*PI()) -> 0.14500563 | N48: =SQRT(L48^2+M48^2)+SQRT((L48-$BC$10)^2+(M48-$BD$10)^2) -> 0.77488477 | O48: =N48/(2*$BC$3) -> 1.0008894 | P48: =K48/O48 -> 0.35619308 | Q48: =P48*COS(A48/180*PI()) -> -0.32539857 | R48: =P48*SIN(A48/180*PI()) -> 0.14487678 | S48: =SQRT(Q48^2+R48^2)+SQRT((Q48-$BC$10)^2+(R48-$BD$10)^2) -> 0.77427404 | T48: =S48/(2*$BC$3) -> 1.0001005 | U48: =P48/T48 -> 0.35615727 | V48: =U48*COS(A48/180*PI()) -> -0.32536585 | W48: =U48*SIN(A48/180*PI()) -> 0.14486221 | X48: =SQRT(V48^2+W48^2)+SQRT((V48-$BC$10)^2+(W48-$BD$10)^2) -> 0.77420501 | Y48: =X48/(2*$BC$3) -> 1.0000114 | Z48: =U48/Y48 -> 0.35615321 | AA48: =Z48*COS(A48/180*PI()) -> -0.32536215 | AB48: =Z48*SIN(A48/180*PI()) -> 0.14486056 | AC48: =SQRT(AA48^2+AB48^2)+SQRT((AA48-$BC$10)^2+(AB48-$BD$10)^2) -> 0.7741972 | AD48: =AC48/(2*$BC$3) -> 1.0000013 | AE48: =Z48/AD48 -> 0.35615276 | AF48: =AE48*COS(A48/180*PI()) -> -0.32536173 | AG48: =AE48*SIN(A48/180*PI()) -> 0.14486038 | AH48: =SQRT(AF48^2+AG48^2)+SQRT((AF48-$BC$10)^2+(AG48-$BD$10)^2) -> 0.77419631 | AI48: =AH48/(2*$BC$3) -> 1.0000001 | AJ48: =AE48/AI48 -> 0.3561527 | AK48: =AJ48*COS(A48/180*PI()) -> -0.32536168 | AL48: =AJ48*SIN(A48/180*PI()) -> 0.14486036 | AM48: =SQRT(AK48^2+AL48^2)+SQRT((AK48-$BC$10)^2+(AL48-$BD$10)^2) -> 0.77419621 | AN48: =AM48/(2*$BC$3) -> 1 | AO48: =AJ48/AN48 -> 0.3561527 | AP48: =AO48*COS(A48/180*PI()) -> -0.32536168 | AQ48: =AO48*SIN(A48/180*PI()) -> 0.14486035 | AR48: =SQRT(AP48^2+AQ48^2)+SQRT((AP48-$BC$10)^2+(AQ48-$BD$10)^2) -> 0.7741962 | AS48: =AR48/(2*$BC$3) -> 1 | AT48: =AO48/AS48 -> 0.3561527 | AU48: =AT48*COS(A48/180*PI()) -> -0.32536168 | AV48: =AT48*SIN(A48/180*PI()) -> 0.14486035 | AW48: =SQRT(AU48^2+AV48^2)+SQRT((AU48-$BC$10)^2+(AV48-$BD$10)^2) -> 0.7741962 | AX48: =AW48/(2*$BC$3) -> 1 | AY48: =AT48-0.127 -> 0.2291527 | AZ48: =AY48-'Master Radiusverkleinerung'!G33/100 -> 0.2291527 | BA48: =SQRT((AU48-AU47)^2+(AV48-AV47)^2) -> 0.037567703
A49: 162 | B49: =BC$3*COS(A49/180*PI()) -> -0.36815217 | C49: =BC$3*SIN(A49/180*PI()) -> 0.11961989 | D49: =SQRT(B49^2+C49^2)+SQRT((B49-$BC$10)^2+(C49-$BD$10)^2) -> 0.81948754 | E49: =D49/(2*$BC$3) -> 1.0585011 | F49: =$BC$3/E49 -> 0.36570401 | G49: =F49*COS(A49/180*PI()) -> -0.34780518 | H49: =F49*SIN(A49/180*PI()) -> 0.11300875 | I49: =SQRT(G49^2+H49^2)+SQRT((G49-$BC$10)^2+(H49-$BD$10)^2) -> 0.77826276 | J49: =I49/(2*$BC$3) -> 1.0052526 | K49: =F49/J49 -> 0.36379314 | L49: =K49*COS(A49/180*PI()) -> -0.34598784 | M49: =K49*SIN(A49/180*PI()) -> 0.11241826 | N49: =SQRT(L49^2+M49^2)+SQRT((L49-$BC$10)^2+(M49-$BD$10)^2) -> 0.7745883 | O49: =N49/(2*$BC$3) -> 1.0005065 | P49: =K49/O49 -> 0.36360899 | Q49: =P49*COS(A49/180*PI()) -> -0.3458127 | R49: =P49*SIN(A49/180*PI()) -> 0.11236136 | S49: =SQRT(Q49^2+R49^2)+SQRT((Q49-$BC$10)^2+(R49-$BD$10)^2) -> 0.77423425 | T49: =S49/(2*$BC$3) -> 1.0000492 | U49: =P49/T49 -> 0.36359112 | V49: =U49*COS(A49/180*PI()) -> -0.3457957 | W49: =U49*SIN(A49/180*PI()) -> 0.11235583 | X49: =SQRT(V49^2+W49^2)+SQRT((V49-$BC$10)^2+(W49-$BD$10)^2) -> 0.7741999 | Y49: =X49/(2*$BC$3) -> 1.0000048 | Z49: =U49/Y49 -> 0.36358938 | AA49: =Z49*COS(A49/180*PI()) -> -0.34579405 | AB49: =Z49*SIN(A49/180*PI()) -> 0.1123553 | AC49: =SQRT(AA49^2+AB49^2)+SQRT((AA49-$BC$10)^2+(AB49-$BD$10)^2) -> 0.77419656 | AD49: =AC49/(2*$BC$3) -> 1.0000005 | AE49: =Z49/AD49 -> 0.36358921 | AF49: =AE49*COS(A49/180*PI()) -> -0.34579389 | AG49: =AE49*SIN(A49/180*PI()) -> 0.11235525 | AH49: =SQRT(AF49^2+AG49^2)+SQRT((AF49-$BC$10)^2+(AG49-$BD$10)^2) -> 0.77419623 | AI49: =AH49/(2*$BC$3) -> 1 | AJ49: =AE49/AI49 -> 0.3635892 | AK49: =AJ49*COS(A49/180*PI()) -> -0.34579388 | AL49: =AJ49*SIN(A49/180*PI()) -> 0.11235524 | AM49: =SQRT(AK49^2+AL49^2)+SQRT((AK49-$BC$10)^2+(AL49-$BD$10)^2) -> 0.7741962 | AN49: =AM49/(2*$BC$3) -> 1 | AO49: =AJ49/AN49 -> 0.3635892 | AP49: =AO49*COS(A49/180*PI()) -> -0.34579387 | AQ49: =AO49*SIN(A49/180*PI()) -> 0.11235524 | AR49: =SQRT(AP49^2+AQ49^2)+SQRT((AP49-$BC$10)^2+(AQ49-$BD$10)^2) -> 0.7741962 | AS49: =AR49/(2*$BC$3) -> 1 | AT49: =AO49/AS49 -> 0.3635892 | AU49: =AT49*COS(A49/180*PI()) -> -0.34579387 | AV49: =AT49*SIN(A49/180*PI()) -> 0.11235524 | AW49: =SQRT(AU49^2+AV49^2)+SQRT((AU49-$BC$10)^2+(AV49-$BD$10)^2) -> 0.7741962 | AX49: =AW49/(2*$BC$3) -> 1 | AY49: =AT49-0.127 -> 0.2365892 | AZ49: =AY49-'Master Radiusverkleinerung'!G34/100 -> 0.2365892 | BA49: =SQRT((AU49-AU48)^2+(AV49-AV48)^2) -> 0.038393449
A50: 168 | B50: =BC$3*COS(A50/180*PI()) -> -0.37863908 | C50: =BC$3*SIN(A50/180*PI()) -> 0.08048222 | D50: =SQRT(B50^2+C50^2)+SQRT((B50-$BC$10)^2+(C50-$BD$10)^2) -> 0.80431612 | E50: =D50/(2*$BC$3) -> 1.0389048 | F50: =$BC$3/E50 -> 0.3726021 | G50: =F50*COS(A50/180*PI()) -> -0.36445985 | H50: =F50*SIN(A50/180*PI()) -> 0.077468333 | I50: =SQRT(G50^2+H50^2)+SQRT((G50-$BC$10)^2+(H50-$BD$10)^2) -> 0.77645885 | J50: =I50/(2*$BC$3) -> 1.0029226 | K50: =F50/J50 -> 0.37151632 | L50: =K50*COS(A50/180*PI()) -> -0.36339779 | M50: =K50*SIN(A50/180*PI()) -> 0.077242585 | N50: =SQRT(L50^2+M50^2)+SQRT((L50-$BC$10)^2+(M50-$BD$10)^2) -> 0.77437543 | O50: =N50/(2*$BC$3) -> 1.0002315 | P50: =K50/O50 -> 0.37143033 | Q50: =P50*COS(A50/180*PI()) -> -0.36331368 | R50: =P50*SIN(A50/180*PI()) -> 0.077224707 | S50: =SQRT(Q50^2+R50^2)+SQRT((Q50-$BC$10)^2+(R50-$BD$10)^2) -> 0.77421046 | T50: =S50/(2*$BC$3) -> 1.0000184 | U50: =P50/T50 -> 0.37142349 | V50: =U50*COS(A50/180*PI()) -> -0.36330699 | W50: =U50*SIN(A50/180*PI()) -> 0.077223285 | X50: =SQRT(V50^2+W50^2)+SQRT((V50-$BC$10)^2+(W50-$BD$10)^2) -> 0.77419733 | Y50: =X50/(2*$BC$3) -> 1.0000015 | Z50: =U50/Y50 -> 0.37142294 | AA50: =Z50*COS(A50/180*PI()) -> -0.36330646 | AB50: =Z50*SIN(A50/180*PI()) -> 0.077223172 | AC50: =SQRT(AA50^2+AB50^2)+SQRT((AA50-$BC$10)^2+(AB50-$BD$10)^2) -> 0.77419629 | AD50: =AC50/(2*$BC$3) -> 1.0000001 | AE50: =Z50/AD50 -> 0.3714229 | AF50: =AE50*COS(A50/180*PI()) -> -0.36330642 | AG50: =AE50*SIN(A50/180*PI()) -> 0.077223163 | AH50: =SQRT(AF50^2+AG50^2)+SQRT((AF50-$BC$10)^2+(AG50-$BD$10)^2) -> 0.77419621 | AI50: =AH50/(2*$BC$3) -> 1 | AJ50: =AE50/AI50 -> 0.3714229 | AK50: =AJ50*COS(A50/180*PI()) -> -0.36330642 | AL50: =AJ50*SIN(A50/180*PI()) -> 0.077223163 | AM50: =SQRT(AK50^2+AL50^2)+SQRT((AK50-$BC$10)^2+(AL50-$BD$10)^2) -> 0.7741962 | AN50: =AM50/(2*$BC$3) -> 1 | AO50: =AJ50/AN50 -> 0.3714229 | AP50: =AO50*COS(A50/180*PI()) -> -0.36330642 | AQ50: =AO50*SIN(A50/180*PI()) -> 0.077223163 | AR50: =SQRT(AP50^2+AQ50^2)+SQRT((AP50-$BC$10)^2+(AQ50-$BD$10)^2) -> 0.7741962 | AS50: =AR50/(2*$BC$3) -> 1 | AT50: =AO50/AS50 -> 0.3714229 | AU50: =AT50*COS(A50/180*PI()) -> -0.36330642 | AV50: =AT50*SIN(A50/180*PI()) -> 0.077223163 | AW50: =SQRT(AU50^2+AV50^2)+SQRT((AU50-$BC$10)^2+(AV50-$BD$10)^2) -> 0.7741962 | AX50: =AW50/(2*$BC$3) -> 1 | AY50: =AT50-0.127 -> 0.2444229 | AZ50: =AY50-'Master Radiusverkleinerung'!G35/100 -> 0.2444229 | BA50: =SQRT((AU50-AU49)^2+(AV50-AV49)^2) -> 0.039254962
A51: 174 | B51: =BC$3*COS(A51/180*PI()) -> -0.38497754 | C51: =BC$3*SIN(A51/180*PI()) -> 0.04046277 | D51: =SQRT(B51^2+C51^2)+SQRT((B51-$BC$10)^2+(C51-$BD$10)^2) -> 0.7885871 | E51: =D51/(2*$BC$3) -> 1.0185882 | F51: =$BC$3/E51 -> 0.38003396 | G51: =F51*COS(A51/180*PI()) -> -0.37795209 | H51: =F51*SIN(A51/180*PI()) -> 0.039724366 | I51: =SQRT(G51^2+H51^2)+SQRT((G51-$BC$10)^2+(H51-$BD$10)^2) -> 0.77503999 | J51: =I51/(2*$BC$3) -> 1.0010899 | K51: =F51/J51 -> 0.37962022 | L51: =K51*COS(A51/180*PI()) -> -0.37754062 | M51: =K51*SIN(A51/180*PI()) -> 0.039681118 | N51: =SQRT(L51^2+M51^2)+SQRT((L51-$BC$10)^2+(M51-$BD$10)^2) -> 0.77424716 | O51: =N51/(2*$BC$3) -> 1.0000658 | P51: =K51/O51 -> 0.37959523 | Q51: =P51*COS(A51/180*PI()) -> -0.37751577 | R51: =P51*SIN(A51/180*PI()) -> 0.039678506 | S51: =SQRT(Q51^2+R51^2)+SQRT((Q51-$BC$10)^2+(R51-$BD$10)^2) -> 0.77419928 | T51: =S51/(2*$BC$3) -> 1.000004 | U51: =P51/T51 -> 0.37959372 | V51: =U51*COS(A51/180*PI()) -> -0.37751427 | W51: =U51*SIN(A51/180*PI()) -> 0.039678348 | X51: =SQRT(V51^2+W51^2)+SQRT((V51-$BC$10)^2+(W51-$BD$10)^2) -> 0.77419639 | Y51: =X51/(2*$BC$3) -> 1.0000002 | Z51: =U51/Y51 -> 0.37959363 | AA51: =Z51*COS(A51/180*PI()) -> -0.37751417 | AB51: =Z51*SIN(A51/180*PI()) -> 0.039678339 | AC51: =SQRT(AA51^2+AB51^2)+SQRT((AA51-$BC$10)^2+(AB51-$BD$10)^2) -> 0.77419621 | AD51: =AC51/(2*$BC$3) -> 1 | AE51: =Z51/AD51 -> 0.37959362 | AF51: =AE51*COS(A51/180*PI()) -> -0.37751417 | AG51: =AE51*SIN(A51/180*PI()) -> 0.039678338 | AH51: =SQRT(AF51^2+AG51^2)+SQRT((AF51-$BC$10)^2+(AG51-$BD$10)^2) -> 0.7741962 | AI51: =AH51/(2*$BC$3) -> 1 | AJ51: =AE51/AI51 -> 0.37959362 | AK51: =AJ51*COS(A51/180*PI()) -> -0.37751417 | AL51: =AJ51*SIN(A51/180*PI()) -> 0.039678338 | AM51: =SQRT(AK51^2+AL51^2)+SQRT((AK51-$BC$10)^2+(AL51-$BD$10)^2) -> 0.7741962 | AN51: =AM51/(2*$BC$3) -> 1 | AO51: =AJ51/AN51 -> 0.37959362 | AP51: =AO51*COS(A51/180*PI()) -> -0.37751417 | AQ51: =AO51*SIN(A51/180*PI()) -> 0.039678338 | AR51: =SQRT(AP51^2+AQ51^2)+SQRT((AP51-$BC$10)^2+(AQ51-$BD$10)^2) -> 0.7741962 | AS51: =AR51/(2*$BC$3) -> 1 | AT51: =AO51/AS51 -> 0.37959362 | AU51: =AT51*COS(A51/180*PI()) -> -0.37751417 | AV51: =AT51*SIN(A51/180*PI()) -> 0.039678338 | AW51: =SQRT(AU51^2+AV51^2)+SQRT((AU51-$BC$10)^2+(AV51-$BD$10)^2) -> 0.7741962 | AX51: =AW51/(2*$BC$3) -> 1 | AY51: =AT51-0.127 -> 0.25259362 | AZ51: =AY51-'Master Radiusverkleinerung'!G36/100 -> 0.25259362 | BA51: =SQRT((AU51-AU50)^2+(AV51-AV50)^2) -> 0.04014317
A53: 180 | B53: =BC$3*COS(A53/180*PI()) -> -0.3870981 | C53: =BC$3*SIN(A53/180*PI()) -> 4.7425264e-17 | D53: =SQRT(B53^2+C53^2)+SQRT((B53-$BC$10)^2+(C53-$BD$10)^2) -> 0.77241529 | E53: =D53/(2*$BC$3) -> 0.99769967 | F53: =$BC$3/E53 -> 0.38799061 | G53: =F53*COS(A53/180*PI()) -> -0.38799061 | H53: =F53*SIN(A53/180*PI()) -> 4.7534609e-17 | I53: =SQRT(G53^2+H53^2)+SQRT((G53-$BC$10)^2+(H53-$BD$10)^2) -> 0.77412465 | J53: =I53/(2*$BC$3) -> 0.99990758 | K53: =F53/J53 -> 0.38802647 | L53: =K53*COS(A53/180*PI()) -> -0.38802647 | M53: =K53*SIN(A53/180*PI()) -> 4.7539003e-17 | N53: =SQRT(L53^2+M53^2)+SQRT((L53-$BC$10)^2+(M53-$BD$10)^2) -> 0.77419334 | O53: =N53/(2*$BC$3) -> 0.9999963 | P53: =K53/O53 -> 0.3880279 | Q53: =P53*COS(A53/180*PI()) -> -0.3880279 | R53: =P53*SIN(A53/180*PI()) -> 4.7539179e-17 | S53: =SQRT(Q53^2+R53^2)+SQRT((Q53-$BC$10)^2+(R53-$BD$10)^2) -> 0.77419609 | T53: =S53/(2*$BC$3) -> 0.99999985 | U53: =P53/T53 -> 0.38802796 | V53: =U53*COS(A53/180*PI()) -> -0.38802796 | W53: =U53*SIN(A53/180*PI()) -> 4.7539186e-17 | X53: =SQRT(V53^2+W53^2)+SQRT((V53-$BC$10)^2+(W53-$BD$10)^2) -> 0.7741962 | Y53: =X53/(2*$BC$3) -> 0.99999999 | Z53: =U53/Y53 -> 0.38802796 | AA53: =Z53*COS(A53/180*PI()) -> -0.38802796 | AB53: =Z53*SIN(A53/180*PI()) -> 4.7539186e-17 | AC53: =SQRT(AA53^2+AB53^2)+SQRT((AA53-$BC$10)^2+(AB53-$BD$10)^2) -> 0.7741962 | AD53: =AC53/(2*$BC$3) -> 1 | AE53: =Z53/AD53 -> 0.38802796 | AF53: =AE53*COS(A53/180*PI()) -> -0.38802796 | AG53: =AE53*SIN(A53/180*PI()) -> 4.7539186e-17 | AH53: =SQRT(AF53^2+AG53^2)+SQRT((AF53-$BC$10)^2+(AG53-$BD$10)^2) -> 0.7741962 | AI53: =AH53/(2*$BC$3) -> 1 | AJ53: =AE53/AI53 -> 0.38802796 | AK53: =AJ53*COS(A53/180*PI()) -> -0.38802796 | AL53: =AJ53*SIN(A53/180*PI()) -> 4.7539186e-17 | AM53: =SQRT(AK53^2+AL53^2)+SQRT((AK53-$BC$10)^2+(AL53-$BD$10)^2) -> 0.7741962 | AN53: =AM53/(2*$BC$3) -> 1 | AO53: =AJ53/AN53 -> 0.38802796 | AP53: =AO53*COS(A53/180*PI()) -> -0.38802796 | AQ53: =AO53*SIN(A53/180*PI()) -> 4.7539186e-17 | AR53: =SQRT(AP53^2+AQ53^2)+SQRT((AP53-$BC$10)^2+(AQ53-$BD$10)^2) -> 0.7741962 | AS53: =AR53/(2*$BC$3) -> 1 | AT53: =AO53/AS53 -> 0.38802796 | AU53: =AT53*COS(A53/180*PI()) -> -0.38802796 | AV53: =AT53*SIN(A53/180*PI()) -> 4.7539186e-17 | AW53: =SQRT(AU53^2+AV53^2)+SQRT((AU53-$BC$10)^2+(AV53-$BD$10)^2) -> 0.7741962 | AX53: =AW53/(2*$BC$3) -> 1 | AY53: =AT53-0.127 -> 0.26102796 | AZ53: =AY53-'Master Radiusverkleinerung'!G37/100 -> 0.26102796 | BA53: =SQRT((AU53-AU51)^2+(AV53-AV51)^2) -> 0.04104766
A54: 186 | B54: =BC$3*COS(A54/180*PI()) -> -0.38497754 | C54: =BC$3*SIN(A54/180*PI()) -> -0.04046277 | D54: =SQRT(B54^2+C54^2)+SQRT((B54-$BC$10)^2+(C54-$BD$10)^2) -> 0.75593146 | E54: =D54/(2*$BC$3) -> 0.97640812 | F54: =$BC$3/E54 -> 0.39645113 | G54: =F54*COS(A54/180*PI()) -> -0.39427932 | H54: =F54*SIN(A54/180*PI()) -> -0.041440427 | I54: =SQRT(G54^2+H54^2)+SQRT((G54-$BC$10)^2+(H54-$BD$10)^2) -> 0.7738376 | J54: =I54/(2*$BC$3) -> 0.99953681 | K54: =F54/J54 -> 0.39663484 | L54: =K54*COS(A54/180*PI()) -> -0.39446203 | M54: =K54*SIN(A54/180*PI()) -> -0.04145963 | N54: =SQRT(L54^2+M54^2)+SQRT((L54-$BC$10)^2+(M54-$BD$10)^2) -> 0.7741897 | O54: =N54/(2*$BC$3) -> 0.99999161 | P54: =K54/O54 -> 0.39663817 | Q54: =P54*COS(A54/180*PI()) -> -0.39446535 | R54: =P54*SIN(A54/180*PI()) -> -0.041459978 | S54: =SQRT(Q54^2+R54^2)+SQRT((Q54-$BC$10)^2+(R54-$BD$10)^2) -> 0.77419608 | T54: =S54/(2*$BC$3) -> 0.99999985 | U54: =P54/T54 -> 0.39663823 | V54: =U54*COS(A54/180*PI()) -> -0.39446541 | W54: =U54*SIN(A54/180*PI()) -> -0.041459985 | X54: =SQRT(V54^2+W54^2)+SQRT((V54-$BC$10)^2+(W54-$BD$10)^2) -> 0.7741962 | Y54: =X54/(2*$BC$3) -> 1 | Z54: =U54/Y54 -> 0.39663823 | AA54: =Z54*COS(A54/180*PI()) -> -0.39446541 | AB54: =Z54*SIN(A54/180*PI()) -> -0.041459985 | AC54: =SQRT(AA54^2+AB54^2)+SQRT((AA54-$BC$10)^2+(AB54-$BD$10)^2) -> 0.7741962 | AD54: =AC54/(2*$BC$3) -> 1 | AE54: =Z54/AD54 -> 0.39663823 | AF54: =AE54*COS(A54/180*PI()) -> -0.39446541 | AG54: =AE54*SIN(A54/180*PI()) -> -0.041459985 | AH54: =SQRT(AF54^2+AG54^2)+SQRT((AF54-$BC$10)^2+(AG54-$BD$10)^2) -> 0.7741962 | AI54: =AH54/(2*$BC$3) -> 1 | AJ54: =AE54/AI54 -> 0.39663823 | AK54: =AJ54*COS(A54/180*PI()) -> -0.39446541 | AL54: =AJ54*SIN(A54/180*PI()) -> -0.041459985 | AM54: =SQRT(AK54^2+AL54^2)+SQRT((AK54-$BC$10)^2+(AL54-$BD$10)^2) -> 0.7741962 | AN54: =AM54/(2*$BC$3) -> 1 | AO54: =AJ54/AN54 -> 0.39663823 | AP54: =AO54*COS(A54/180*PI()) -> -0.39446541 | AQ54: =AO54*SIN(A54/180*PI()) -> -0.041459985 | AR54: =SQRT(AP54^2+AQ54^2)+SQRT((AP54-$BC$10)^2+(AQ54-$BD$10)^2) -> 0.7741962 | AS54: =AR54/(2*$BC$3) -> 1 | AT54: =AO54/AS54 -> 0.39663823 | AU54: =AT54*COS(A54/180*PI()) -> -0.39446541 | AV54: =AT54*SIN(A54/180*PI()) -> -0.041459985 | AW54: =SQRT(AU54^2+AV54^2)+SQRT((AU54-$BC$10)^2+(AV54-$BD$10)^2) -> 0.7741962 | AX54: =AW54/(2*$BC$3) -> 1 | AY54: =AT54-0.127 -> 0.26963823 | AZ54: =AY54-'Master Radiusverkleinerung'!G38/100 -> 0.26963823 | BA54: =SQRT((AU54-AU53)^2+(AV54-AV53)^2) -> 0.041956776
A55: 192 | B55: =BC$3*COS(A55/180*PI()) -> -0.37863908 | C55: =BC$3*SIN(A55/180*PI()) -> -0.08048222 | D55: =SQRT(B55^2+C55^2)+SQRT((B55-$BC$10)^2+(C55-$BD$10)^2) -> 0.73928518 | E55: =D55/(2*$BC$3) -> 0.95490676 | F55: =$BC$3/E55 -> 0.4053779 | G55: =F55*COS(A55/180*PI()) -> -0.39651942 | H55: =F55*SIN(A55/180*PI()) -> -0.084282805 | I55: =SQRT(G55^2+H55^2)+SQRT((G55-$BC$10)^2+(H55-$BD$10)^2) -> 0.77430375 | J55: =I55/(2*$BC$3) -> 1.0001389 | K55: =F55/J55 -> 0.4053216 | L55: =K55*COS(A55/180*PI()) -> -0.39646435 | M55: =K55*SIN(A55/180*PI()) -> -0.084271099 | N55: =SQRT(L55^2+M55^2)+SQRT((L55-$BC$10)^2+(M55-$BD$10)^2) -> 0.77419566 | O55: =N55/(2*$BC$3) -> 0.9999993 | P55: =K55/O55 -> 0.40532188 | Q55: =P55*COS(A55/180*PI()) -> -0.39646463 | R55: =P55*SIN(A55/180*PI()) -> -0.084271158 | S55: =SQRT(Q55^2+R55^2)+SQRT((Q55-$BC$10)^2+(R55-$BD$10)^2) -> 0.7741962 | T55: =S55/(2*$BC$3) -> 1 | U55: =P55/T55 -> 0.40532188 | V55: =U55*COS(A55/180*PI()) -> -0.39646462 | W55: =U55*SIN(A55/180*PI()) -> -0.084271157 | X55: =SQRT(V55^2+W55^2)+SQRT((V55-$BC$10)^2+(W55-$BD$10)^2) -> 0.7741962 | Y55: =X55/(2*$BC$3) -> 1 | Z55: =U55/Y55 -> 0.40532188 | AA55: =Z55*COS(A55/180*PI()) -> -0.39646462 | AB55: =Z55*SIN(A55/180*PI()) -> -0.084271157 | AC55: =SQRT(AA55^2+AB55^2)+SQRT((AA55-$BC$10)^2+(AB55-$BD$10)^2) -> 0.7741962 | AD55: =AC55/(2*$BC$3) -> 1 | AE55: =Z55/AD55 -> 0.40532188 | AF55: =AE55*COS(A55/180*PI()) -> -0.39646462 | AG55: =AE55*SIN(A55/180*PI()) -> -0.084271157 | AH55: =SQRT(AF55^2+AG55^2)+SQRT((AF55-$BC$10)^2+(AG55-$BD$10)^2) -> 0.7741962 | AI55: =AH55/(2*$BC$3) -> 1 | AJ55: =AE55/AI55 -> 0.40532188 | AK55: =AJ55*COS(A55/180*PI()) -> -0.39646462 | AL55: =AJ55*SIN(A55/180*PI()) -> -0.084271157 | AM55: =SQRT(AK55^2+AL55^2)+SQRT((AK55-$BC$10)^2+(AL55-$BD$10)^2) -> 0.7741962 | AN55: =AM55/(2*$BC$3) -> 1 | AO55: =AJ55/AN55 -> 0.40532188 | AP55: =AO55*COS(A55/180*PI()) -> -0.39646462 | AQ55: =AO55*SIN(A55/180*PI()) -> -0.084271157 | AR55: =SQRT(AP55^2+AQ55^2)+SQRT((AP55-$BC$10)^2+(AQ55-$BD$10)^2) -> 0.7741962 | AS55: =AR55/(2*$BC$3) -> 1 | AT55: =AO55/AS55 -> 0.40532188 | AU55: =AT55*COS(A55/180*PI()) -> -0.39646462 | AV55: =AT55*SIN(A55/180*PI()) -> -0.084271157 | AW55: =SQRT(AU55^2+AV55^2)+SQRT((AU55-$BC$10)^2+(AV55-$BD$10)^2) -> 0.7741962 | AX55: =AW55/(2*$BC$3) -> 1 | AY55: =AT55-0.127 -> 0.27832188 | AZ55: =AY55-'Master Radiusverkleinerung'!G39/100 -> 0.27832188 | BA55: =SQRT((AU55-AU54)^2+(AV55-AV54)^2) -> 0.042857827
A56: 198 | B56: =BC$3*COS(A56/180*PI()) -> -0.36815217 | C56: =BC$3*SIN(A56/180*PI()) -> -0.11961989 | D56: =SQRT(B56^2+C56^2)+SQRT((B56-$BC$10)^2+(C56-$BD$10)^2) -> 0.72264828 | E56: =D56/(2*$BC$3) -> 0.93341749 | F56: =$BC$3/E56 -> 0.41471057 | G56: =F56*COS(A56/180*PI()) -> -0.39441319 | H56: =F56*SIN(A56/180*PI()) -> -0.12815261 | I56: =SQRT(G56^2+H56^2)+SQRT((G56-$BC$10)^2+(H56-$BD$10)^2) -> 0.77563791 | J56: =I56/(2*$BC$3) -> 1.0018622 | K56: =F56/J56 -> 0.41393973 | L56: =K56*COS(A56/180*PI()) -> -0.39368008 | M56: =K56*SIN(A56/180*PI()) -> -0.12791441 | N56: =SQRT(L56^2+M56^2)+SQRT((L56-$BC$10)^2+(M56-$BD$10)^2) -> 0.77415417 | O56: =N56/(2*$BC$3) -> 0.99994571 | P56: =K56/O56 -> 0.4139622 | Q56: =P56*COS(A56/180*PI()) -> -0.39370145 | R56: =P56*SIN(A56/180*PI()) -> -0.12792136 | S56: =SQRT(Q56^2+R56^2)+SQRT((Q56-$BC$10)^2+(R56-$BD$10)^2) -> 0.77419742 | T56: =S56/(2*$BC$3) -> 1.0000016 | U56: =P56/T56 -> 0.41396155 | V56: =U56*COS(A56/180*PI()) -> -0.39370083 | W56: =U56*SIN(A56/180*PI()) -> -0.12792115 | X56: =SQRT(V56^2+W56^2)+SQRT((V56-$BC$10)^2+(W56-$BD$10)^2) -> 0.77419616 | Y56: =X56/(2*$BC$3) -> 0.99999995 | Z56: =U56/Y56 -> 0.41396157 | AA56: =Z56*COS(A56/180*PI()) -> -0.39370085 | AB56: =Z56*SIN(A56/180*PI()) -> -0.12792116 | AC56: =SQRT(AA56^2+AB56^2)+SQRT((AA56-$BC$10)^2+(AB56-$BD$10)^2) -> 0.7741962 | AD56: =AC56/(2*$BC$3) -> 1 | AE56: =Z56/AD56 -> 0.41396157 | AF56: =AE56*COS(A56/180*PI()) -> -0.39370085 | AG56: =AE56*SIN(A56/180*PI()) -> -0.12792116 | AH56: =SQRT(AF56^2+AG56^2)+SQRT((AF56-$BC$10)^2+(AG56-$BD$10)^2) -> 0.7741962 | AI56: =AH56/(2*$BC$3) -> 1 | AJ56: =AE56/AI56 -> 0.41396157 | AK56: =AJ56*COS(A56/180*PI()) -> -0.39370085 | AL56: =AJ56*SIN(A56/180*PI()) -> -0.12792116 | AM56: =SQRT(AK56^2+AL56^2)+SQRT((AK56-$BC$10)^2+(AL56-$BD$10)^2) -> 0.7741962 | AN56: =AM56/(2*$BC$3) -> 1 | AO56: =AJ56/AN56 -> 0.41396157 | AP56: =AO56*COS(A56/180*PI()) -> -0.39370085 | AQ56: =AO56*SIN(A56/180*PI()) -> -0.12792116 | AR56: =SQRT(AP56^2+AQ56^2)+SQRT((AP56-$BC$10)^2+(AQ56-$BD$10)^2) -> 0.7741962 | AS56: =AR56/(2*$BC$3) -> 1 | AT56: =AO56/AS56 -> 0.41396157 | AU56: =AT56*COS(A56/180*PI()) -> -0.39370085 | AV56: =AT56*SIN(A56/180*PI()) -> -0.12792116 | AW56: =SQRT(AU56^2+AV56^2)+SQRT((AU56-$BC$10)^2+(AV56-$BD$10)^2) -> 0.7741962 | AX56: =AW56/(2*$BC$3) -> 1 | AY56: =AT56-0.127 -> 0.28696157 | AZ56: =AY56-'Master Radiusverkleinerung'!G40/100 -> 0.28696157 | BA56: =SQRT((AU56-AU55)^2+(AV56-AV55)^2) -> 0.043737411
A57: 204 | B57: =BC$3*COS(A57/180*PI()) -> -0.35363171 | C57: =BC$3*SIN(A57/180*PI()) -> -0.15744698 | D57: =SQRT(B57^2+C57^2)+SQRT((B57-$BC$10)^2+(C57-$BD$10)^2) -> 0.70621868 | E57: =D57/(2*$BC$3) -> 0.91219601 | F57: =$BC$3/E57 -> 0.42435847 | G57: =F57*COS(A57/180*PI()) -> -0.38767075 | H57: =F57*SIN(A57/180*PI()) -> -0.17260214 | I57: =SQRT(G57^2+H57^2)+SQRT((G57-$BC$10)^2+(H57-$BD$10)^2) -> 0.77792927 | J57: =I57/(2*$BC$3) -> 1.0048219 | K57: =F57/J57 -> 0.42232209 | L57: =K57*COS(A57/180*PI()) -> -0.38581043 | M57: =K57*SIN(A57/180*PI()) -> -0.17177387 | N57: =SQRT(L57^2+M57^2)+SQRT((L57-$BC$10)^2+(M57-$BD$10)^2) -> 0.77399529 | O57: =N57/(2*$BC$3) -> 0.99974049 | P57: =K57/O57 -> 0.42243171 | Q57: =P57*COS(A57/180*PI()) -> -0.38591057 | R57: =P57*SIN(A57/180*PI()) -> -0.17181846 | S57: =SQRT(Q57^2+R57^2)+SQRT((Q57-$BC$10)^2+(R57-$BD$10)^2) -> 0.77420703 | T57: =S57/(2*$BC$3) -> 1.000014 | U57: =P57/T57 -> 0.42242581 | V57: =U57*COS(A57/180*PI()) -> -0.38590518 | W57: =U57*SIN(A57/180*PI()) -> -0.17181605 | X57: =SQRT(V57^2+W57^2)+SQRT((V57-$BC$10)^2+(W57-$BD$10)^2) -> 0.77419562 | Y57: =X57/(2*$BC$3) -> 0.99999925 | Z57: =U57/Y57 -> 0.42242612 | AA57: =Z57*COS(A57/180*PI()) -> -0.38590547 | AB57: =Z57*SIN(A57/180*PI()) -> -0.17181618 | AC57: =SQRT(AA57^2+AB57^2)+SQRT((AA57-$BC$10)^2+(AB57-$BD$10)^2) -> 0.77419623 | AD57: =AC57/(2*$BC$3) -> 1 | AE57: =Z57/AD57 -> 0.42242611 | AF57: =AE57*COS(A57/180*PI()) -> -0.38590545 | AG57: =AE57*SIN(A57/180*PI()) -> -0.17181618 | AH57: =SQRT(AF57^2+AG57^2)+SQRT((AF57-$BC$10)^2+(AG57-$BD$10)^2) -> 0.7741962 | AI57: =AH57/(2*$BC$3) -> 1 | AJ57: =AE57/AI57 -> 0.42242611 | AK57: =AJ57*COS(A57/180*PI()) -> -0.38590545 | AL57: =AJ57*SIN(A57/180*PI()) -> -0.17181618 | AM57: =SQRT(AK57^2+AL57^2)+SQRT((AK57-$BC$10)^2+(AL57-$BD$10)^2) -> 0.7741962 | AN57: =AM57/(2*$BC$3) -> 1 | AO57: =AJ57/AN57 -> 0.42242611 | AP57: =AO57*COS(A57/180*PI()) -> -0.38590545 | AQ57: =AO57*SIN(A57/180*PI()) -> -0.17181618 | AR57: =SQRT(AP57^2+AQ57^2)+SQRT((AP57-$BC$10)^2+(AQ57-$BD$10)^2) -> 0.7741962 | AS57: =AR57/(2*$BC$3) -> 1 | AT57: =AO57/AS57 -> 0.42242611 | AU57: =AT57*COS(A57/180*PI()) -> -0.38590545 | AV57: =AT57*SIN(A57/180*PI()) -> -0.17181618 | AW57: =SQRT(AU57^2+AV57^2)+SQRT((AU57-$BC$10)^2+(AV57-$BD$10)^2) -> 0.7741962 | AX57: =AW57/(2*$BC$3) -> 1 | AY57: =AT57-0.127 -> 0.29542611 | AZ57: =AY57-'Master Radiusverkleinerung'!G41/100 -> 0.29542611 | BA57: =SQRT((AU57-AU56)^2+(AV57-AV56)^2) -> 0.044581843
A59: 210 | B59: =BC$3*COS(A59/180*PI()) -> -0.33523679 | C59: =BC$3*SIN(A59/180*PI()) -> -0.19354905 | D59: =SQRT(B59^2+C59^2)+SQRT((B59-$BC$10)^2+(C59-$BD$10)^2) -> 0.69022458 | E59: =D59/(2*$BC$3) -> 0.89153703 | F59: =$BC$3/E59 -> 0.43419184 | G59: =F59*COS(A59/180*PI()) -> -0.37602116 | H59: =F59*SIN(A59/180*PI()) -> -0.21709592 | I59: =SQRT(G59^2+H59^2)+SQRT((G59-$BC$10)^2+(H59-$BD$10)^2) -> 0.78121961 | J59: =I59/(2*$BC$3) -> 1.0090719 | K59: =F59/J59 -> 0.43028832 | L59: =K59*COS(A59/180*PI()) -> -0.37264061 | M59: =K59*SIN(A59/180*PI()) -> -0.21514416 | N59: =SQRT(L59^2+M59^2)+SQRT((L59-$BC$10)^2+(M59-$BD$10)^2) -> 0.77364503 | O59: =N59/(2*$BC$3) -> 0.99928807 | P59: =K59/O59 -> 0.43059487 | Q59: =P59*COS(A59/180*PI()) -> -0.3729061 | R59: =P59*SIN(A59/180*PI()) -> -0.21529743 | S59: =SQRT(Q59^2+R59^2)+SQRT((Q59-$BC$10)^2+(R59-$BD$10)^2) -> 0.77423969 | T59: =S59/(2*$BC$3) -> 1.0000562 | U59: =P59/T59 -> 0.43057068 | V59: =U59*COS(A59/180*PI()) -> -0.37288515 | W59: =U59*SIN(A59/180*PI()) -> -0.21528534 | X59: =SQRT(V59^2+W59^2)+SQRT((V59-$BC$10)^2+(W59-$BD$10)^2) -> 0.77419277 | Y59: =X59/(2*$BC$3) -> 0.99999557 | Z59: =U59/Y59 -> 0.43057259 | AA59: =Z59*COS(A59/180*PI()) -> -0.3728868 | AB59: =Z59*SIN(A59/180*PI()) -> -0.21528629 | AC59: =SQRT(AA59^2+AB59^2)+SQRT((AA59-$BC$10)^2+(AB59-$BD$10)^2) -> 0.77419647 | AD59: =AC59/(2*$BC$3) -> 1.0000003 | AE59: =Z59/AD59 -> 0.43057244 | AF59: =AE59*COS(A59/180*PI()) -> -0.37288667 | AG59: =AE59*SIN(A59/180*PI()) -> -0.21528622 | AH59: =SQRT(AF59^2+AG59^2)+SQRT((AF59-$BC$10)^2+(AG59-$BD$10)^2) -> 0.77419618 | AI59: =AH59/(2*$BC$3) -> 0.99999997 | AJ59: =AE59/AI59 -> 0.43057245 | AK59: =AJ59*COS(A59/180*PI()) -> -0.37288668 | AL59: =AJ59*SIN(A59/180*PI()) -> -0.21528622 | AM59: =SQRT(AK59^2+AL59^2)+SQRT((AK59-$BC$10)^2+(AL59-$BD$10)^2) -> 0.7741962 | AN59: =AM59/(2*$BC$3) -> 1 | AO59: =AJ59/AN59 -> 0.43057245 | AP59: =AO59*COS(A59/180*PI()) -> -0.37288668 | AQ59: =AO59*SIN(A59/180*PI()) -> -0.21528622 | AR59: =SQRT(AP59^2+AQ59^2)+SQRT((AP59-$BC$10)^2+(AQ59-$BD$10)^2) -> 0.7741962 | AS59: =AR59/(2*$BC$3) -> 1 | AT59: =AO59/AS59 -> 0.43057245 | AU59: =AT59*COS(A59/180*PI()) -> -0.37288668 | AV59: =AT59*SIN(A59/180*PI()) -> -0.21528622 | AW59: =SQRT(AU59^2+AV59^2)+SQRT((AU59-$BC$10)^2+(AV59-$BD$10)^2) -> 0.7741962 | AX59: =AW59/(2*$BC$3) -> 1 | AY59: =AT59-0.127 -> 0.30357245 | AZ59: =AY59-'Master Radiusverkleinerung'!G42/100 -> 0.30357245 | BA59: =SQRT((AU59-AU57)^2+(AV59-AV57)^2) -> 0.045377676
A60: 216 | B60: =BC$3*COS(A60/180*PI()) -> -0.31316894 | C60: =BC$3*SIN(A60/180*PI()) -> -0.22753055 | D60: =SQRT(B60^2+C60^2)+SQRT((B60-$BC$10)^2+(C60-$BD$10)^2) -> 0.6749281 | E60: =D60/(2*$BC$3) -> 0.87177914 | F60: =$BC$3/E60 -> 0.4440323 | G60: =F60*COS(A60/180*PI()) -> -0.35922968 | H60: =F60*SIN(A60/180*PI()) -> -0.26099564 | I60: =SQRT(G60^2+H60^2)+SQRT((G60-$BC$10)^2+(H60-$BD$10)^2) -> 0.78547566 | J60: =I60/(2*$BC$3) -> 1.0145692 | K60: =F60/J60 -> 0.43765599 | L60: =K60*COS(A60/180*PI()) -> -0.35407113 | M60: =K60*SIN(A60/180*PI()) -> -0.25724773 | N60: =SQRT(L60^2+M60^2)+SQRT((L60-$BC$10)^2+(M60-$BD$10)^2) -> 0.77304051 | O60: =N60/(2*$BC$3) -> 0.99850724 | P60: =K60/O60 -> 0.43831028 | Q60: =P60*COS(A60/180*PI()) -> -0.35460046 | R60: =P60*SIN(A60/180*PI()) -> -0.25763232 | S60: =SQRT(Q60^2+R60^2)+SQRT((Q60-$BC$10)^2+(R60-$BD$10)^2) -> 0.77431598 | T60: =S60/(2*$BC$3) -> 1.0001547 | U60: =P60/T60 -> 0.43824248 | V60: =U60*COS(A60/180*PI()) -> -0.35454561 | W60: =U60*SIN(A60/180*PI()) -> -0.25759247 | X60: =SQRT(V60^2+W60^2)+SQRT((V60-$BC$10)^2+(W60-$BD$10)^2) -> 0.7741838 | Y60: =X60/(2*$BC$3) -> 0.99998398 | Z60: =U60/Y60 -> 0.4382495 | AA60: =Z60*COS(A60/180*PI()) -> -0.35455129 | AB60: =Z60*SIN(A60/180*PI()) -> -0.25759659 | AC60: =SQRT(AA60^2+AB60^2)+SQRT((AA60-$BC$10)^2+(AB60-$BD$10)^2) -> 0.77419748 | AD60: =AC60/(2*$BC$3) -> 1.0000017 | AE60: =Z60/AD60 -> 0.43824877 | AF60: =AE60*COS(A60/180*PI()) -> -0.3545507 | AG60: =AE60*SIN(A60/180*PI()) -> -0.25759616 | AH60: =SQRT(AF60^2+AG60^2)+SQRT((AF60-$BC$10)^2+(AG60-$BD$10)^2) -> 0.77419607 | AI60: =AH60/(2*$BC$3) -> 0.99999983 | AJ60: =AE60/AI60 -> 0.43824884 | AK60: =AJ60*COS(A60/180*PI()) -> -0.35455076 | AL60: =AJ60*SIN(A60/180*PI()) -> -0.25759621 | AM60: =SQRT(AK60^2+AL60^2)+SQRT((AK60-$BC$10)^2+(AL60-$BD$10)^2) -> 0.77419621 | AN60: =AM60/(2*$BC$3) -> 1 | AO60: =AJ60/AN60 -> 0.43824884 | AP60: =AO60*COS(A60/180*PI()) -> -0.35455076 | AQ60: =AO60*SIN(A60/180*PI()) -> -0.2575962 | AR60: =SQRT(AP60^2+AQ60^2)+SQRT((AP60-$BC$10)^2+(AQ60-$BD$10)^2) -> 0.7741962 | AS60: =AR60/(2*$BC$3) -> 1 | AT60: =AO60/AS60 -> 0.43824884 | AU60: =AT60*COS(A60/180*PI()) -> -0.35455076 | AV60: =AT60*SIN(A60/180*PI()) -> -0.2575962 | AW60: =SQRT(AU60^2+AV60^2)+SQRT((AU60-$BC$10)^2+(AV60-$BD$10)^2) -> 0.7741962 | AX60: =AW60/(2*$BC$3) -> 1 | AY60: =AT60-0.127 -> 0.31124884 | AZ60: =AY60-'Master Radiusverkleinerung'!G43/100 -> 0.31124884 | BA60: =SQRT((AU60-AU59)^2+(AV60-AV59)^2) -> 0.046112258
A61: 222 | B61: =BC$3*COS(A61/180*PI()) -> -0.28766995 | C61: =BC$3*SIN(A61/180*PI()) -> -0.25901919 | D61: =SQRT(B61^2+C61^2)+SQRT((B61-$BC$10)^2+(C61-$BD$10)^2) -> 0.66062748 | E61: =D61/(2*$BC$3) -> 0.85330757 | F61: =$BC$3/E61 -> 0.45364428 | G61: =F61*COS(A61/180*PI()) -> -0.3371234 | H61: =F61*SIN(A61/180*PI()) -> -0.30354727 | I61: =SQRT(G61^2+H61^2)+SQRT((G61-$BC$10)^2+(H61-$BD$10)^2) -> 0.7905584 | J61: =I61/(2*$BC$3) -> 1.0211344 | K61: =F61/J61 -> 0.4442552 | L61: =K61*COS(A61/180*PI()) -> -0.33014595 | M61: =K61*SIN(A61/180*PI()) -> -0.29726475 | N61: =SQRT(L61^2+M61^2)+SQRT((L61-$BC$10)^2+(M61-$BD$10)^2) -> 0.77215039 | O61: =N61/(2*$BC$3) -> 0.9973575 | P61: =K61/O61 -> 0.44543226 | Q61: =P61*COS(A61/180*PI()) -> -0.33102068 | R61: =P61*SIN(A61/180*PI()) -> -0.29805236 | S61: =SQRT(Q61^2+R61^2)+SQRT((Q61-$BC$10)^2+(R61-$BD$10)^2) -> 0.77445696 | T61: =S61/(2*$BC$3) -> 1.0003368 | U61: =P61/T61 -> 0.44528228 | V61: =U61*COS(A61/180*PI()) -> -0.33090922 | W61: =U61*SIN(A61/180*PI()) -> -0.297952 | X61: =SQRT(V61^2+W61^2)+SQRT((V61-$BC$10)^2+(W61-$BD$10)^2) -> 0.77416304 | Y61: =X61/(2*$BC$3) -> 0.99995717 | Z61: =U61/Y61 -> 0.44530135 | AA61: =Z61*COS(A61/180*PI()) -> -0.33092339 | AB61: =Z61*SIN(A61/180*PI()) -> -0.29796476 | AC61: =SQRT(AA61^2+AB61^2)+SQRT((AA61-$BC$10)^2+(AB61-$BD$10)^2) -> 0.77420042 | AD61: =AC61/(2*$BC$3) -> 1.0000054 | AE61: =Z61/AD61 -> 0.44529892 | AF61: =AE61*COS(A61/180*PI()) -> -0.33092159 | AG61: =AE61*SIN(A61/180*PI()) -> -0.29796314 | AH61: =SQRT(AF61^2+AG61^2)+SQRT((AF61-$BC$10)^2+(AG61-$BD$10)^2) -> 0.77419566 | AI61: =AH61/(2*$BC$3) -> 0.99999931 | AJ61: =AE61/AI61 -> 0.44529923 | AK61: =AJ61*COS(A61/180*PI()) -> -0.33092182 | AL61: =AJ61*SIN(A61/180*PI()) -> -0.29796335 | AM61: =SQRT(AK61^2+AL61^2)+SQRT((AK61-$BC$10)^2+(AL61-$BD$10)^2) -> 0.77419627 | AN61: =AM61/(2*$BC$3) -> 1.0000001 | AO61: =AJ61/AN61 -> 0.44529919 | AP61: =AO61*COS(A61/180*PI()) -> -0.33092179 | AQ61: =AO61*SIN(A61/180*PI()) -> -0.29796332 | AR61: =SQRT(AP61^2+AQ61^2)+SQRT((AP61-$BC$10)^2+(AQ61-$BD$10)^2) -> 0.77419619 | AS61: =AR61/(2*$BC$3) -> 0.99999999 | AT61: =AO61/AS61 -> 0.4452992 | AU61: =AT61*COS(A61/180*PI()) -> -0.3309218 | AV61: =AT61*SIN(A61/180*PI()) -> -0.29796332 | AW61: =SQRT(AU61^2+AV61^2)+SQRT((AU61-$BC$10)^2+(AV61-$BD$10)^2) -> 0.7741962 | AX61: =AW61/(2*$BC$3) -> 1 | AY61: =AT61-0.127 -> 0.3182992 | AZ61: =AY61-'Master Radiusverkleinerung'!G44/100 -> 0.3182992 | BA61: =SQRT((AU61-AU60)^2+(AV61-AV60)^2) -> 0.046774268
A62: 228 | B62: =BC$3*COS(A62/180*PI()) -> -0.25901919 | C62: =BC$3*SIN(A62/180*PI()) -> -0.28766995 | D62: =SQRT(B62^2+C62^2)+SQRT((B62-$BC$10)^2+(C62-$BD$10)^2) -> 0.64765569 | E62: =D62/(2*$BC$3) -> 0.8365524 | F62: =$BC$3/E62 -> 0.46273025 | G62: =F62*COS(A62/180*PI()) -> -0.30962697 | H62: =F62*SIN(A62/180*PI()) -> -0.34387559 | I62: =SQRT(G62^2+H62^2)+SQRT((G62-$BC$10)^2+(H62-$BD$10)^2) -> 0.79619628 | J62: =I62/(2*$BC$3) -> 1.0284167 | K62: =F62/J62 -> 0.44994433 | L62: =K62*COS(A62/180*PI()) -> -0.30107152 | M62: =K62*SIN(A62/180*PI()) -> -0.3343738 | N62: =SQRT(L62^2+M62^2)+SQRT((L62-$BC$10)^2+(M62-$BD$10)^2) -> 0.77099639 | O62: =N62/(2*$BC$3) -> 0.99586693 | P62: =K62/O62 -> 0.4518117 | Q62: =P62*COS(A62/180*PI()) -> -0.30232103 | R62: =P62*SIN(A62/180*PI()) -> -0.33576152 | S62: =SQRT(Q62^2+R62^2)+SQRT((Q62-$BC$10)^2+(R62-$BD$10)^2) -> 0.774675 | T62: =S62/(2*$BC$3) -> 1.0006184 | U62: =P62/T62 -> 0.45153245 | V62: =U62*COS(A62/180*PI()) -> -0.30213418 | W62: =U62*SIN(A62/180*PI()) -> -0.335554 | X62: =SQRT(V62^2+W62^2)+SQRT((V62-$BC$10)^2+(W62-$BD$10)^2) -> 0.77412486 | Y62: =X62/(2*$BC$3) -> 0.99990785 | Z62: =U62/Y62 -> 0.45157406 | AA62: =Z62*COS(A62/180*PI()) -> -0.30216203 | AB62: =Z62*SIN(A62/180*PI()) -> -0.33558493 | AC62: =SQRT(AA62^2+AB62^2)+SQRT((AA62-$BC$10)^2+(AB62-$BD$10)^2) -> 0.77420684 | AD62: =AC62/(2*$BC$3) -> 1.0000137 | AE62: =Z62/AD62 -> 0.45156786 | AF62: =AE62*COS(A62/180*PI()) -> -0.30215787 | AG62: =AE62*SIN(A62/180*PI()) -> -0.33558032 | AH62: =SQRT(AF62^2+AG62^2)+SQRT((AF62-$BC$10)^2+(AG62-$BD$10)^2) -> 0.77419461 | AI62: =AH62/(2*$BC$3) -> 0.99999795 | AJ62: =AE62/AI62 -> 0.45156878 | AK62: =AJ62*COS(A62/180*PI()) -> -0.30215849 | AL62: =AJ62*SIN(A62/180*PI()) -> -0.335581 | AM62: =SQRT(AK62^2+AL62^2)+SQRT((AK62-$BC$10)^2+(AL62-$BD$10)^2) -> 0.77419644 | AN62: =AM62/(2*$BC$3) -> 1.0000003 | AO62: =AJ62/AN62 -> 0.45156865 | AP62: =AO62*COS(A62/180*PI()) -> -0.3021584 | AQ62: =AO62*SIN(A62/180*PI()) -> -0.3355809 | AR62: =SQRT(AP62^2+AQ62^2)+SQRT((AP62-$BC$10)^2+(AQ62-$BD$10)^2) -> 0.77419616 | AS62: =AR62/(2*$BC$3) -> 0.99999995 | AT62: =AO62/AS62 -> 0.45156867 | AU62: =AT62*COS(A62/180*PI()) -> -0.30215842 | AV62: =AT62*SIN(A62/180*PI()) -> -0.33558092 | AW62: =SQRT(AU62^2+AV62^2)+SQRT((AU62-$BC$10)^2+(AV62-$BD$10)^2) -> 0.77419621 | AX62: =AW62/(2*$BC$3) -> 1 | AY62: =AT62-0.127 -> 0.32456867 | AZ62: =AY62-'Master Radiusverkleinerung'!G45/100 -> 0.32456867 | BA62: =SQRT((AU62-AU61)^2+(AV62-AV61)^2) -> 0.047354149
A63: 234 | B63: =BC$3*COS(A63/180*PI()) -> -0.22753055 | C63: =BC$3*SIN(A63/180*PI()) -> -0.31316894 | D63: =SQRT(B63^2+C63^2)+SQRT((B63-$BC$10)^2+(C63-$BD$10)^2) -> 0.63637269 | E63: =D63/(2*$BC$3) -> 0.82197857 | F63: =$BC$3/E63 -> 0.47093454 | G63: =F63*COS(A63/180*PI()) -> -0.27680838 | H63: =F63*SIN(A63/180*PI()) -> -0.38099405 | I63: =SQRT(G63^2+H63^2)+SQRT((G63-$BC$10)^2+(H63-$BD$10)^2) -> 0.80197406 | J63: =I63/(2*$BC$3) -> 1.0358796 | K63: =F63/J63 -> 0.45462285 | L63: =K63*COS(A63/180*PI()) -> -0.2672206 | M63: =K63*SIN(A63/180*PI()) -> -0.36779761 | N63: =SQRT(L63^2+M63^2)+SQRT((L63-$BC$10)^2+(M63-$BD$10)^2) -> 0.76966841 | O63: =N63/(2*$BC$3) -> 0.99415163 | P63: =K63/O63 -> 0.45729729 | Q63: =P63*COS(A63/180*PI()) -> -0.2687926 | R63: =P63*SIN(A63/180*PI()) -> -0.36996128 | S63: =SQRT(Q63^2+R63^2)+SQRT((Q63-$BC$10)^2+(R63-$BD$10)^2) -> 0.77496299 | T63: =S63/(2*$BC$3) -> 1.0009904 | U63: =P63/T63 -> 0.45684481 | V63: =U63*COS(A63/180*PI()) -> -0.26852664 | W63: =U63*SIN(A63/180*PI()) -> -0.36959522 | X63: =SQRT(V63^2+W63^2)+SQRT((V63-$BC$10)^2+(W63-$BD$10)^2) -> 0.77406717 | Y63: =X63/(2*$BC$3) -> 0.99983333 | Z63: =U63/Y63 -> 0.45692097 | AA63: =Z63*COS(A63/180*PI()) -> -0.26857141 | AB63: =Z63*SIN(A63/180*PI()) -> -0.36965683 | AC63: =SQRT(AA63^2+AB63^2)+SQRT((AA63-$BC$10)^2+(AB63-$BD$10)^2) -> 0.77421794 | AD63: =AC63/(2*$BC$3) -> 1.0000281 | AE63: =Z63/AD63 -> 0.45690814 | AF63: =AE63*COS(A63/180*PI()) -> -0.26856387 | AG63: =AE63*SIN(A63/180*PI()) -> -0.36964645 | AH63: =SQRT(AF63^2+AG63^2)+SQRT((AF63-$BC$10)^2+(AG63-$BD$10)^2) -> 0.77419254 | AI63: =AH63/(2*$BC$3) -> 0.99999527 | AJ63: =AE63/AI63 -> 0.4569103 | AK63: =AJ63*COS(A63/180*PI()) -> -0.26856514 | AL63: =AJ63*SIN(A63/180*PI()) -> -0.3696482 | AM63: =SQRT(AK63^2+AL63^2)+SQRT((AK63-$BC$10)^2+(AL63-$BD$10)^2) -> 0.77419682 | AN63: =AM63/(2*$BC$3) -> 1.0000008 | AO63: =AJ63/AN63 -> 0.45690994 | AP63: =AO63*COS(A63/180*PI()) -> -0.26856492 | AQ63: =AO63*SIN(A63/180*PI()) -> -0.3696479 | AR63: =SQRT(AP63^2+AQ63^2)+SQRT((AP63-$BC$10)^2+(AQ63-$BD$10)^2) -> 0.7741961 | AS63: =AR63/(2*$BC$3) -> 0.99999987 | AT63: =AO63/AS63 -> 0.45691 | AU63: =AT63*COS(A63/180*PI()) -> -0.26856496 | AV63: =AT63*SIN(A63/180*PI()) -> -0.36964795 | AW63: =SQRT(AU63^2+AV63^2)+SQRT((AU63-$BC$10)^2+(AV63-$BD$10)^2) -> 0.77419622 | AX63: =AW63/(2*$BC$3) -> 1 | AY63: =AT63-0.127 -> 0.32991 | AZ63: =AY63-'Master Radiusverkleinerung'!G46/100 -> 0.32991 | BA63: =SQRT((AU63-AU62)^2+(AV63-AV62)^2) -> 0.047844365
A64: Winkel a | B64: x0 | C64: y0 | D64: l1+l2 | E64: (l1+l2)/2a | F64: l1 | G64: x1 | H64: y1 | I64: l1+l2 | J64: (l1+l2)/2a | K64: l1 | L64: x2 | M64: y2 | N64: l1+l2 | O64: (l1+l2)/2a | P64: l1 | Q64: x3 | R64: y3 | S64: l1+l2 | T64: (l1+l2)/2a | U64: l1 | V64: x4 | W64: y4 | X64: l1+l2 | Y64: (l1+l2)/2a | Z64: l1 | AA64: x5 | AB64: y5 | AC64: l1+l2 | AD64: (l1+l2)/2a | AE64: l1 | AF64: x6 | AG64: y6 | AH64: l1+l2 | AI64: (l1+l2)/2a | AJ64: l1 | AK64: x7 | AL64: y7 | AM64: l1+l2 | AN64: (l1+l2)/2a | AO64: l1 | AP64: x8 | AQ64: y8 | AR64: l1+l2 | AS64: (l1+l2)/2a | AT64: l1 | AU64: x9 | AV64: y9 | AW64: l1+l2 | AX64: (l1+l2)/2a | AY64: l* | AZ64: l** | BA64: Abstand
A65: [Grad] | AT65: [m] | AY65: [m] | AZ65: [m] | BA65: [m]
A67: 240 | B67: =BC$3*COS(A67/180*PI()) -> -0.19354905 | C67: =BC$3*SIN(A67/180*PI()) -> -0.33523679 | D67: =SQRT(B67^2+C67^2)+SQRT((B67-$BC$10)^2+(C67-$BD$10)^2) -> 0.62714817 | E67: =D67/(2*$BC$3) -> 0.81006361 | F67: =$BC$3/E67 -> 0.47786136 | G67: =F67*COS(A67/180*PI()) -> -0.23893068 | H67: =F67*SIN(A67/180*PI()) -> -0.41384008 | I67: =SQRT(G67^2+H67^2)+SQRT((G67-$BC$10)^2+(H67-$BD$10)^2) -> 0.80735209 | J67: =I67/(2*$BC$3) -> 1.0428262 | K67: =F67/J67 -> 0.45823681 | L67: =K67*COS(A67/180*PI()) -> -0.22911841 | M67: =K67*SIN(A67/180*PI()) -> -0.39684472 | N67: =SQRT(L67^2+M67^2)+SQRT((L67-$BC$10)^2+(M67-$BD$10)^2) -> 0.76832384 | O67: =N67/(2*$BC$3) -> 0.9924149 | P67: =K67/O67 -> 0.46173915 | Q67: =P67*COS(A67/180*PI()) -> -0.23086958 | R67: =P67*SIN(A67/180*PI()) -> -0.39987783 | S67: =SQRT(Q67^2+R67^2)+SQRT((Q67-$BC$10)^2+(R67-$BD$10)^2) -> 0.77528709 | T67: =S67/(2*$BC$3) -> 1.0014091 | U67: =P67/T67 -> 0.46108945 | V67: =U67*COS(A67/180*PI()) -> -0.23054472 | W67: =U67*SIN(A67/180*PI()) -> -0.39931517 | X67: =SQRT(V67^2+W67^2)+SQRT((V67-$BC$10)^2+(W67-$BD$10)^2) -> 0.7739953 | Y67: =X67/(2*$BC$3) -> 0.9997405 | Z67: =U67/Y67 -> 0.46120913 | AA67: =Z67*COS(A67/180*PI()) -> -0.23060456 | AB67: =Z67*SIN(A67/180*PI()) -> -0.39941882 | AC67: =SQRT(AA67^2+AB67^2)+SQRT((AA67-$BC$10)^2+(AB67-$BD$10)^2) -> 0.77423326 | AD67: =AC67/(2*$BC$3) -> 1.0000479 | AE67: =Z67/AD67 -> 0.46118705 | AF67: =AE67*COS(A67/180*PI()) -> -0.23059353 | AG67: =AE67*SIN(A67/180*PI()) -> -0.3993997 | AH67: =SQRT(AF67^2+AG67^2)+SQRT((AF67-$BC$10)^2+(AG67-$BD$10)^2) -> 0.77418937 | AI67: =AH67/(2*$BC$3) -> 0.99999117 | AJ67: =AE67/AI67 -> 0.46119112 | AK67: =AJ67*COS(A67/180*PI()) -> -0.23059556 | AL67: =AJ67*SIN(A67/180*PI()) -> -0.39940323 | AM67: =SQRT(AK67^2+AL67^2)+SQRT((AK67-$BC$10)^2+(AL67-$BD$10)^2) -> 0.77419746 | AN67: =AM67/(2*$BC$3) -> 1.0000016 | AO67: =AJ67/AN67 -> 0.46119037 | AP67: =AO67*COS(A67/180*PI()) -> -0.23059519 | AQ67: =AO67*SIN(A67/180*PI()) -> -0.39940258 | AR67: =SQRT(AP67^2+AQ67^2)+SQRT((AP67-$BC$10)^2+(AQ67-$BD$10)^2) -> 0.77419597 | AS67: =AR67/(2*$BC$3) -> 0.9999997 | AT67: =AO67/AS67 -> 0.46119051 | AU67: =AT67*COS(A67/180*PI()) -> -0.23059526 | AV67: =AT67*SIN(A67/180*PI()) -> -0.3994027 | AW67: =SQRT(AU67^2+AV67^2)+SQRT((AU67-$BC$10)^2+(AV67-$BD$10)^2) -> 0.77419624 | AX67: =AW67/(2*$BC$3) -> 1.0000001 | AY67: =AT67-0.127 -> 0.33419051 | AZ67: =AY67-'Master Radiusverkleinerung'!G47/100 -> 0.33419051 | BA67: =SQRT((AU67-AU63)^2+(AV67-AV63)^2) -> 0.048239436
A68: 246 | B68: =BC$3*COS(A68/180*PI()) -> -0.15744698 | C68: =BC$3*SIN(A68/180*PI()) -> -0.35363171 | D68: =SQRT(B68^2+C68^2)+SQRT((B68-$BC$10)^2+(C68-$BD$10)^2) -> 0.62033266 | E68: =D68/(2*$BC$3) -> 0.80126027 | F68: =$BC$3/E68 -> 0.48311156 | G68: =F68*COS(A68/180*PI()) -> -0.19649917 | H68: =F68*SIN(A68/180*PI()) -> -0.44134437 | I68: =SQRT(G68^2+H68^2)+SQRT((G68-$BC$10)^2+(H68-$BD$10)^2) -> 0.81172852 | J68: =I68/(2*$BC$3) -> 1.0484791 | K68: =F68/J68 -> 0.46077367 | L68: =K68*COS(A68/180*PI()) -> -0.18741354 | M68: =K68*SIN(A68/180*PI()) -> -0.4209377 | N68: =SQRT(L68^2+M68^2)+SQRT((L68-$BC$10)^2+(M68-$BD$10)^2) -> 0.76716438 | O68: =N68/(2*$BC$3) -> 0.99091727 | P68: =K68/O68 -> 0.46499712 | Q68: =P68*COS(A68/180*PI()) -> -0.18913137 | R68: =P68*SIN(A68/180*PI()) -> -0.42479601 | S68: =SQRT(Q68^2+R68^2)+SQRT((Q68-$BC$10)^2+(R68-$BD$10)^2) -> 0.77558894 | T68: =S68/(2*$BC$3) -> 1.0017989 | U68: =P68/T68 -> 0.46416212 | V68: =U68*COS(A68/180*PI()) -> -0.18879174 | W68: =U68*SIN(A68/180*PI()) -> -0.42403319 | X68: =SQRT(V68^2+W68^2)+SQRT((V68-$BC$10)^2+(W68-$BD$10)^2) -> 0.7739233 | Y68: =X68/(2*$BC$3) -> 0.9996475 | Z68: =U68/Y68 -> 0.46432579 | AA68: =Z68*COS(A68/180*PI()) -> -0.18885831 | AB68: =Z68*SIN(A68/180*PI()) -> -0.42418272 | AC68: =SQRT(AA68^2+AB68^2)+SQRT((AA68-$BC$10)^2+(AB68-$BD$10)^2) -> 0.77424979 | AD68: =AC68/(2*$BC$3) -> 1.0000692 | AE68: =Z68/AD68 -> 0.46429365 | AF68: =AE68*COS(A68/180*PI()) -> -0.18884524 | AG68: =AE68*SIN(A68/180*PI()) -> -0.42415336 | AH68: =SQRT(AF68^2+AG68^2)+SQRT((AF68-$BC$10)^2+(AG68-$BD$10)^2) -> 0.77418568 | AI68: =AH68/(2*$BC$3) -> 0.99998641 | AJ68: =AE68/AI68 -> 0.46429996 | AK68: =AJ68*COS(A68/180*PI()) -> -0.18884781 | AL68: =AJ68*SIN(A68/180*PI()) -> -0.42415912 | AM68: =SQRT(AK68^2+AL68^2)+SQRT((AK68-$BC$10)^2+(AL68-$BD$10)^2) -> 0.77419826 | AN68: =AM68/(2*$BC$3) -> 1.0000027 | AO68: =AJ68/AN68 -> 0.46429872 | AP68: =AO68*COS(A68/180*PI()) -> -0.1888473 | AQ68: =AO68*SIN(A68/180*PI()) -> -0.42415799 | AR68: =SQRT(AP68^2+AQ68^2)+SQRT((AP68-$BC$10)^2+(AQ68-$BD$10)^2) -> 0.77419579 | AS68: =AR68/(2*$BC$3) -> 0.99999948 | AT68: =AO68/AS68 -> 0.46429896 | AU68: =AT68*COS(A68/180*PI()) -> -0.1888474 | AV68: =AT68*SIN(A68/180*PI()) -> -0.42415821 | AW68: =SQRT(AU68^2+AV68^2)+SQRT((AU68-$BC$10)^2+(AV68-$BD$10)^2) -> 0.77419628 | AX68: =AW68/(2*$BC$3) -> 1.0000001 | AY68: =AT68-0.127 -> 0.33729896 | AZ68: =AY68-'Master Radiusverkleinerung'!G48/100 -> 0.33729896 | BA68: =SQRT((AU68-AU67)^2+(AV68-AV67)^2) -> 0.048535746
A69: 252 | B69: =BC$3*COS(A69/180*PI()) -> -0.11961989 | C69: =BC$3*SIN(A69/180*PI()) -> -0.36815217 | D69: =SQRT(B69^2+C69^2)+SQRT((B69-$BC$10)^2+(C69-$BD$10)^2) -> 0.61621844 | E69: =D69/(2*$BC$3) -> 0.7959461 | F69: =$BC$3/E69 -> 0.48633708 | G69: =F69*COS(A69/180*PI()) -> -0.15028642 | H69: =F69*SIN(A69/180*PI()) -> -0.46253405 | I69: =SQRT(G69^2+H69^2)+SQRT((G69-$BC$10)^2+(H69-$BD$10)^2) -> 0.81454382 | J69: =I69/(2*$BC$3) -> 1.0521155 | K69: =F69/J69 -> 0.46224686 | L69: =K69*COS(A69/180*PI()) -> -0.14284213 | M69: =K69*SIN(A69/180*PI()) -> -0.43962289 | N69: =SQRT(L69^2+M69^2)+SQRT((L69-$BC$10)^2+(M69-$BD$10)^2) -> 0.76639127 | O69: =N69/(2*$BC$3) -> 0.98991866 | P69: =K69/O69 -> 0.46695438 | Q69: =P69*COS(A69/180*PI()) -> -0.14429684 | R69: =P69*SIN(A69/180*PI()) -> -0.44410001 | S69: =SQRT(Q69^2+R69^2)+SQRT((Q69-$BC$10)^2+(R69-$BD$10)^2) -> 0.77580052 | T69: =S69/(2*$BC$3) -> 1.0020722 | U69: =P69/T69 -> 0.46598874 | V69: =U69*COS(A69/180*PI()) -> -0.14399844 | W69: =U69*SIN(A69/180*PI()) -> -0.44318163 | X69: =SQRT(V69^2+W69^2)+SQRT((V69-$BC$10)^2+(W69-$BD$10)^2) -> 0.77387041 | Y69: =X69/(2*$BC$3) -> 0.99957919 | Z69: =U69/Y69 -> 0.46618491 | AA69: =Z69*COS(A69/180*PI()) -> -0.14405906 | AB69: =Z69*SIN(A69/180*PI()) -> -0.4433682 | AC69: =SQRT(AA69^2+AB69^2)+SQRT((AA69-$BC$10)^2+(AB69-$BD$10)^2) -> 0.77426252 | AD69: =AC69/(2*$BC$3) -> 1.0000857 | AE69: =Z69/AD69 -> 0.46614498 | AF69: =AE69*COS(A69/180*PI()) -> -0.14404672 | AG69: =AE69*SIN(A69/180*PI()) -> -0.44333022 | AH69: =SQRT(AF69^2+AG69^2)+SQRT((AF69-$BC$10)^2+(AG69-$BD$10)^2) -> 0.77418271 | AI69: =AH69/(2*$BC$3) -> 0.99998257 | AJ69: =AE69/AI69 -> 0.46615311 | AK69: =AJ69*COS(A69/180*PI()) -> -0.14404923 | AL69: =AJ69*SIN(A69/180*PI()) -> -0.44333795 | AM69: =SQRT(AK69^2+AL69^2)+SQRT((AK69-$BC$10)^2+(AL69-$BD$10)^2) -> 0.77419895 | AN69: =AM69/(2*$BC$3) -> 1.0000035 | AO69: =AJ69/AN69 -> 0.46615145 | AP69: =AO69*COS(A69/180*PI()) -> -0.14404872 | AQ69: =AO69*SIN(A69/180*PI()) -> -0.44333638 | AR69: =SQRT(AP69^2+AQ69^2)+SQRT((AP69-$BC$10)^2+(AQ69-$BD$10)^2) -> 0.77419564 | AS69: =AR69/(2*$BC$3) -> 0.99999928 | AT69: =AO69/AS69 -> 0.46615179 | AU69: =AT69*COS(A69/180*PI()) -> -0.14404883 | AV69: =AT69*SIN(A69/180*PI()) -> -0.4433367 | AW69: =SQRT(AU69^2+AV69^2)+SQRT((AU69-$BC$10)^2+(AV69-$BD$10)^2) -> 0.77419631 | AX69: =AW69/(2*$BC$3) -> 1.0000001 | AY69: =AT69-0.127 -> 0.33915179 | AZ69: =AY69-'Master Radiusverkleinerung'!G49/100 -> 0.33915179 | BA69: =SQRT((AU69-AU68)^2+(AV69-AV68)^2) -> 0.04873117
A70: 258 | B70: =BC$3*COS(A70/180*PI()) -> -0.08048222 | C70: =BC$3*SIN(A70/180*PI()) -> -0.37863908 | D70: =SQRT(B70^2+C70^2)+SQRT((B70-$BC$10)^2+(C70-$BD$10)^2) -> 0.61499762 | E70: =D70/(2*$BC$3) -> 0.79436921 | F70: =$BC$3/E70 -> 0.4873025 | G70: =F70*COS(A70/180*PI()) -> -0.10131589 | H70: =F70*SIN(A70/180*PI()) -> -0.47665377 | I70: =SQRT(G70^2+H70^2)+SQRT((G70-$BC$10)^2+(H70-$BD$10)^2) -> 0.81540501 | J70: =I70/(2*$BC$3) -> 1.0532279 | K70: =F70/J70 -> 0.46267528 | L70: =K70*COS(A70/180*PI()) -> -0.0961956 | M70: =K70*SIN(A70/180*PI()) -> -0.45256472 | N70: =SQRT(L70^2+M70^2)+SQRT((L70-$BC$10)^2+(M70-$BD$10)^2) -> 0.76615084 | O70: =N70/(2*$BC$3) -> 0.98960811 | P70: =K70/O70 -> 0.46753384 | Q70: =P70*COS(A70/180*PI()) -> -0.097205752 | R70: =P70*SIN(A70/180*PI()) -> -0.45731711 | S70: =SQRT(Q70^2+R70^2)+SQRT((Q70-$BC$10)^2+(R70-$BD$10)^2) -> 0.7758679 | T70: =S70/(2*$BC$3) -> 1.0021593 | U70: =P70/T70 -> 0.46652648 | V70: =U70*COS(A70/180*PI()) -> -0.09699631 | W70: =U70*SIN(A70/180*PI()) -> -0.45633176 | X70: =SQRT(V70^2+W70^2)+SQRT((V70-$BC$10)^2+(W70-$BD$10)^2) -> 0.7738532 | Y70: =X70/(2*$BC$3) -> 0.99955695 | Z70: =U70/Y70 -> 0.46673327 | AA70: =Z70*COS(A70/180*PI()) -> -0.097039303 | AB70: =Z70*SIN(A70/180*PI()) -> -0.45653402 | AC70: =SQRT(AA70^2+AB70^2)+SQRT((AA70-$BC$10)^2+(AB70-$BD$10)^2) -> 0.77426676 | AD70: =AC70/(2*$BC$3) -> 1.0000911 | AE70: =Z70/AD70 -> 0.46669073 | AF70: =AE70*COS(A70/180*PI()) -> -0.097030459 | AG70: =AE70*SIN(A70/180*PI()) -> -0.45649242 | AH70: =SQRT(AF70^2+AG70^2)+SQRT((AF70-$BC$10)^2+(AG70-$BD$10)^2) -> 0.77418169 | AI70: =AH70/(2*$BC$3) -> 0.99998126 | AJ70: =AE70/AI70 -> 0.46669948 | AK70: =AJ70*COS(A70/180*PI()) -> -0.097032277 | AL70: =AJ70*SIN(A70/180*PI()) -> -0.45650097 | AM70: =SQRT(AK70^2+AL70^2)+SQRT((AK70-$BC$10)^2+(AL70-$BD$10)^2) -> 0.77419918 | AN70: =AM70/(2*$BC$3) -> 1.0000039 | AO70: =AJ70/AN70 -> 0.46669768 | AP70: =AO70*COS(A70/180*PI()) -> -0.097031903 | AQ70: =AO70*SIN(A70/180*PI()) -> -0.45649921 | AR70: =SQRT(AP70^2+AQ70^2)+SQRT((AP70-$BC$10)^2+(AQ70-$BD$10)^2) -> 0.77419559 | AS70: =AR70/(2*$BC$3) -> 0.99999921 | AT70: =AO70/AS70 -> 0.46669805 | AU70: =AT70*COS(A70/180*PI()) -> -0.09703198 | AV70: =AT70*SIN(A70/180*PI()) -> -0.45649958 | AW70: =SQRT(AU70^2+AV70^2)+SQRT((AU70-$BC$10)^2+(AV70-$BD$10)^2) -> 0.77419633 | AX70: =AW70/(2*$BC$3) -> 1.0000002 | AY70: =AT70-0.127 -> 0.33969805 | AZ70: =AY70-'Master Radiusverkleinerung'!G50/100 -> 0.33969805 | BA70: =SQRT((AU70-AU69)^2+(AV70-AV69)^2) -> 0.048824636
A71: 264 | B71: =BC$3*COS(A71/180*PI()) -> -0.04046277 | C71: =BC$3*SIN(A71/180*PI()) -> -0.38497754 | D71: =SQRT(B71^2+C71^2)+SQRT((B71-$BC$10)^2+(C71-$BD$10)^2) -> 0.61672966 | E71: =D71/(2*$BC$3) -> 0.79660642 | F71: =$BC$3/E71 -> 0.48593394 | G71: =F71*COS(A71/180*PI()) -> -0.050793929 | H71: =F71*SIN(A71/180*PI()) -> -0.48327195 | I71: =SQRT(G71^2+H71^2)+SQRT((G71-$BC$10)^2+(H71-$BD$10)^2) -> 0.81418672 | J71: =I71/(2*$BC$3) -> 1.0516543 | K71: =F71/J71 -> 0.46206626 | L71: =K71*COS(A71/180*PI()) -> -0.048299076 | M71: =K71*SIN(A71/180*PI()) -> -0.45953501 | N71: =SQRT(L71^2+M71^2)+SQRT((L71-$BC$10)^2+(M71-$BD$10)^2) -> 0.76649043 | O71: =N71/(2*$BC$3) -> 0.99004675 | P71: =K71/O71 -> 0.46671155 | Q71: =P71*COS(A71/180*PI()) -> -0.048784642 | R71: =P71*SIN(A71/180*PI()) -> -0.46415486 | S71: =SQRT(Q71^2+R71^2)+SQRT((Q71-$BC$10)^2+(R71-$BD$10)^2) -> 0.77577295 | T71: =S71/(2*$BC$3) -> 1.0020366 | U71: =P71/T71 -> 0.46576297 | V71: =U71*COS(A71/180*PI()) -> -0.048685488 | W71: =U71*SIN(A71/180*PI()) -> -0.46321147 | X71: =SQRT(V71^2+W71^2)+SQRT((V71-$BC$10)^2+(W71-$BD$10)^2) -> 0.77387741 | Y71: =X71/(2*$BC$3) -> 0.99958823 | Z71: =U71/Y71 -> 0.46595484 | AA71: =Z71*COS(A71/180*PI()) -> -0.048705543 | AB71: =Z71*SIN(A71/180*PI()) -> -0.46340229 | AC71: =SQRT(AA71^2+AB71^2)+SQRT((AA71-$BC$10)^2+(AB71-$BD$10)^2) -> 0.77426081 | AD71: =AC71/(2*$BC$3) -> 1.0000835 | AE71: =Z71/AD71 -> 0.46591595 | AF71: =AE71*COS(A71/180*PI()) -> -0.048701479 | AG71: =AE71*SIN(A71/180*PI()) -> -0.46336362 | AH71: =SQRT(AF71^2+AG71^2)+SQRT((AF71-$BC$10)^2+(AG71-$BD$10)^2) -> 0.77418311 | AI71: =AH71/(2*$BC$3) -> 0.99998309 | AJ71: =AE71/AI71 -> 0.46592383 | AK71: =AJ71*COS(A71/180*PI()) -> -0.048702302 | AL71: =AJ71*SIN(A71/180*PI()) -> -0.46337145 | AM71: =SQRT(AK71^2+AL71^2)+SQRT((AK71-$BC$10)^2+(AL71-$BD$10)^2) -> 0.77419885 | AN71: =AM71/(2*$BC$3) -> 1.0000034 | AO71: =AJ71/AN71 -> 0.46592224 | AP71: =AO71*COS(A71/180*PI()) -> -0.048702135 | AQ71: =AO71*SIN(A71/180*PI()) -> -0.46336986 | AR71: =SQRT(AP71^2+AQ71^2)+SQRT((AP71-$BC$10)^2+(AQ71-$BD$10)^2) -> 0.77419566 | AS71: =AR71/(2*$BC$3) -> 0.99999931 | AT71: =AO71/AS71 -> 0.46592256 | AU71: =AT71*COS(A71/180*PI()) -> -0.048702169 | AV71: =AT71*SIN(A71/180*PI()) -> -0.46337019 | AW71: =SQRT(AU71^2+AV71^2)+SQRT((AU71-$BC$10)^2+(AV71-$BD$10)^2) -> 0.77419631 | AX71: =AW71/(2*$BC$3) -> 1.0000001 | AY71: =AT71-0.127 -> 0.33892256 | AZ71: =AY71-'Master Radiusverkleinerung'!G51/100 -> 0.33892256 | BA71: =SQRT((AU71-AU70)^2+(AV71-AV70)^2) -> 0.048815735
A73: 270 | B73: =BC$3*COS(A73/180*PI()) -> -7.1137896e-17 | C73: =BC$3*SIN(A73/180*PI()) -> -0.3870981 | D73: =SQRT(B73^2+C73^2)+SQRT((B73-$BC$10)^2+(C73-$BD$10)^2) -> 0.62133054 | E73: =D73/(2*$BC$3) -> 0.8025492 | F73: =$BC$3/E73 -> 0.48233566 | G73: =F73*COS(A73/180*PI()) -> -8.8639919e-17 | H73: =F73*SIN(A73/180*PI()) -> -0.48233566 | I73: =SQRT(G73^2+H73^2)+SQRT((G73-$BC$10)^2+(H73-$BD$10)^2) -> 0.81106562 | J73: =I73/(2*$BC$3) -> 1.0476228 | K73: =F73/J73 -> 0.46040965 | L73: =K73*COS(A73/180*PI()) -> -8.4610526e-17 | M73: =K73*SIN(A73/180*PI()) -> -0.46040965 | N73: =SQRT(L73^2+M73^2)+SQRT((L73-$BC$10)^2+(M73-$BD$10)^2) -> 0.76734344 | O73: =N73/(2*$BC$3) -> 0.99114854 | P73: =K73/O73 -> 0.46452134 | Q73: =P73*COS(A73/180*PI()) -> -8.536614e-17 | R73: =P73*SIN(A73/180*PI()) -> -0.46452134 | S73: =SQRT(Q73^2+R73^2)+SQRT((Q73-$BC$10)^2+(R73-$BD$10)^2) -> 0.77554108 | T73: =S73/(2*$BC$3) -> 1.0017371 | U73: =P73/T73 -> 0.46371581 | V73: =U73*COS(A73/180*PI()) -> -8.5218106e-17 | W73: =U73*SIN(A73/180*PI()) -> -0.46371581 | X73: =SQRT(V73^2+W73^2)+SQRT((V73-$BC$10)^2+(W73-$BD$10)^2) -> 0.773935 | Y73: =X73/(2*$BC$3) -> 0.99966262 | Z73: =U73/Y73 -> 0.46387231 | AA73: =Z73*COS(A73/180*PI()) -> -8.5246866e-17 | AB73: =Z73*SIN(A73/180*PI()) -> -0.46387231 | AC73: =SQRT(AA73^2+AB73^2)+SQRT((AA73-$BC$10)^2+(AB73-$BD$10)^2) -> 0.77424703 | AD73: =AC73/(2*$BC$3) -> 1.0000657 | AE73: =Z73/AD73 -> 0.46384185 | AF73: =AE73*COS(A73/180*PI()) -> -8.524127e-17 | AG73: =AE73*SIN(A73/180*PI()) -> -0.46384185 | AH73: =SQRT(AF73^2+AG73^2)+SQRT((AF73-$BC$10)^2+(AG73-$BD$10)^2) -> 0.77418631 | AI73: =AH73/(2*$BC$3) -> 0.99998723 | AJ73: =AE73/AI73 -> 0.46384778 | AK73: =AJ73*COS(A73/180*PI()) -> -8.5242358e-17 | AL73: =AJ73*SIN(A73/180*PI()) -> -0.46384778 | AM73: =SQRT(AK73^2+AL73^2)+SQRT((AK73-$BC$10)^2+(AL73-$BD$10)^2) -> 0.77419812 | AN73: =AM73/(2*$BC$3) -> 1.0000025 | AO73: =AJ73/AN73 -> 0.46384663 | AP73: =AO73*COS(A73/180*PI()) -> -8.5242147e-17 | AQ73: =AO73*SIN(A73/180*PI()) -> -0.46384663 | AR73: =SQRT(AP73^2+AQ73^2)+SQRT((AP73-$BC$10)^2+(AQ73-$BD$10)^2) -> 0.77419583 | AS73: =AR73/(2*$BC$3) -> 0.99999952 | AT73: =AO73/AS73 -> 0.46384685 | AU73: =AT73*COS(A73/180*PI()) -> -8.5242188e-17 | AV73: =AT73*SIN(A73/180*PI()) -> -0.46384685 | AW73: =SQRT(AU73^2+AV73^2)+SQRT((AU73-$BC$10)^2+(AV73-$BD$10)^2) -> 0.77419627 | AX73: =AW73/(2*$BC$3) -> 1.0000001 | AY73: =AT73-0.127 -> 0.33684685 | AZ73: =AY73-'Master Radiusverkleinerung'!G52/100 -> 0.33684685 | BA73: =SQRT((AU73-AU71)^2+(AV73-AV71)^2) -> 0.048704502
A74: 276 | B74: =BC$3*COS(A74/180*PI()) -> 0.04046277 | C74: =BC$3*SIN(A74/180*PI()) -> -0.38497754 | D74: =SQRT(B74^2+C74^2)+SQRT((B74-$BC$10)^2+(C74-$BD$10)^2) -> 0.62858797 | E74: =D74/(2*$BC$3) -> 0.81192335 | F74: =$BC$3/E74 -> 0.47676681 | G74: =F74*COS(A74/180*PI()) -> 0.049835702 | H74: =F74*SIN(A74/180*PI()) -> -0.47415503 | I74: =SQRT(G74^2+H74^2)+SQRT((G74-$BC$10)^2+(H74-$BD$10)^2) -> 0.80647214 | J74: =I74/(2*$BC$3) -> 1.0416896 | K74: =F74/J74 -> 0.45768605 | L74: =K74*COS(A74/180*PI()) -> 0.047841219 | M74: =K74*SIN(A74/180*PI()) -> -0.4551788 | N74: =SQRT(L74^2+M74^2)+SQRT((L74-$BC$10)^2+(M74-$BD$10)^2) -> 0.76855023 | O74: =N74/(2*$BC$3) -> 0.99270731 | P74: =K74/O74 -> 0.46104833 | Q74: =P74*COS(A74/180*PI()) -> 0.048192674 | R74: =P74*SIN(A74/180*PI()) -> -0.45852266 | S74: =SQRT(Q74^2+R74^2)+SQRT((Q74-$BC$10)^2+(R74-$BD$10)^2) -> 0.77523047 | T74: =S74/(2*$BC$3) -> 1.0013359 | U74: =P74/T74 -> 0.46043323 | V74: =U74*COS(A74/180*PI()) -> 0.048128378 | W74: =U74*SIN(A74/180*PI()) -> -0.45791092 | X74: =SQRT(V74^2+W74^2)+SQRT((V74-$BC$10)^2+(W74-$BD$10)^2) -> 0.7740083 | Y74: =X74/(2*$BC$3) -> 0.99975729 | Z74: =U74/Y74 -> 0.460545 | AA74: =Z74*COS(A74/180*PI()) -> 0.048140062 | AB74: =Z74*SIN(A74/180*PI()) -> -0.45802209 | AC74: =SQRT(AA74^2+AB74^2)+SQRT((AA74-$BC$10)^2+(AB74-$BD$10)^2) -> 0.77423039 | AD74: =AC74/(2*$BC$3) -> 1.0000442 | AE74: =Z74/AD74 -> 0.46052467 | AF74: =AE74*COS(A74/180*PI()) -> 0.048137936 | AG74: =AE74*SIN(A74/180*PI()) -> -0.45800186 | AH74: =SQRT(AF74^2+AG74^2)+SQRT((AF74-$BC$10)^2+(AG74-$BD$10)^2) -> 0.77418998 | AI74: =AH74/(2*$BC$3) -> 0.99999197 | AJ74: =AE74/AI74 -> 0.46052837 | AK74: =AJ74*COS(A74/180*PI()) -> 0.048138322 | AL74: =AJ74*SIN(A74/180*PI()) -> -0.45800554 | AM74: =SQRT(AK74^2+AL74^2)+SQRT((AK74-$BC$10)^2+(AL74-$BD$10)^2) -> 0.77419733 | AN74: =AM74/(2*$BC$3) -> 1.0000015 | AO74: =AJ74/AN74 -> 0.46052769 | AP74: =AO74*COS(A74/180*PI()) -> 0.048138252 | AQ74: =AO74*SIN(A74/180*PI()) -> -0.45800487 | AR74: =SQRT(AP74^2+AQ74^2)+SQRT((AP74-$BC$10)^2+(AQ74-$BD$10)^2) -> 0.77419599 | AS74: =AR74/(2*$BC$3) -> 0.99999973 | AT74: =AO74/AS74 -> 0.46052782 | AU74: =AT74*COS(A74/180*PI()) -> 0.048138265 | AV74: =AT74*SIN(A74/180*PI()) -> -0.458005 | AW74: =SQRT(AU74^2+AV74^2)+SQRT((AU74-$BC$10)^2+(AV74-$BD$10)^2) -> 0.77419624 | AX74: =AW74/(2*$BC$3) -> 1 | AY74: =AT74-0.127 -> 0.33352782 | AZ74: =AY74-'Master Radiusverkleinerung'!G53/100 -> 0.33352782 | BA74: =SQRT((AU74-AU73)^2+(AV74-AV73)^2) -> 0.04849144
A75: 282 | B75: =BC$3*COS(A75/180*PI()) -> 0.08048222 | C75: =BC$3*SIN(A75/180*PI()) -> -0.37863908 | D75: =SQRT(B75^2+C75^2)+SQRT((B75-$BC$10)^2+(C75-$BD$10)^2) -> 0.63819646 | E75: =D75/(2*$BC$3) -> 0.82433427 | F75: =$BC$3/E75 -> 0.46958875 | G75: =F75*COS(A75/180*PI()) -> 0.097632991 | H75: =F75*SIN(A75/180*PI()) -> -0.45932711 | I75: =SQRT(G75^2+H75^2)+SQRT((G75-$BC$10)^2+(H75-$BD$10)^2) -> 0.80098203 | J75: =I75/(2*$BC$3) -> 1.0345982 | K75: =F75/J75 -> 0.45388512 | L75: =K75*COS(A75/180*PI()) -> 0.094368023 | M75: =K75*SIN(A75/180*PI()) -> -0.44396664 | N75: =SQRT(L75^2+M75^2)+SQRT((L75-$BC$10)^2+(M75-$BD$10)^2) -> 0.76990562 | O75: =N75/(2*$BC$3) -> 0.99445802 | P75: =K75/O75 -> 0.45641456 | Q75: =P75*COS(A75/180*PI()) -> 0.094893924 | R75: =P75*SIN(A75/180*PI()) -> -0.44644081 | S75: =SQRT(Q75^2+R75^2)+SQRT((Q75-$BC$10)^2+(R75-$BD$10)^2) -> 0.77490903 | T75: =S75/(2*$BC$3) -> 1.0009207 | U75: =P75/T75 -> 0.45599471 | V75: =U75*COS(A75/180*PI()) -> 0.094806632 | W75: =U75*SIN(A75/180*PI()) -> -0.44603013 | X75: =SQRT(V75^2+W75^2)+SQRT((V75-$BC$10)^2+(W75-$BD$10)^2) -> 0.77407848 | Y75: =X75/(2*$BC$3) -> 0.99984794 | Z75: =U75/Y75 -> 0.45606406 | AA75: =Z75*COS(A75/180*PI()) -> 0.09482105 | AB75: =Z75*SIN(A75/180*PI()) -> -0.44609797 | AC75: =SQRT(AA75^2+AB75^2)+SQRT((AA75-$BC$10)^2+(AB75-$BD$10)^2) -> 0.77421566 | AD75: =AC75/(2*$BC$3) -> 1.0000251 | AE75: =Z75/AD75 -> 0.4560526 | AF75: =AE75*COS(A75/180*PI()) -> 0.094818667 | AG75: =AE75*SIN(A75/180*PI()) -> -0.44608675 | AH75: =SQRT(AF75^2+AG75^2)+SQRT((AF75-$BC$10)^2+(AG75-$BD$10)^2) -> 0.77419298 | AI75: =AH75/(2*$BC$3) -> 0.99999585 | AJ75: =AE75/AI75 -> 0.45605449 | AK75: =AJ75*COS(A75/180*PI()) -> 0.094819061 | AL75: =AJ75*SIN(A75/180*PI()) -> -0.44608861 | AM75: =SQRT(AK75^2+AL75^2)+SQRT((AK75-$BC$10)^2+(AL75-$BD$10)^2) -> 0.77419673 | AN75: =AM75/(2*$BC$3) -> 1.0000007 | AO75: =AJ75/AN75 -> 0.45605418 | AP75: =AO75*COS(A75/180*PI()) -> 0.094818996 | AQ75: =AO75*SIN(A75/180*PI()) -> -0.4460883 | AR75: =SQRT(AP75^2+AQ75^2)+SQRT((AP75-$BC$10)^2+(AQ75-$BD$10)^2) -> 0.77419611 | AS75: =AR75/(2*$BC$3) -> 0.99999989 | AT75: =AO75/AS75 -> 0.45605423 | AU75: =AT75*COS(A75/180*PI()) -> 0.094819006 | AV75: =AT75*SIN(A75/180*PI()) -> -0.44608835 | AW75: =SQRT(AU75^2+AV75^2)+SQRT((AU75-$BC$10)^2+(AV75-$BD$10)^2) -> 0.77419621 | AX75: =AW75/(2*$BC$3) -> 1 | AY75: =AT75-0.127 -> 0.32905423 | AZ75: =AY75-'Master Radiusverkleinerung'!G54/100 -> 0.32905423 | BA75: =SQRT((AU75-AU74)^2+(AV75-AV74)^2) -> 0.048177775
A76: 288 | B76: =BC$3*COS(A76/180*PI()) -> 0.11961989 | C76: =BC$3*SIN(A76/180*PI()) -> -0.36815217 | D76: =SQRT(B76^2+C76^2)+SQRT((B76-$BC$10)^2+(C76-$BD$10)^2) -> 0.64979959 | E76: =D76/(2*$BC$3) -> 0.83932159 | F76: =$BC$3/E76 -> 0.46120355 | G76: =F76*COS(A76/180*PI()) -> 0.14251974 | H76: =F76*SIN(A76/180*PI()) -> -0.43863064 | I76: =SQRT(G76^2+H76^2)+SQRT((G76-$BC$10)^2+(H76-$BD$10)^2) -> 0.79519277 | J76: =I76/(2*$BC$3) -> 1.0271205 | K76: =F76/J76 -> 0.44902576 | L76: =K76*COS(A76/180*PI()) -> 0.13875659 | M76: =K76*SIN(A76/180*PI()) -> -0.42704887 | N76: =SQRT(L76^2+M76^2)+SQRT((L76-$BC$10)^2+(M76-$BD$10)^2) -> 0.77121293 | O76: =N76/(2*$BC$3) -> 0.99614662 | P76: =K76/O76 -> 0.45076272 | Q76: =P76*COS(A76/180*PI()) -> 0.13929334 | R76: =P76*SIN(A76/180*PI()) -> -0.42870082 | S76: =SQRT(Q76^2+R76^2)+SQRT((Q76-$BC$10)^2+(R76-$BD$10)^2) -> 0.77463155 | T76: =S76/(2*$BC$3) -> 1.0005623 | U76: =P76/T76 -> 0.45050939 | V76: =U76*COS(A76/180*PI()) -> 0.13921506 | W76: =U76*SIN(A76/180*PI()) -> -0.42845989 | X76: =SQRT(V76^2+W76^2)+SQRT((V76-$BC$10)^2+(W76-$BD$10)^2) -> 0.77413291 | Y76: =X76/(2*$BC$3) -> 0.99991825 | Z76: =U76/Y76 -> 0.45054622 | AA76: =Z76*COS(A76/180*PI()) -> 0.13922644 | AB76: =Z76*SIN(A76/180*PI()) -> -0.42849491 | AC76: =SQRT(AA76^2+AB76^2)+SQRT((AA76-$BC$10)^2+(AB76-$BD$10)^2) -> 0.77420541 | AD76: =AC76/(2*$BC$3) -> 1.0000119 | AE76: =Z76/AD76 -> 0.45054086 | AF76: =AE76*COS(A76/180*PI()) -> 0.13922478 | AG76: =AE76*SIN(A76/180*PI()) -> -0.42848982 | AH76: =SQRT(AF76^2+AG76^2)+SQRT((AF76-$BC$10)^2+(AG76-$BD$10)^2) -> 0.77419486 | AI76: =AH76/(2*$BC$3) -> 0.99999827 | AJ76: =AE76/AI76 -> 0.45054164 | AK76: =AJ76*COS(A76/180*PI()) -> 0.13922502 | AL76: =AJ76*SIN(A76/180*PI()) -> -0.42849056 | AM76: =SQRT(AK76^2+AL76^2)+SQRT((AK76-$BC$10)^2+(AL76-$BD$10)^2) -> 0.77419639 | AN76: =AM76/(2*$BC$3) -> 1.0000003 | AO76: =AJ76/AN76 -> 0.45054152 | AP76: =AO76*COS(A76/180*PI()) -> 0.13922499 | AQ76: =AO76*SIN(A76/180*PI()) -> -0.42849045 | AR76: =SQRT(AP76^2+AQ76^2)+SQRT((AP76-$BC$10)^2+(AQ76-$BD$10)^2) -> 0.77419617 | AS76: =AR76/(2*$BC$3) -> 0.99999996 | AT76: =AO76/AS76 -> 0.45054154 | AU76: =AT76*COS(A76/180*PI()) -> 0.13922499 | AV76: =AT76*SIN(A76/180*PI()) -> -0.42849047 | AW76: =SQRT(AU76^2+AV76^2)+SQRT((AU76-$BC$10)^2+(AV76-$BD$10)^2) -> 0.7741962 | AX76: =AW76/(2*$BC$3) -> 1 | AY76: =AT76-0.127 -> 0.32354154 | AZ76: =AY76-'Master Radiusverkleinerung'!G55/100 -> 0.32354154 | BA76: =SQRT((AU76-AU75)^2+(AV76-AV75)^2) -> 0.047765858
A77: 294 | B77: =BC$3*COS(A77/180*PI()) -> 0.15744698 | C77: =BC$3*SIN(A77/180*PI()) -> -0.35363171 | D77: =SQRT(B77^2+C77^2)+SQRT((B77-$BC$10)^2+(C77-$BD$10)^2) -> 0.66302761 | E77: =D77/(2*$BC$3) -> 0.85640773 | F77: =$BC$3/E77 -> 0.45200211 | G77: =F77*COS(A77/180*PI()) -> 0.18384582 | H77: =F77*SIN(A77/180*PI()) -> -0.41292447 | I77: =SQRT(G77^2+H77^2)+SQRT((G77-$BC$10)^2+(H77-$BD$10)^2) -> 0.78962556 | J77: =I77/(2*$BC$3) -> 1.0199295 | K77: =F77/J77 -> 0.44316994 | L77: =K77*COS(A77/180*PI()) -> 0.18025345 | M77: =K77*SIN(A77/180*PI()) -> -0.40485589 | N77: =SQRT(L77^2+M77^2)+SQRT((L77-$BC$10)^2+(M77-$BD$10)^2) -> 0.77232549 | O77: =N77/(2*$BC$3) -> 0.99758368 | P77: =K77/O77 -> 0.44424338 | Q77: =P77*COS(A77/180*PI()) -> 0.18069006 | R77: =P77*SIN(A77/180*PI()) -> -0.40583652 | S77: =SQRT(Q77^2+R77^2)+SQRT((Q77-$BC$10)^2+(R77-$BD$10)^2) -> 0.77442707 | T77: =S77/(2*$BC$3) -> 1.0002982 | U77: =P77/T77 -> 0.44411094 | V77: =U77*COS(A77/180*PI()) -> 0.18063619 | W77: =U77*SIN(A77/180*PI()) -> -0.40571553 | X77: =SQRT(V77^2+W77^2)+SQRT((V77-$BC$10)^2+(W77-$BD$10)^2) -> 0.77416777 | Y77: =X77/(2*$BC$3) -> 0.99996328 | Z77: =U77/Y77 -> 0.44412725 | AA77: =Z77*COS(A77/180*PI()) -> 0.18064283 | AB77: =Z77*SIN(A77/180*PI()) -> -0.40573043 | AC77: =SQRT(AA77^2+AB77^2)+SQRT((AA77-$BC$10)^2+(AB77-$BD$10)^2) -> 0.7741997 | AD77: =AC77/(2*$BC$3) -> 1.0000045 | AE77: =Z77/AD77 -> 0.44412524 | AF77: =AE77*COS(A77/180*PI()) -> 0.18064201 | AG77: =AE77*SIN(A77/180*PI()) -> -0.4057286 | AH77: =SQRT(AF77^2+AG77^2)+SQRT((AF77-$BC$10)^2+(AG77-$BD$10)^2) -> 0.77419577 | AI77: =AH77/(2*$BC$3) -> 0.99999944 | AJ77: =AE77/AI77 -> 0.44412549 | AK77: =AJ77*COS(A77/180*PI()) -> 0.18064211 | AL77: =AJ77*SIN(A77/180*PI()) -> -0.40572882 | AM77: =SQRT(AK77^2+AL77^2)+SQRT((AK77-$BC$10)^2+(AL77-$BD$10)^2) -> 0.77419625 | AN77: =AM77/(2*$BC$3) -> 1.0000001 | AO77: =AJ77/AN77 -> 0.44412546 | AP77: =AO77*COS(A77/180*PI()) -> 0.1806421 | AQ77: =AO77*SIN(A77/180*PI()) -> -0.4057288 | AR77: =SQRT(AP77^2+AQ77^2)+SQRT((AP77-$BC$10)^2+(AQ77-$BD$10)^2) -> 0.77419619 | AS77: =AR77/(2*$BC$3) -> 0.99999999 | AT77: =AO77/AS77 -> 0.44412546 | AU77: =AT77*COS(A77/180*PI()) -> 0.1806421 | AV77: =AT77*SIN(A77/180*PI()) -> -0.4057288 | AW77: =SQRT(AU77^2+AV77^2)+SQRT((AU77-$BC$10)^2+(AV77-$BD$10)^2) -> 0.7741962 | AX77: =AW77/(2*$BC$3) -> 1 | AY77: =AT77-0.127 -> 0.31712546 | AZ77: =AY77-'Master Radiusverkleinerung'!G56/100 -> 0.31712546 | BA77: =SQRT((AU77-AU76)^2+(AV77-AV76)^2) -> 0.047259606
A79: 300 | B79: =BC$3*COS(A79/180*PI()) -> 0.19354905 | C79: =BC$3*SIN(A79/180*PI()) -> -0.33523679 | D79: =SQRT(B79^2+C79^2)+SQRT((B79-$BC$10)^2+(C79-$BD$10)^2) -> 0.67752432 | E79: =D79/(2*$BC$3) -> 0.87513258 | F79: =$BC$3/E79 -> 0.44233081 | G79: =F79*COS(A79/180*PI()) -> 0.2211654 | H79: =F79*SIN(A79/180*PI()) -> -0.38306971 | I79: =SQRT(G79^2+H79^2)+SQRT((G79-$BC$10)^2+(H79-$BD$10)^2) -> 0.78467102 | J79: =I79/(2*$BC$3) -> 1.0135299 | K79: =F79/J79 -> 0.43642599 | L79: =K79*COS(A79/180*PI()) -> 0.218213 | M79: =K79*SIN(A79/180*PI()) -> -0.377956 | N79: =SQRT(L79^2+M79^2)+SQRT((L79-$BC$10)^2+(M79-$BD$10)^2) -> 0.77316578 | O79: =N79/(2*$BC$3) -> 0.99866905 | P79: =K79/O79 -> 0.43700763 | Q79: =P79*COS(A79/180*PI()) -> 0.21850381 | R79: =P79*SIN(A79/180*PI()) -> -0.37845971 | S79: =SQRT(Q79^2+R79^2)+SQRT((Q79-$BC$10)^2+(R79-$BD$10)^2) -> 0.77429861 | T79: =S79/(2*$BC$3) -> 1.0001323 | U79: =P79/T79 -> 0.43694983 | V79: =U79*COS(A79/180*PI()) -> 0.21847492 | W79: =U79*SIN(A79/180*PI()) -> -0.37840965 | X79: =SQRT(V79^2+W79^2)+SQRT((V79-$BC$10)^2+(W79-$BD$10)^2) -> 0.77418603 | Y79: =X79/(2*$BC$3) -> 0.99998687 | Z79: =U79/Y79 -> 0.43695557 | AA79: =Z79*COS(A79/180*PI()) -> 0.21847778 | AB79: =Z79*SIN(A79/180*PI()) -> -0.37841462 | AC79: =SQRT(AA79^2+AB79^2)+SQRT((AA79-$BC$10)^2+(AB79-$BD$10)^2) -> 0.77419721 | AD79: =AC79/(2*$BC$3) -> 1.0000013 | AE79: =Z79/AD79 -> 0.436955 | AF79: =AE79*COS(A79/180*PI()) -> 0.2184775 | AG79: =AE79*SIN(A79/180*PI()) -> -0.37841413 | AH79: =SQRT(AF79^2+AG79^2)+SQRT((AF79-$BC$10)^2+(AG79-$BD$10)^2) -> 0.7741961 | AI79: =AH79/(2*$BC$3) -> 0.99999987 | AJ79: =AE79/AI79 -> 0.43695506 | AK79: =AJ79*COS(A79/180*PI()) -> 0.21847753 | AL79: =AJ79*SIN(A79/180*PI()) -> -0.37841418 | AM79: =SQRT(AK79^2+AL79^2)+SQRT((AK79-$BC$10)^2+(AL79-$BD$10)^2) -> 0.77419621 | AN79: =AM79/(2*$BC$3) -> 1 | AO79: =AJ79/AN79 -> 0.43695505 | AP79: =AO79*COS(A79/180*PI()) -> 0.21847752 | AQ79: =AO79*SIN(A79/180*PI()) -> -0.37841417 | AR79: =SQRT(AP79^2+AQ79^2)+SQRT((AP79-$BC$10)^2+(AQ79-$BD$10)^2) -> 0.7741962 | AS79: =AR79/(2*$BC$3) -> 1 | AT79: =AO79/AS79 -> 0.43695505 | AU79: =AT79*COS(A79/180*PI()) -> 0.21847753 | AV79: =AT79*SIN(A79/180*PI()) -> -0.37841417 | AW79: =SQRT(AU79^2+AV79^2)+SQRT((AU79-$BC$10)^2+(AV79-$BD$10)^2) -> 0.7741962 | AX79: =AW79/(2*$BC$3) -> 1 | AY79: =AT79-0.127 -> 0.30995505 | AZ79: =AY79-'Master Radiusverkleinerung'!G57/100 -> 0.30995505 | BA79: =SQRT((AU79-AU77)^2+(AV79-AV77)^2) -> 0.046664849
A80: 306 | B80: =BC$3*COS(A80/180*PI()) -> 0.22753055 | C80: =BC$3*SIN(A80/180*PI()) -> -0.31316894 | D80: =SQRT(B80^2+C80^2)+SQRT((B80-$BC$10)^2+(C80-$BD$10)^2) -> 0.69296246 | E80: =D80/(2*$BC$3) -> 0.89507344 | F80: =$BC$3/E80 -> 0.43247636 | G80: =F80*COS(A80/180*PI()) -> 0.25420322 | H80: =F80*SIN(A80/180*PI()) -> -0.34988072 | I80: =SQRT(G80^2+H80^2)+SQRT((G80-$BC$10)^2+(H80-$BD$10)^2) -> 0.78057621 | J80: =I80/(2*$BC$3) -> 1.0082408 | K80: =F80/J80 -> 0.42894153 | L80: =K80*COS(A80/180*PI()) -> 0.2521255 | M80: =K80*SIN(A80/180*PI()) -> -0.34702098 | N80: =SQRT(L80^2+M80^2)+SQRT((L80-$BC$10)^2+(M80-$BD$10)^2) -> 0.77372268 | O80: =N80/(2*$BC$3) -> 0.99938838 | P80: =K80/O80 -> 0.42920404 | Q80: =P80*COS(A80/180*PI()) -> 0.2522798 | R80: =P80*SIN(A80/180*PI()) -> -0.34723336 | S80: =SQRT(Q80^2+R80^2)+SQRT((Q80-$BC$10)^2+(R80-$BD$10)^2) -> 0.77423151 | T80: =S80/(2*$BC$3) -> 1.0000456 | U80: =P80/T80 -> 0.42918447 | V80: =U80*COS(A80/180*PI()) -> 0.2522683 | W80: =U80*SIN(A80/180*PI()) -> -0.34721753 | X80: =SQRT(V80^2+W80^2)+SQRT((V80-$BC$10)^2+(W80-$BD$10)^2) -> 0.77419357 | Y80: =X80/(2*$BC$3) -> 0.9999966 | Z80: =U80/Y80 -> 0.42918592 | AA80: =Z80*COS(A80/180*PI()) -> 0.25226916 | AB80: =Z80*SIN(A80/180*PI()) -> -0.34721871 | AC80: =SQRT(AA80^2+AB80^2)+SQRT((AA80-$BC$10)^2+(AB80-$BD$10)^2) -> 0.7741964 | AD80: =AC80/(2*$BC$3) -> 1.0000003 | AE80: =Z80/AD80 -> 0.42918582 | AF80: =AE80*COS(A80/180*PI()) -> 0.25226909 | AG80: =AE80*SIN(A80/180*PI()) -> -0.34721862 | AH80: =SQRT(AF80^2+AG80^2)+SQRT((AF80-$BC$10)^2+(AG80-$BD$10)^2) -> 0.77419619 | AI80: =AH80/(2*$BC$3) -> 0.99999998 | AJ80: =AE80/AI80 -> 0.42918582 | AK80: =AJ80*COS(A80/180*PI()) -> 0.2522691 | AL80: =AJ80*SIN(A80/180*PI()) -> -0.34721862 | AM80: =SQRT(AK80^2+AL80^2)+SQRT((AK80-$BC$10)^2+(AL80-$BD$10)^2) -> 0.7741962 | AN80: =AM80/(2*$BC$3) -> 1 | AO80: =AJ80/AN80 -> 0.42918582 | AP80: =AO80*COS(A80/180*PI()) -> 0.2522691 | AQ80: =AO80*SIN(A80/180*PI()) -> -0.34721862 | AR80: =SQRT(AP80^2+AQ80^2)+SQRT((AP80-$BC$10)^2+(AQ80-$BD$10)^2) -> 0.7741962 | AS80: =AR80/(2*$BC$3) -> 1 | AT80: =AO80/AS80 -> 0.42918582 | AU80: =AT80*COS(A80/180*PI()) -> 0.2522691 | AV80: =AT80*SIN(A80/180*PI()) -> -0.34721862 | AW80: =SQRT(AU80^2+AV80^2)+SQRT((AU80-$BC$10)^2+(AV80-$BD$10)^2) -> 0.7741962 | AX80: =AW80/(2*$BC$3) -> 1 | AY80: =AT80-0.127 -> 0.30218582 | AZ80: =AY80-'Master Radiusverkleinerung'!G58/100 -> 0.30218582 | BA80: =SQRT((AU80-AU79)^2+(AV80-AV79)^2) -> 0.045989484
A81: 312 | B81: =BC$3*COS(A81/180*PI()) -> 0.25901919 | C81: =BC$3*SIN(A81/180*PI()) -> -0.28766995 | D81: =SQRT(B81^2+C81^2)+SQRT((B81-$BC$10)^2+(C81-$BD$10)^2) -> 0.70905009 | E81: =D81/(2*$BC$3) -> 0.91585323 | F81: =$BC$3/E81 -> 0.4226639 | G81: =F81*COS(A81/180*PI()) -> 0.28281735 | H81: =F81*SIN(A81/180*PI()) -> -0.31410049 | I81: =SQRT(G81^2+H81^2)+SQRT((G81-$BC$10)^2+(H81-$BD$10)^2) -> 0.77745962 | J81: =I81/(2*$BC$3) -> 1.0042152 | K81: =F81/J81 -> 0.42088975 | L81: =K81*COS(A81/180*PI()) -> 0.28163022 | M81: =K81*SIN(A81/180*PI()) -> -0.31278204 | N81: =SQRT(L81^2+M81^2)+SQRT((L81-$BC$10)^2+(M81-$BD$10)^2) -> 0.77403461 | O81: =N81/(2*$BC$3) -> 0.99979128 | P81: =K81/O81 -> 0.42097762 | Q81: =P81*COS(A81/180*PI()) -> 0.28168901 | R81: =P81*SIN(A81/180*PI()) -> -0.31284734 | S81: =SQRT(Q81^2+R81^2)+SQRT((Q81-$BC$10)^2+(R81-$BD$10)^2) -> 0.77420421 | T81: =S81/(2*$BC$3) -> 1.0000103 | U81: =P81/T81 -> 0.42097326 | V81: =U81*COS(A81/180*PI()) -> 0.2816861 | W81: =U81*SIN(A81/180*PI()) -> -0.3128441 | X81: =SQRT(V81^2+W81^2)+SQRT((V81-$BC$10)^2+(W81-$BD$10)^2) -> 0.7741958 | Y81: =X81/(2*$BC$3) -> 0.99999949 | Z81: =U81/Y81 -> 0.42097348 | AA81: =Z81*COS(A81/180*PI()) -> 0.28168624 | AB81: =Z81*SIN(A81/180*PI()) -> -0.31284426 | AC81: =SQRT(AA81^2+AB81^2)+SQRT((AA81-$BC$10)^2+(AB81-$BD$10)^2) -> 0.77419622 | AD81: =AC81/(2*$BC$3) -> 1 | AE81: =Z81/AD81 -> 0.42097347 | AF81: =AE81*COS(A81/180*PI()) -> 0.28168623 | AG81: =AE81*SIN(A81/180*PI()) -> -0.31284425 | AH81: =SQRT(AF81^2+AG81^2)+SQRT((AF81-$BC$10)^2+(AG81-$BD$10)^2) -> 0.7741962 | AI81: =AH81/(2*$BC$3) -> 1 | AJ81: =AE81/AI81 -> 0.42097347 | AK81: =AJ81*COS(A81/180*PI()) -> 0.28168623 | AL81: =AJ81*SIN(A81/180*PI()) -> -0.31284426 | AM81: =SQRT(AK81^2+AL81^2)+SQRT((AK81-$BC$10)^2+(AL81-$BD$10)^2) -> 0.7741962 | AN81: =AM81/(2*$BC$3) -> 1 | AO81: =AJ81/AN81 -> 0.42097347 | AP81: =AO81*COS(A81/180*PI()) -> 0.28168623 | AQ81: =AO81*SIN(A81/180*PI()) -> -0.31284426 | AR81: =SQRT(AP81^2+AQ81^2)+SQRT((AP81-$BC$10)^2+(AQ81-$BD$10)^2) -> 0.7741962 | AS81: =AR81/(2*$BC$3) -> 1 | AT81: =AO81/AS81 -> 0.42097347 | AU81: =AT81*COS(A81/180*PI()) -> 0.28168623 | AV81: =AT81*SIN(A81/180*PI()) -> -0.31284426 | AW81: =SQRT(AU81^2+AV81^2)+SQRT((AU81-$BC$10)^2+(AV81-$BD$10)^2) -> 0.7741962 | AX81: =AW81/(2*$BC$3) -> 1 | AY81: =AT81-0.127 -> 0.29397347 | AZ81: =AY81-'Master Radiusverkleinerung'!G59/100 -> 0.29397347 | BA81: =SQRT((AU81-AU80)^2+(AV81-AV80)^2) -> 0.045243399
A82: 318 | B82: =BC$3*COS(A82/180*PI()) -> 0.28766995 | C82: =BC$3*SIN(A82/180*PI()) -> -0.25901919 | D82: =SQRT(B82^2+C82^2)+SQRT((B82-$BC$10)^2+(C82-$BD$10)^2) -> 0.7255312 | E82: =D82/(2*$BC$3) -> 0.93714126 | F82: =$BC$3/E82 -> 0.4130627 | G82: =F82*COS(A82/180*PI()) -> 0.30696541 | H82: =F82*SIN(A82/180*PI()) -> -0.2763929 | I82: =SQRT(G82^2+H82^2)+SQRT((G82-$BC$10)^2+(H82-$BD$10)^2) -> 0.77533931 | J82: =I82/(2*$BC$3) -> 1.0014765 | K82: =F82/J82 -> 0.41245371 | L82: =K82*COS(A82/180*PI()) -> 0.30651284 | M82: =K82*SIN(A82/180*PI()) -> -0.2759854 | N82: =SQRT(L82^2+M82^2)+SQRT((L82-$BC$10)^2+(M82-$BD$10)^2) -> 0.77416773 | O82: =N82/(2*$BC$3) -> 0.99996323 | P82: =K82/O82 -> 0.41246888 | Q82: =P82*COS(A82/180*PI()) -> 0.30652411 | R82: =P82*SIN(A82/180*PI()) -> -0.27599555 | S82: =SQRT(Q82^2+R82^2)+SQRT((Q82-$BC$10)^2+(R82-$BD$10)^2) -> 0.77419691 | T82: =S82/(2*$BC$3) -> 1.0000009 | U82: =P82/T82 -> 0.4124685 | V82: =U82*COS(A82/180*PI()) -> 0.30652383 | W82: =U82*SIN(A82/180*PI()) -> -0.2759953 | X82: =SQRT(V82^2+W82^2)+SQRT((V82-$BC$10)^2+(W82-$BD$10)^2) -> 0.77419618 | Y82: =X82/(2*$BC$3) -> 0.99999998 | Z82: =U82/Y82 -> 0.41246851 | AA82: =Z82*COS(A82/180*PI()) -> 0.30652384 | AB82: =Z82*SIN(A82/180*PI()) -> -0.27599531 | AC82: =SQRT(AA82^2+AB82^2)+SQRT((AA82-$BC$10)^2+(AB82-$BD$10)^2) -> 0.7741962 | AD82: =AC82/(2*$BC$3) -> 1 | AE82: =Z82/AD82 -> 0.41246851 | AF82: =AE82*COS(A82/180*PI()) -> 0.30652384 | AG82: =AE82*SIN(A82/180*PI()) -> -0.27599531 | AH82: =SQRT(AF82^2+AG82^2)+SQRT((AF82-$BC$10)^2+(AG82-$BD$10)^2) -> 0.7741962 | AI82: =AH82/(2*$BC$3) -> 1 | AJ82: =AE82/AI82 -> 0.41246851 | AK82: =AJ82*COS(A82/180*PI()) -> 0.30652384 | AL82: =AJ82*SIN(A82/180*PI()) -> -0.27599531 | AM82: =SQRT(AK82^2+AL82^2)+SQRT((AK82-$BC$10)^2+(AL82-$BD$10)^2) -> 0.7741962 | AN82: =AM82/(2*$BC$3) -> 1 | AO82: =AJ82/AN82 -> 0.41246851 | AP82: =AO82*COS(A82/180*PI()) -> 0.30652384 | AQ82: =AO82*SIN(A82/180*PI()) -> -0.27599531 | AR82: =SQRT(AP82^2+AQ82^2)+SQRT((AP82-$BC$10)^2+(AQ82-$BD$10)^2) -> 0.7741962 | AS82: =AR82/(2*$BC$3) -> 1 | AT82: =AO82/AS82 -> 0.41246851 | AU82: =AT82*COS(A82/180*PI()) -> 0.30652384 | AV82: =AT82*SIN(A82/180*PI()) -> -0.27599531 | AW82: =SQRT(AU82^2+AV82^2)+SQRT((AU82-$BC$10)^2+(AV82-$BD$10)^2) -> 0.7741962 | AX82: =AW82/(2*$BC$3) -> 1 | AY82: =AT82-0.127 -> 0.28546851 | AZ82: =AY82-'Master Radiusverkleinerung'!G60/100 -> 0.28546851 | BA82: =SQRT((AU82-AU81)^2+(AV82-AV81)^2) -> 0.04443818
A83: 324 | B83: =BC$3*COS(A83/180*PI()) -> 0.31316894 | C83: =BC$3*SIN(A83/180*PI()) -> -0.22753055 | D83: =SQRT(B83^2+C83^2)+SQRT((B83-$BC$10)^2+(C83-$BD$10)^2) -> 0.74218316 | E83: =D83/(2*$BC$3) -> 0.95864997 | F83: =$BC$3/E83 -> 0.40379504 | G83: =F83*COS(A83/180*PI()) -> 0.32667705 | H83: =F83*SIN(A83/180*PI()) -> -0.23734477 | I83: =SQRT(G83^2+H83^2)+SQRT((G83-$BC$10)^2+(H83-$BD$10)^2) -> 0.7741634 | J83: =I83/(2*$BC$3) -> 0.99995763 | K83: =F83/J83 -> 0.40381215 | L83: =K83*COS(A83/180*PI()) -> 0.32669089 | M83: =K83*SIN(A83/180*PI()) -> -0.23735483 | N83: =SQRT(L83^2+M83^2)+SQRT((L83-$BC$10)^2+(M83-$BD$10)^2) -> 0.77419623 | O83: =N83/(2*$BC$3) -> 1 | P83: =K83/O83 -> 0.40381213 | Q83: =P83*COS(A83/180*PI()) -> 0.32669088 | R83: =P83*SIN(A83/180*PI()) -> -0.23735482 | S83: =SQRT(Q83^2+R83^2)+SQRT((Q83-$BC$10)^2+(R83-$BD$10)^2) -> 0.7741962 | T83: =S83/(2*$BC$3) -> 1 | U83: =P83/T83 -> 0.40381213 | V83: =U83*COS(A83/180*PI()) -> 0.32669088 | W83: =U83*SIN(A83/180*PI()) -> -0.23735482 | X83: =SQRT(V83^2+W83^2)+SQRT((V83-$BC$10)^2+(W83-$BD$10)^2) -> 0.7741962 | Y83: =X83/(2*$BC$3) -> 1 | Z83: =U83/Y83 -> 0.40381213 | AA83: =Z83*COS(A83/180*PI()) -> 0.32669088 | AB83: =Z83*SIN(A83/180*PI()) -> -0.23735482 | AC83: =SQRT(AA83^2+AB83^2)+SQRT((AA83-$BC$10)^2+(AB83-$BD$10)^2) -> 0.7741962 | AD83: =AC83/(2*$BC$3) -> 1 | AE83: =Z83/AD83 -> 0.40381213 | AF83: =AE83*COS(A83/180*PI()) -> 0.32669088 | AG83: =AE83*SIN(A83/180*PI()) -> -0.23735482 | AH83: =SQRT(AF83^2+AG83^2)+SQRT((AF83-$BC$10)^2+(AG83-$BD$10)^2) -> 0.7741962 | AI83: =AH83/(2*$BC$3) -> 1 | AJ83: =AE83/AI83 -> 0.40381213 | AK83: =AJ83*COS(A83/180*PI()) -> 0.32669088 | AL83: =AJ83*SIN(A83/180*PI()) -> -0.23735482 | AM83: =SQRT(AK83^2+AL83^2)+SQRT((AK83-$BC$10)^2+(AL83-$BD$10)^2) -> 0.7741962 | AN83: =AM83/(2*$BC$3) -> 1 | AO83: =AJ83/AN83 -> 0.40381213 | AP83: =AO83*COS(A83/180*PI()) -> 0.32669088 | AQ83: =AO83*SIN(A83/180*PI()) -> -0.23735482 | AR83: =SQRT(AP83^2+AQ83^2)+SQRT((AP83-$BC$10)^2+(AQ83-$BD$10)^2) -> 0.7741962 | AS83: =AR83/(2*$BC$3) -> 1 | AT83: =AO83/AS83 -> 0.40381213 | AU83: =AT83*COS(A83/180*PI()) -> 0.32669088 | AV83: =AT83*SIN(A83/180*PI()) -> -0.23735482 | AW83: =SQRT(AU83^2+AV83^2)+SQRT((AU83-$BC$10)^2+(AV83-$BD$10)^2) -> 0.7741962 | AX83: =AW83/(2*$BC$3) -> 1 | AY83: =AT83-0.127 -> 0.27681213 | AZ83: =AY83-'Master Radiusverkleinerung'!G61/100 -> 0.27681213 | BA83: =SQRT((AU83-AU82)^2+(AV83-AV82)^2) -> 0.043586658
A85: 330 | B85: =BC$3*COS(A85/180*PI()) -> 0.33523679 | C85: =BC$3*SIN(A85/180*PI()) -> -0.19354905 | D85: =SQRT(B85^2+C85^2)+SQRT((B85-$BC$10)^2+(C85-$BD$10)^2) -> 0.75881287 | E85: =D85/(2*$BC$3) -> 0.98012993 | F85: =$BC$3/E85 -> 0.3949457 | G85: =F85*COS(A85/180*PI()) -> 0.34203301 | H85: =F85*SIN(A85/180*PI()) -> -0.19747285 | I85: =SQRT(G85^2+H85^2)+SQRT((G85-$BC$10)^2+(H85-$BD$10)^2) -> 0.77383686 | J85: =I85/(2*$BC$3) -> 0.99953586 | K85: =F85/J85 -> 0.39512909 | L85: =K85*COS(A85/180*PI()) -> 0.34219183 | M85: =K85*SIN(A85/180*PI()) -> -0.19756455 | N85: =SQRT(L85^2+M85^2)+SQRT((L85-$BC$10)^2+(M85-$BD$10)^2) -> 0.77418829 | O85: =N85/(2*$BC$3) -> 0.99998978 | P85: =K85/O85 -> 0.39513313 | Q85: =P85*COS(A85/180*PI()) -> 0.34219533 | R85: =P85*SIN(A85/180*PI()) -> -0.19756657 | S85: =SQRT(Q85^2+R85^2)+SQRT((Q85-$BC$10)^2+(R85-$BD$10)^2) -> 0.77419603 | T85: =S85/(2*$BC$3) -> 0.99999978 | U85: =P85/T85 -> 0.39513322 | V85: =U85*COS(A85/180*PI()) -> 0.34219541 | W85: =U85*SIN(A85/180*PI()) -> -0.19756661 | X85: =SQRT(V85^2+W85^2)+SQRT((V85-$BC$10)^2+(W85-$BD$10)^2) -> 0.7741962 | Y85: =X85/(2*$BC$3) -> 1 | Z85: =U85/Y85 -> 0.39513322 | AA85: =Z85*COS(A85/180*PI()) -> 0.34219541 | AB85: =Z85*SIN(A85/180*PI()) -> -0.19756661 | AC85: =SQRT(AA85^2+AB85^2)+SQRT((AA85-$BC$10)^2+(AB85-$BD$10)^2) -> 0.7741962 | AD85: =AC85/(2*$BC$3) -> 1 | AE85: =Z85/AD85 -> 0.39513322 | AF85: =AE85*COS(A85/180*PI()) -> 0.34219541 | AG85: =AE85*SIN(A85/180*PI()) -> -0.19756661 | AH85: =SQRT(AF85^2+AG85^2)+SQRT((AF85-$BC$10)^2+(AG85-$BD$10)^2) -> 0.7741962 | AI85: =AH85/(2*$BC$3) -> 1 | AJ85: =AE85/AI85 -> 0.39513322 | AK85: =AJ85*COS(A85/180*PI()) -> 0.34219541 | AL85: =AJ85*SIN(A85/180*PI()) -> -0.19756661 | AM85: =SQRT(AK85^2+AL85^2)+SQRT((AK85-$BC$10)^2+(AL85-$BD$10)^2) -> 0.7741962 | AN85: =AM85/(2*$BC$3) -> 1 | AO85: =AJ85/AN85 -> 0.39513322 | AP85: =AO85*COS(A85/180*PI()) -> 0.34219541 | AQ85: =AO85*SIN(A85/180*PI()) -> -0.19756661 | AR85: =SQRT(AP85^2+AQ85^2)+SQRT((AP85-$BC$10)^2+(AQ85-$BD$10)^2) -> 0.7741962 | AS85: =AR85/(2*$BC$3) -> 1 | AT85: =AO85/AS85 -> 0.39513322 | AU85: =AT85*COS(A85/180*PI()) -> 0.34219541 | AV85: =AT85*SIN(A85/180*PI()) -> -0.19756661 | AW85: =SQRT(AU85^2+AV85^2)+SQRT((AU85-$BC$10)^2+(AV85-$BD$10)^2) -> 0.7741962 | AX85: =AW85/(2*$BC$3) -> 1 | AY85: =AT85-0.127 -> 0.26813322 | AZ85: =AY85-'Master Radiusverkleinerung'!G62/100 -> 0.26813322 | BA85: =SQRT((AU85-AU83)^2+(AV85-AV83)^2) -> 0.042702362
A86: 336 | B86: =BC$3*COS(A86/180*PI()) -> 0.35363171 | C86: =BC$3*SIN(A86/180*PI()) -> -0.15744698 | D86: =SQRT(B86^2+C86^2)+SQRT((B86-$BC$10)^2+(C86-$BD$10)^2) -> 0.77525263 | E86: =D86/(2*$BC$3) -> 1.0013646 | F86: =$BC$3/E86 -> 0.3865706 | G86: =F86*COS(A86/180*PI()) -> 0.35314982 | H86: =F86*SIN(A86/180*PI()) -> -0.15723243 | I86: =SQRT(G86^2+H86^2)+SQRT((G86-$BC$10)^2+(H86-$BD$10)^2) -> 0.77424219 | J86: =I86/(2*$BC$3) -> 1.0000594 | K86: =F86/J86 -> 0.38654764 | L86: =K86*COS(A86/180*PI()) -> 0.35312884 | M86: =K86*SIN(A86/180*PI()) -> -0.15722309 | N86: =SQRT(L86^2+M86^2)+SQRT((L86-$BC$10)^2+(M86-$BD$10)^2) -> 0.77419821 | O86: =N86/(2*$BC$3) -> 1.0000026 | P86: =K86/O86 -> 0.38654664 | Q86: =P86*COS(A86/180*PI()) -> 0.35312793 | R86: =P86*SIN(A86/180*PI()) -> -0.15722268 | S86: =SQRT(Q86^2+R86^2)+SQRT((Q86-$BC$10)^2+(R86-$BD$10)^2) -> 0.77419629 | T86: =S86/(2*$BC$3) -> 1.0000001 | U86: =P86/T86 -> 0.38654659 | V86: =U86*COS(A86/180*PI()) -> 0.35312789 | W86: =U86*SIN(A86/180*PI()) -> -0.15722266 | X86: =SQRT(V86^2+W86^2)+SQRT((V86-$BC$10)^2+(W86-$BD$10)^2) -> 0.7741962 | Y86: =X86/(2*$BC$3) -> 1 | Z86: =U86/Y86 -> 0.38654659 | AA86: =Z86*COS(A86/180*PI()) -> 0.35312788 | AB86: =Z86*SIN(A86/180*PI()) -> -0.15722266 | AC86: =SQRT(AA86^2+AB86^2)+SQRT((AA86-$BC$10)^2+(AB86-$BD$10)^2) -> 0.7741962 | AD86: =AC86/(2*$BC$3) -> 1 | AE86: =Z86/AD86 -> 0.38654659 | AF86: =AE86*COS(A86/180*PI()) -> 0.35312788 | AG86: =AE86*SIN(A86/180*PI()) -> -0.15722266 | AH86: =SQRT(AF86^2+AG86^2)+SQRT((AF86-$BC$10)^2+(AG86-$BD$10)^2) -> 0.7741962 | AI86: =AH86/(2*$BC$3) -> 1 | AJ86: =AE86/AI86 -> 0.38654659 | AK86: =AJ86*COS(A86/180*PI()) -> 0.35312788 | AL86: =AJ86*SIN(A86/180*PI()) -> -0.15722266 | AM86: =SQRT(AK86^2+AL86^2)+SQRT((AK86-$BC$10)^2+(AL86-$BD$10)^2) -> 0.7741962 | AN86: =AM86/(2*$BC$3) -> 1 | AO86: =AJ86/AN86 -> 0.38654659 | AP86: =AO86*COS(A86/180*PI()) -> 0.35312788 | AQ86: =AO86*SIN(A86/180*PI()) -> -0.15722266 | AR86: =SQRT(AP86^2+AQ86^2)+SQRT((AP86-$BC$10)^2+(AQ86-$BD$10)^2) -> 0.7741962 | AS86: =AR86/(2*$BC$3) -> 1 | AT86: =AO86/AS86 -> 0.38654659 | AU86: =AT86*COS(A86/180*PI()) -> 0.35312788 | AV86: =AT86*SIN(A86/180*PI()) -> -0.15722266 | AW86: =SQRT(AU86^2+AV86^2)+SQRT((AU86-$BC$10)^2+(AV86-$BD$10)^2) -> 0.7741962 | AX86: =AW86/(2*$BC$3) -> 1 | AY86: =AT86-0.127 -> 0.25954659 | AZ86: =AY86-'Master Radiusverkleinerung'!G63/100 -> 0.25954659 | BA86: =SQRT((AU86-AU85)^2+(AV86-AV85)^2) -> 0.041798961
A87: 342 | B87: =BC$3*COS(A87/180*PI()) -> 0.36815217 | C87: =BC$3*SIN(A87/180*PI()) -> -0.11961989 | D87: =SQRT(B87^2+C87^2)+SQRT((B87-$BC$10)^2+(C87-$BD$10)^2) -> 0.79135638 | E87: =D87/(2*$BC$3) -> 1.0221652 | F87: =$BC$3/E87 -> 0.37870406 | G87: =F87*COS(A87/180*PI()) -> 0.36016897 | H87: =F87*SIN(A87/180*PI()) -> -0.11702599 | I87: =SQRT(G87^2+H87^2)+SQRT((G87-$BC$10)^2+(H87-$BD$10)^2) -> 0.7752539 | J87: =I87/(2*$BC$3) -> 1.0013662 | K87: =F87/J87 -> 0.37818739 | L87: =K87*COS(A87/180*PI()) -> 0.35967758 | M87: =K87*SIN(A87/180*PI()) -> -0.11686633 | N87: =SQRT(L87^2+M87^2)+SQRT((L87-$BC$10)^2+(M87-$BD$10)^2) -> 0.77426366 | O87: =N87/(2*$BC$3) -> 1.0000871 | P87: =K87/O87 -> 0.37815444 | Q87: =P87*COS(A87/180*PI()) -> 0.35964624 | R87: =P87*SIN(A87/180*PI()) -> -0.11685615 | S87: =SQRT(Q87^2+R87^2)+SQRT((Q87-$BC$10)^2+(R87-$BD$10)^2) -> 0.77420051 | T87: =S87/(2*$BC$3) -> 1.0000056 | U87: =P87/T87 -> 0.37815233 | V87: =U87*COS(A87/180*PI()) -> 0.35964424 | W87: =U87*SIN(A87/180*PI()) -> -0.1168555 | X87: =SQRT(V87^2+W87^2)+SQRT((V87-$BC$10)^2+(W87-$BD$10)^2) -> 0.77419648 | Y87: =X87/(2*$BC$3) -> 1.0000004 | Z87: =U87/Y87 -> 0.3781522 | AA87: =Z87*COS(A87/180*PI()) -> 0.35964411 | AB87: =Z87*SIN(A87/180*PI()) -> -0.11685546 | AC87: =SQRT(AA87^2+AB87^2)+SQRT((AA87-$BC$10)^2+(AB87-$BD$10)^2) -> 0.77419622 | AD87: =AC87/(2*$BC$3) -> 1 | AE87: =Z87/AD87 -> 0.37815219 | AF87: =AE87*COS(A87/180*PI()) -> 0.3596441 | AG87: =AE87*SIN(A87/180*PI()) -> -0.11685545 | AH87: =SQRT(AF87^2+AG87^2)+SQRT((AF87-$BC$10)^2+(AG87-$BD$10)^2) -> 0.7741962 | AI87: =AH87/(2*$BC$3) -> 1 | AJ87: =AE87/AI87 -> 0.37815219 | AK87: =AJ87*COS(A87/180*PI()) -> 0.3596441 | AL87: =AJ87*SIN(A87/180*PI()) -> -0.11685545 | AM87: =SQRT(AK87^2+AL87^2)+SQRT((AK87-$BC$10)^2+(AL87-$BD$10)^2) -> 0.7741962 | AN87: =AM87/(2*$BC$3) -> 1 | AO87: =AJ87/AN87 -> 0.37815219 | AP87: =AO87*COS(A87/180*PI()) -> 0.3596441 | AQ87: =AO87*SIN(A87/180*PI()) -> -0.11685545 | AR87: =SQRT(AP87^2+AQ87^2)+SQRT((AP87-$BC$10)^2+(AQ87-$BD$10)^2) -> 0.7741962 | AS87: =AR87/(2*$BC$3) -> 1 | AT87: =AO87/AS87 -> 0.37815219 | AU87: =AT87*COS(A87/180*PI()) -> 0.3596441 | AV87: =AT87*SIN(A87/180*PI()) -> -0.11685545 | AW87: =SQRT(AU87^2+AV87^2)+SQRT((AU87-$BC$10)^2+(AV87-$BD$10)^2) -> 0.7741962 | AX87: =AW87/(2*$BC$3) -> 1 | AY87: =AT87-0.127 -> 0.25115219 | AZ87: =AY87-'Master Radiusverkleinerung'!G64/100 -> 0.25115219 | BA87: =SQRT((AU87-AU86)^2+(AV87-AV86)^2) -> 0.040889764
A88: 348 | B88: =BC$3*COS(A88/180*PI()) -> 0.37863908 | C88: =BC$3*SIN(A88/180*PI()) -> -0.08048222 | D88: =SQRT(B88^2+C88^2)+SQRT((B88-$BC$10)^2+(C88-$BD$10)^2) -> 0.80699631 | E88: =D88/(2*$BC$3) -> 1.0423667 | F88: =$BC$3/E88 -> 0.37136462 | G88: =F88*COS(A88/180*PI()) -> 0.36324941 | H88: =F88*SIN(A88/180*PI()) -> -0.077211046 | I88: =SQRT(G88^2+H88^2)+SQRT((G88-$BC$10)^2+(H88-$BD$10)^2) -> 0.77674796 | J88: =I88/(2*$BC$3) -> 1.003296 | K88: =F88/J88 -> 0.37014462 | L88: =K88*COS(A88/180*PI()) -> 0.36205607 | M88: =K88*SIN(A88/180*PI()) -> -0.076957393 | N88: =SQRT(L88^2+M88^2)+SQRT((L88-$BC$10)^2+(M88-$BD$10)^2) -> 0.77440626 | O88: =N88/(2*$BC$3) -> 1.0002713 | P88: =K88/O88 -> 0.37004421 | Q88: =P88*COS(A88/180*PI()) -> 0.36195786 | R88: =P88*SIN(A88/180*PI()) -> -0.076936518 | S88: =SQRT(Q88^2+R88^2)+SQRT((Q88-$BC$10)^2+(R88-$BD$10)^2) -> 0.77421357 | T88: =S88/(2*$BC$3) -> 1.0000224 | U88: =P88/T88 -> 0.37003591 | V88: =U88*COS(A88/180*PI()) -> 0.36194974 | W88: =U88*SIN(A88/180*PI()) -> -0.076934792 | X88: =SQRT(V88^2+W88^2)+SQRT((V88-$BC$10)^2+(W88-$BD$10)^2) -> 0.77419764 | Y88: =X88/(2*$BC$3) -> 1.0000019 | Z88: =U88/Y88 -> 0.37003523 | AA88: =Z88*COS(A88/180*PI()) -> 0.36194907 | AB88: =Z88*SIN(A88/180*PI()) -> -0.076934649 | AC88: =SQRT(AA88^2+AB88^2)+SQRT((AA88-$BC$10)^2+(AB88-$BD$10)^2) -> 0.77419632 | AD88: =AC88/(2*$BC$3) -> 1.0000002 | AE88: =Z88/AD88 -> 0.37003517 | AF88: =AE88*COS(A88/180*PI()) -> 0.36194901 | AG88: =AE88*SIN(A88/180*PI()) -> -0.076934638 | AH88: =SQRT(AF88^2+AG88^2)+SQRT((AF88-$BC$10)^2+(AG88-$BD$10)^2) -> 0.77419621 | AI88: =AH88/(2*$BC$3) -> 1 | AJ88: =AE88/AI88 -> 0.37003516 | AK88: =AJ88*COS(A88/180*PI()) -> 0.36194901 | AL88: =AJ88*SIN(A88/180*PI()) -> -0.076934637 | AM88: =SQRT(AK88^2+AL88^2)+SQRT((AK88-$BC$10)^2+(AL88-$BD$10)^2) -> 0.7741962 | AN88: =AM88/(2*$BC$3) -> 1 | AO88: =AJ88/AN88 -> 0.37003516 | AP88: =AO88*COS(A88/180*PI()) -> 0.36194901 | AQ88: =AO88*SIN(A88/180*PI()) -> -0.076934637 | AR88: =SQRT(AP88^2+AQ88^2)+SQRT((AP88-$BC$10)^2+(AQ88-$BD$10)^2) -> 0.7741962 | AS88: =AR88/(2*$BC$3) -> 1 | AT88: =AO88/AS88 -> 0.37003516 | AU88: =AT88*COS(A88/180*PI()) -> 0.36194901 | AV88: =AT88*SIN(A88/180*PI()) -> -0.076934637 | AW88: =SQRT(AU88^2+AV88^2)+SQRT((AU88-$BC$10)^2+(AV88-$BD$10)^2) -> 0.7741962 | AX88: =AW88/(2*$BC$3) -> 1 | AY88: =AT88-0.127 -> 0.24303516 | AZ88: =AY88-'Master Radiusverkleinerung'!G65/100 -> 0.24303516 | BA88: =SQRT((AU88-AU87)^2+(AV88-AV87)^2) -> 0.0399873
A89: 354 | B89: =BC$3*COS(A89/180*PI()) -> 0.38497754 | C89: =BC$3*SIN(A89/180*PI()) -> -0.04046277 | D89: =SQRT(B89^2+C89^2)+SQRT((B89-$BC$10)^2+(C89-$BD$10)^2) -> 0.82206013 | E89: =D89/(2*$BC$3) -> 1.061824 | F89: =$BC$3/E89 -> 0.36455956 | G89: =F89*COS(A89/180*PI()) -> 0.36256246 | H89: =F89*SIN(A89/180*PI()) -> -0.03810685 | I89: =SQRT(G89^2+H89^2)+SQRT((G89-$BC$10)^2+(H89-$BD$10)^2) -> 0.77860738 | J89: =I89/(2*$BC$3) -> 1.0056978 | K89: =F89/J89 -> 0.36249415 | L89: =K89*COS(A89/180*PI()) -> 0.36050837 | M89: =K89*SIN(A89/180*PI()) -> -0.037890957 | N89: =SQRT(L89^2+M89^2)+SQRT((L89-$BC$10)^2+(M89-$BD$10)^2) -> 0.77463399 | O89: =N89/(2*$BC$3) -> 1.0005655 | P89: =K89/O89 -> 0.36228929 | Q89: =P89*COS(A89/180*PI()) -> 0.36030463 | R89: =P89*SIN(A89/180*PI()) -> -0.037869542 | S89: =SQRT(Q89^2+R89^2)+SQRT((Q89-$BC$10)^2+(R89-$BD$10)^2) -> 0.77423995 | T89: =S89/(2*$BC$3) -> 1.0000565 | U89: =P89/T89 -> 0.36226881 | V89: =U89*COS(A89/180*PI()) -> 0.36028427 | W89: =U89*SIN(A89/180*PI()) -> -0.037867402 | X89: =SQRT(V89^2+W89^2)+SQRT((V89-$BC$10)^2+(W89-$BD$10)^2) -> 0.77420058 | Y89: =X89/(2*$BC$3) -> 1.0000057 | Z89: =U89/Y89 -> 0.36226677 | AA89: =Z89*COS(A89/180*PI()) -> 0.36028223 | AB89: =Z89*SIN(A89/180*PI()) -> -0.037867188 | AC89: =SQRT(AA89^2+AB89^2)+SQRT((AA89-$BC$10)^2+(AB89-$BD$10)^2) -> 0.77419664 | AD89: =AC89/(2*$BC$3) -> 1.0000006 | AE89: =Z89/AD89 -> 0.36226656 | AF89: =AE89*COS(A89/180*PI()) -> 0.36028203 | AG89: =AE89*SIN(A89/180*PI()) -> -0.037867167 | AH89: =SQRT(AF89^2+AG89^2)+SQRT((AF89-$BC$10)^2+(AG89-$BD$10)^2) -> 0.77419624 | AI89: =AH89/(2*$BC$3) -> 1.0000001 | AJ89: =AE89/AI89 -> 0.36226654 | AK89: =AJ89*COS(A89/180*PI()) -> 0.36028201 | AL89: =AJ89*SIN(A89/180*PI()) -> -0.037867165 | AM89: =SQRT(AK89^2+AL89^2)+SQRT((AK89-$BC$10)^2+(AL89-$BD$10)^2) -> 0.7741962 | AN89: =AM89/(2*$BC$3) -> 1 | AO89: =AJ89/AN89 -> 0.36226654 | AP89: =AO89*COS(A89/180*PI()) -> 0.360282 | AQ89: =AO89*SIN(A89/180*PI()) -> -0.037867165 | AR89: =SQRT(AP89^2+AQ89^2)+SQRT((AP89-$BC$10)^2+(AQ89-$BD$10)^2) -> 0.7741962 | AS89: =AR89/(2*$BC$3) -> 1 | AT89: =AO89/AS89 -> 0.36226654 | AU89: =AT89*COS(A89/180*PI()) -> 0.360282 | AV89: =AT89*SIN(A89/180*PI()) -> -0.037867164 | AW89: =SQRT(AU89^2+AV89^2)+SQRT((AU89-$BC$10)^2+(AV89-$BD$10)^2) -> 0.7741962 | AX89: =AW89/(2*$BC$3) -> 1 | AY89: =AT89-0.127 -> 0.23526654 | AZ89: =AY89-'Master Radiusverkleinerung'!G66/100 -> 0.23526654 | BA89: =SQRT((AU89-AU88)^2+(AV89-AV88)^2) -> 0.039103021
A91: 360 | B91: =BC$3*COS(A91/180*PI()) -> 0.3870981 | C91: =BC$3*SIN(A91/180*PI()) -> -9.4850528e-17 | D91: =SQRT(B91^2+C91^2)+SQRT((B91-$BC$10)^2+(C91-$BD$10)^2) -> 0.83644879 | E91: =D91/(2*$BC$3) -> 1.0804093 | F91: =$BC$3/E91 -> 0.35828837 | G91: =F91*COS(A91/180*PI()) -> 0.35828837 | H91: =F91*SIN(A91/180*PI()) -> -8.779129e-17 | I91: =SQRT(G91^2+H91^2)+SQRT((G91-$BC$10)^2+(H91-$BD$10)^2) -> 0.7807251 | J91: =I91/(2*$BC$3) -> 1.0084331 | K91: =F91/J91 -> 0.35529215 | L91: =K91*COS(A91/180*PI()) -> 0.35529215 | M91: =K91*SIN(A91/180*PI()) -> -8.7057126e-17 | N91: =SQRT(L91^2+M91^2)+SQRT((L91-$BC$10)^2+(M91-$BD$10)^2) -> 0.77494426 | O91: =N91/(2*$BC$3) -> 1.0009662 | P91: =K91/O91 -> 0.35494918 | Q91: =P91*COS(A91/180*PI()) -> 0.35494918 | R91: =P91*SIN(A91/180*PI()) -> -8.6973089e-17 | S91: =SQRT(Q91^2+R91^2)+SQRT((Q91-$BC$10)^2+(R91-$BD$10)^2) -> 0.77428274 | T91: =S91/(2*$BC$3) -> 1.0001118 | U91: =P91/T91 -> 0.35490951 | V91: =U91*COS(A91/180*PI()) -> 0.35490951 | W91: =U91*SIN(A91/180*PI()) -> -8.6963369e-17 | X91: =SQRT(V91^2+W91^2)+SQRT((V91-$BC$10)^2+(W91-$BD$10)^2) -> 0.77420622 | Y91: =X91/(2*$BC$3) -> 1.0000129 | Z91: =U91/Y91 -> 0.35490492 | AA91: =Z91*COS(A91/180*PI()) -> 0.35490492 | AB91: =Z91*SIN(A91/180*PI()) -> -8.6962243e-17 | AC91: =SQRT(AA91^2+AB91^2)+SQRT((AA91-$BC$10)^2+(AB91-$BD$10)^2) -> 0.77419736 | AD91: =AC91/(2*$BC$3) -> 1.0000015 | AE91: =Z91/AD91 -> 0.35490439 | AF91: =AE91*COS(A91/180*PI()) -> 0.35490439 | AG91: =AE91*SIN(A91/180*PI()) -> -8.6962113e-17 | AH91: =SQRT(AF91^2+AG91^2)+SQRT((AF91-$BC$10)^2+(AG91-$BD$10)^2) -> 0.77419633 | AI91: =AH91/(2*$BC$3) -> 1.0000002 | AJ91: =AE91/AI91 -> 0.35490433 | AK91: =AJ91*COS(A91/180*PI()) -> 0.35490433 | AL91: =AJ91*SIN(A91/180*PI()) -> -8.6962098e-17 | AM91: =SQRT(AK91^2+AL91^2)+SQRT((AK91-$BC$10)^2+(AL91-$BD$10)^2) -> 0.77419622 | AN91: =AM91/(2*$BC$3) -> 1 | AO91: =AJ91/AN91 -> 0.35490432 | AP91: =AO91*COS(A91/180*PI()) -> 0.35490432 | AQ91: =AO91*SIN(A91/180*PI()) -> -8.6962096e-17 | AR91: =SQRT(AP91^2+AQ91^2)+SQRT((AP91-$BC$10)^2+(AQ91-$BD$10)^2) -> 0.7741962 | AS91: =AR91/(2*$BC$3) -> 1 | AT91: =AO91/AS91 -> 0.35490432 | AU91: =AT91*COS(A91/180*PI()) -> 0.35490432 | AV91: =AT91*SIN(A91/180*PI()) -> -8.6962096e-17 | AW91: =SQRT(AU91^2+AV91^2)+SQRT((AU91-$BC$10)^2+(AV91-$BD$10)^2) -> 0.7741962 | AX91: =AW91/(2*$BC$3) -> 1 | AY91: =AT91-0.127 -> 0.22790432 | AZ91: =AY91-'Master Radiusverkleinerung'!G67/100 -> 0.22790432 | BA91: =SQRT((AU91-AU89)^2+(AV91-AV89)^2) -> 0.038247113

Sheet Venus
A1: Venus
A3: Große Halbachse a [AE]: | BC3: 0.723325 | BD3: (alle Daten: Stand 7.7.2013, Ahnerts Jahrbuch 2013, S. 174)
A4: numerische Exzentrizität e der Bahn: | BC4: 0.00676888
A5: Abstand der Brennpunkte [AE]: | BC5: =BC4*BC3*2 -> 0.0097922003
A6: Länge des Perihels v [Grad]: | BC6: 131.7742 | BD6: (w + W aus Ahnerts Jahrbuch)
BC8: x | BD8: y
A9: Koordinaten der Sonne (x|y): | BC9: 0 | BD9: 0
A10: Koordinaten des 2. Brennpunktes (xF|yF): | BC10: =BC5*COS((BC6+180)/180*PI()) -> 0.0065235317 | BD10: =BC5*SIN((BC6+180)/180*PI()) -> -0.0073027885
A12: Von l* wurden | BA12: ='Master Radiusverkleinerung'!G7 -> 3.7 | BB12: cm | BC12: abgezogen um l** zu erhalten
A14: Winkel a | B14: x0 | C14: y0 | D14: l1+l2 | E14: (l1+l2)/2a | F14: l1 | G14: x1 | H14: y1 | I14: l1+l2 | J14: (l1+l2)/2a | K14: l1 | L14: x2 | M14: y2 | N14: l1+l2 | O14: (l1+l2)/2a | P14: l1 | Q14: x3 | R14: y3 | S14: l1+l2 | T14: (l1+l2)/2a | U14: l1 | V14: x4 | W14: y4 | X14: l1+l2 | Y14: (l1+l2)/2a | Z14: l1 | AA14: x5 | AB14: y5 | AC14: l1+l2 | AD14: (l1+l2)/2a | AE14: l1 | AF14: x6 | AG14: y6 | AH14: l1+l2 | AI14: (l1+l2)/2a | AJ14: l1 | AK14: x7 | AL14: y7 | AM14: l1+l2 | AN14: (l1+l2)/2a | AO14: l1 | AP14: x8 | AQ14: y8 | AR14: l1+l2 | AS14: (l1+l2)/2a | AT14: l1 | AU14: x9 | AV14: y9 | AW14: l1+l2 | AX14: (l1+l2)/2a | AY14: l* | AZ14: l** | BA14: Abstand | BC14: l* bezieht sich auf das Maßband (12,7 cm sind schon abgezogen)
A15: [Grad] | AT15: [m] | AY15: [m] | AZ15: [m] | BA15: [m] | BC15: l1 = l* + 0,127 m ist der wirkliche Abstand vom Sonnenmittelpunkt
BC16: (vgl. Spalte AT und AY)
A17: 0 | B17: =BC$3*COS(A17/180*PI()) -> 0.723325 | C17: =BC$3*SIN(A17/180*PI()) -> 0 | D17: =SQRT(B17^2+C17^2)+SQRT((B17-$BC$10)^2+(C17-$BD$10)^2) -> 1.4401637 | E17: =D17/(2*$BC$3) -> 0.99551631 | F17: =$BC$3/E17 -> 0.72658277 | G17: =F17*COS(A17/180*PI()) -> 0.72658277 | H17: =F17*SIN(A17/180*PI()) -> 0 | I17: =SQRT(G17^2+H17^2)+SQRT((G17-$BC$10)^2+(H17-$BD$10)^2) -> 1.446679 | J17: =I17/(2*$BC$3) -> 1.0000201 | K17: =F17/J17 -> 0.72656819 | L17: =K17*COS(A17/180*PI()) -> 0.72656819 | M17: =K17*SIN(A17/180*PI()) -> 0 | N17: =SQRT(L17^2+M17^2)+SQRT((L17-$BC$10)^2+(M17-$BD$10)^2) -> 1.4466499 | O17: =N17/(2*$BC$3) -> 0.99999991 | P17: =K17/O17 -> 0.72656825 | Q17: =P17*COS(A17/180*PI()) -> 0.72656825 | R17: =P17*SIN(A17/180*PI()) -> 0 | S17: =SQRT(Q17^2+R17^2)+SQRT((Q17-$BC$10)^2+(R17-$BD$10)^2) -> 1.44665 | T17: =S17/(2*$BC$3) -> 1 | U17: =P17/T17 -> 0.72656825 | V17: =U17*COS(A17/180*PI()) -> 0.72656825 | W17: =U17*SIN(A17/180*PI()) -> 0 | X17: =SQRT(V17^2+W17^2)+SQRT((V17-$BC$10)^2+(W17-$BD$10)^2) -> 1.44665 | Y17: =X17/(2*$BC$3) -> 1 | Z17: =U17/Y17 -> 0.72656825 | AA17: =Z17*COS(A17/180*PI()) -> 0.72656825 | AB17: =Z17*SIN(A17/180*PI()) -> 0 | AC17: =SQRT(AA17^2+AB17^2)+SQRT((AA17-$BC$10)^2+(AB17-$BD$10)^2) -> 1.44665 | AD17: =AC17/(2*$BC$3) -> 1 | AE17: =Z17/AD17 -> 0.72656825 | AF17: =AE17*COS(A17/180*PI()) -> 0.72656825 | AG17: =AE17*SIN(A17/180*PI()) -> 0 | AH17: =SQRT(AF17^2+AG17^2)+SQRT((AF17-$BC$10)^2+(AG17-$BD$10)^2) -> 1.44665 | AI17: =AH17/(2*$BC$3) -> 1 | AJ17: =AE17/AI17 -> 0.72656825 | AK17: =AJ17*COS(A17/180*PI()) -> 0.72656825 | AL17: =AJ17*SIN(A17/180*PI()) -> 0 | AM17: =SQRT(AK17^2+AL17^2)+SQRT((AK17-$BC$10)^2+(AL17-$BD$10)^2) -> 1.44665 | AN17: =AM17/(2*$BC$3) -> 1 | AO17: =AJ17/AN17 -> 0.72656825 | AP17: =AO17*COS(A17/180*PI()) -> 0.72656825 | AQ17: =AO17*SIN(A17/180*PI()) -> 0 | AR17: =SQRT(AP17^2+AQ17^2)+SQRT((AP17-$BC$10)^2+(AQ17-$BD$10)^2) -> 1.44665 | AS17: =AR17/(2*$BC$3) -> 1 | AT17: =AO17/AS17 -> 0.72656825 | AU17: =AT17*COS(A17/180*PI()) -> 0.72656825 | AV17: =AT17*SIN(A17/180*PI()) -> 0 | AW17: =SQRT(AU17^2+AV17^2)+SQRT((AU17-$BC$10)^2+(AV17-$BD$10)^2) -> 1.44665 | AX17: =AW17/(2*$BC$3) -> 1 | AY17: =AT17-0.127 -> 0.59956825 | AZ17: =AY17-'Master Radiusverkleinerung'!G$7/100 -> 0.56256825
A18: 6 | B18: =BC$3*COS(A18/180*PI()) -> 0.71936255 | C18: =BC$3*SIN(A18/180*PI()) -> 0.075608051 | D18: =SQRT(B18^2+C18^2)+SQRT((B18-$BC$10)^2+(C18-$BD$10)^2) -> 1.4409695 | E18: =D18/(2*$BC$3) -> 0.99607336 | F18: =$BC$3/E18 -> 0.72617643 | G18: =F18*COS(A18/180*PI()) -> 0.72219836 | H18: =F18*SIN(A18/180*PI()) -> 0.075906106 | I18: =SQRT(G18^2+H18^2)+SQRT((G18-$BC$10)^2+(H18-$BD$10)^2) -> 1.4466722 | J18: =I18/(2*$BC$3) -> 1.0000154 | K18: =F18/J18 -> 0.72616528 | L18: =K18*COS(A18/180*PI()) -> 0.72218727 | M18: =K18*SIN(A18/180*PI()) -> 0.075904941 | N18: =SQRT(L18^2+M18^2)+SQRT((L18-$BC$10)^2+(M18-$BD$10)^2) -> 1.4466499 | O18: =N18/(2*$BC$3) -> 0.99999994 | P18: =K18/O18 -> 0.72616532 | Q18: =P18*COS(A18/180*PI()) -> 0.72218731 | R18: =P18*SIN(A18/180*PI()) -> 0.075904945 | S18: =SQRT(Q18^2+R18^2)+SQRT((Q18-$BC$10)^2+(R18-$BD$10)^2) -> 1.44665 | T18: =S18/(2*$BC$3) -> 1 | U18: =P18/T18 -> 0.72616532 | V18: =U18*COS(A18/180*PI()) -> 0.72218731 | W18: =U18*SIN(A18/180*PI()) -> 0.075904945 | X18: =SQRT(V18^2+W18^2)+SQRT((V18-$BC$10)^2+(W18-$BD$10)^2) -> 1.44665 | Y18: =X18/(2*$BC$3) -> 1 | Z18: =U18/Y18 -> 0.72616532 | AA18: =Z18*COS(A18/180*PI()) -> 0.72218731 | AB18: =Z18*SIN(A18/180*PI()) -> 0.075904945 | AC18: =SQRT(AA18^2+AB18^2)+SQRT((AA18-$BC$10)^2+(AB18-$BD$10)^2) -> 1.44665 | AD18: =AC18/(2*$BC$3) -> 1 | AE18: =Z18/AD18 -> 0.72616532 | AF18: =AE18*COS(A18/180*PI()) -> 0.72218731 | AG18: =AE18*SIN(A18/180*PI()) -> 0.075904945 | AH18: =SQRT(AF18^2+AG18^2)+SQRT((AF18-$BC$10)^2+(AG18-$BD$10)^2) -> 1.44665 | AI18: =AH18/(2*$BC$3) -> 1 | AJ18: =AE18/AI18 -> 0.72616532 | AK18: =AJ18*COS(A18/180*PI()) -> 0.72218731 | AL18: =AJ18*SIN(A18/180*PI()) -> 0.075904945 | AM18: =SQRT(AK18^2+AL18^2)+SQRT((AK18-$BC$10)^2+(AL18-$BD$10)^2) -> 1.44665 | AN18: =AM18/(2*$BC$3) -> 1 | AO18: =AJ18/AN18 -> 0.72616532 | AP18: =AO18*COS(A18/180*PI()) -> 0.72218731 | AQ18: =AO18*SIN(A18/180*PI()) -> 0.075904945 | AR18: =SQRT(AP18^2+AQ18^2)+SQRT((AP18-$BC$10)^2+(AQ18-$BD$10)^2) -> 1.44665 | AS18: =AR18/(2*$BC$3) -> 1 | AT18: =AO18/AS18 -> 0.72616532 | AU18: =AT18*COS(A18/180*PI()) -> 0.72218731 | AV18: =AT18*SIN(A18/180*PI()) -> 0.075904945 | AW18: =SQRT(AU18^2+AV18^2)+SQRT((AU18-$BC$10)^2+(AV18-$BD$10)^2) -> 1.44665 | AX18: =AW18/(2*$BC$3) -> 1 | AY18: =AT18-0.127 -> 0.59916532 | AZ18: =AY18-'Master Radiusverkleinerung'!G$7/100 -> 0.56216532 | BA18: =SQRT((AU18-AU17)^2+(AV18-AV17)^2) -> 0.076031265
A19: 12 | B19: =BC$3*COS(A19/180*PI()) -> 0.70751861 | C19: =BC$3*SIN(A19/180*PI()) -> 0.15038772 | D19: =SQRT(B19^2+C19^2)+SQRT((B19-$BC$10)^2+(C19-$BD$10)^2) -> 1.4418376 | E19: =D19/(2*$BC$3) -> 0.99667344 | F19: =$BC$3/E19 -> 0.72573922 | G19: =F19*COS(A19/180*PI()) -> 0.70988007 | H19: =F19*SIN(A19/180*PI()) -> 0.15088967 | I19: =SQRT(G19^2+H19^2)+SQRT((G19-$BC$10)^2+(H19-$BD$10)^2) -> 1.4466659 | J19: =I19/(2*$BC$3) -> 1.000011 | K19: =F19/J19 -> 0.72573124 | L19: =K19*COS(A19/180*PI()) -> 0.70987227 | M19: =K19*SIN(A19/180*PI()) -> 0.15088801 | N19: =SQRT(L19^2+M19^2)+SQRT((L19-$BC$10)^2+(M19-$BD$10)^2) -> 1.4466499 | O19: =N19/(2*$BC$3) -> 0.99999996 | P19: =K19/O19 -> 0.72573127 | Q19: =P19*COS(A19/180*PI()) -> 0.7098723 | R19: =P19*SIN(A19/180*PI()) -> 0.15088802 | S19: =SQRT(Q19^2+R19^2)+SQRT((Q19-$BC$10)^2+(R19-$BD$10)^2) -> 1.44665 | T19: =S19/(2*$BC$3) -> 1 | U19: =P19/T19 -> 0.72573127 | V19: =U19*COS(A19/180*PI()) -> 0.7098723 | W19: =U19*SIN(A19/180*PI()) -> 0.15088802 | X19: =SQRT(V19^2+W19^2)+SQRT((V19-$BC$10)^2+(W19-$BD$10)^2) -> 1.44665 | Y19: =X19/(2*$BC$3) -> 1 | Z19: =U19/Y19 -> 0.72573127 | AA19: =Z19*COS(A19/180*PI()) -> 0.7098723 | AB19: =Z19*SIN(A19/180*PI()) -> 0.15088802 | AC19: =SQRT(AA19^2+AB19^2)+SQRT((AA19-$BC$10)^2+(AB19-$BD$10)^2) -> 1.44665 | AD19: =AC19/(2*$BC$3) -> 1 | AE19: =Z19/AD19 -> 0.72573127 | AF19: =AE19*COS(A19/180*PI()) -> 0.7098723 | AG19: =AE19*SIN(A19/180*PI()) -> 0.15088802 | AH19: =SQRT(AF19^2+AG19^2)+SQRT((AF19-$BC$10)^2+(AG19-$BD$10)^2) -> 1.44665 | AI19: =AH19/(2*$BC$3) -> 1 | AJ19: =AE19/AI19 -> 0.72573127 | AK19: =AJ19*COS(A19/180*PI()) -> 0.7098723 | AL19: =AJ19*SIN(A19/180*PI()) -> 0.15088802 | AM19: =SQRT(AK19^2+AL19^2)+SQRT((AK19-$BC$10)^2+(AL19-$BD$10)^2) -> 1.44665 | AN19: =AM19/(2*$BC$3) -> 1 | AO19: =AJ19/AN19 -> 0.72573127 | AP19: =AO19*COS(A19/180*PI()) -> 0.7098723 | AQ19: =AO19*SIN(A19/180*PI()) -> 0.15088802 | AR19: =SQRT(AP19^2+AQ19^2)+SQRT((AP19-$BC$10)^2+(AQ19-$BD$10)^2) -> 1.44665 | AS19: =AR19/(2*$BC$3) -> 1 | AT19: =AO19/AS19 -> 0.72573127 | AU19: =AT19*COS(A19/180*PI()) -> 0.7098723 | AV19: =AT19*SIN(A19/180*PI()) -> 0.15088802 | AW19: =SQRT(AU19^2+AV19^2)+SQRT((AU19-$BC$10)^2+(AV19-$BD$10)^2) -> 1.44665 | AX19: =AW19/(2*$BC$3) -> 1 | AY19: =AT19-0.127 -> 0.59873127 | AZ19: =AY19-'Master Radiusverkleinerung'!G$7/100 -> 0.56173127 | BA19: =SQRT((AU19-AU18)^2+(AV19-AV18)^2) -> 0.075987633
A20: 18 | B20: =BC$3*COS(A20/180*PI()) -> 0.68792295 | C20: =BC$3*SIN(A20/180*PI()) -> 0.22351972 | D20: =SQRT(B20^2+C20^2)+SQRT((B20-$BC$10)^2+(C20-$BD$10)^2) -> 1.4427583 | E20: =D20/(2*$BC$3) -> 0.99730982 | F20: =$BC$3/E20 -> 0.72527612 | G20: =F20*COS(A20/180*PI()) -> 0.68977858 | H20: =F20*SIN(A20/180*PI()) -> 0.22412265 | I20: =SQRT(G20^2+H20^2)+SQRT((G20-$BC$10)^2+(H20-$BD$10)^2) -> 1.4466603 | J20: =I20/(2*$BC$3) -> 1.0000072 | K20: =F20/J20 -> 0.72527094 | L20: =K20*COS(A20/180*PI()) -> 0.68977365 | M20: =K20*SIN(A20/180*PI()) -> 0.22412104 | N20: =SQRT(L20^2+M20^2)+SQRT((L20-$BC$10)^2+(M20-$BD$10)^2) -> 1.44665 | O20: =N20/(2*$BC$3) -> 0.99999998 | P20: =K20/O20 -> 0.72527095 | Q20: =P20*COS(A20/180*PI()) -> 0.68977366 | R20: =P20*SIN(A20/180*PI()) -> 0.22412105 | S20: =SQRT(Q20^2+R20^2)+SQRT((Q20-$BC$10)^2+(R20-$BD$10)^2) -> 1.44665 | T20: =S20/(2*$BC$3) -> 1 | U20: =P20/T20 -> 0.72527095 | V20: =U20*COS(A20/180*PI()) -> 0.68977366 | W20: =U20*SIN(A20/180*PI()) -> 0.22412105 | X20: =SQRT(V20^2+W20^2)+SQRT((V20-$BC$10)^2+(W20-$BD$10)^2) -> 1.44665 | Y20: =X20/(2*$BC$3) -> 1 | Z20: =U20/Y20 -> 0.72527095 | AA20: =Z20*COS(A20/180*PI()) -> 0.68977366 | AB20: =Z20*SIN(A20/180*PI()) -> 0.22412105 | AC20: =SQRT(AA20^2+AB20^2)+SQRT((AA20-$BC$10)^2+(AB20-$BD$10)^2) -> 1.44665 | AD20: =AC20/(2*$BC$3) -> 1 | AE20: =Z20/AD20 -> 0.72527095 | AF20: =AE20*COS(A20/180*PI()) -> 0.68977366 | AG20: =AE20*SIN(A20/180*PI()) -> 0.22412105 | AH20: =SQRT(AF20^2+AG20^2)+SQRT((AF20-$BC$10)^2+(AG20-$BD$10)^2) -> 1.44665 | AI20: =AH20/(2*$BC$3) -> 1 | AJ20: =AE20/AI20 -> 0.72527095 | AK20: =AJ20*COS(A20/180*PI()) -> 0.68977366 | AL20: =AJ20*SIN(A20/180*PI()) -> 0.22412105 | AM20: =SQRT(AK20^2+AL20^2)+SQRT((AK20-$BC$10)^2+(AL20-$BD$10)^2) -> 1.44665 | AN20: =AM20/(2*$BC$3) -> 1 | AO20: =AJ20/AN20 -> 0.72527095 | AP20: =AO20*COS(A20/180*PI()) -> 0.68977366 | AQ20: =AO20*SIN(A20/180*PI()) -> 0.22412105 | AR20: =SQRT(AP20^2+AQ20^2)+SQRT((AP20-$BC$10)^2+(AQ20-$BD$10)^2) -> 1.44665 | AS20: =AR20/(2*$BC$3) -> 1 | AT20: =AO20/AS20 -> 0.72527095 | AU20: =AT20*COS(A20/180*PI()) -> 0.68977366 | AV20: =AT20*SIN(A20/180*PI()) -> 0.22412105 | AW20: =SQRT(AU20^2+AV20^2)+SQRT((AU20-$BC$10)^2+(AV20-$BD$10)^2) -> 1.44665 | AX20: =AW20/(2*$BC$3) -> 1 | AY20: =AT20-0.127 -> 0.59827095 | AZ20: =AY20-'Master Radiusverkleinerung'!G$7/100 -> 0.56127095 | BA20: =SQRT((AU20-AU19)^2+(AV20-AV19)^2) -> 0.07594098
A21: 24 | B21: =BC$3*COS(A21/180*PI()) -> 0.66079027 | C21: =BC$3*SIN(A21/180*PI()) -> 0.29420278 | D21: =SQRT(B21^2+C21^2)+SQRT((B21-$BC$10)^2+(C21-$BD$10)^2) -> 1.4437211 | E21: =D21/(2*$BC$3) -> 0.99797541 | F21: =$BC$3/E21 -> 0.72479241 | G21: =F21*COS(A21/180*PI()) -> 0.66213081 | H21: =F21*SIN(A21/180*PI()) -> 0.29479963 | I21: =SQRT(G21^2+H21^2)+SQRT((G21-$BC$10)^2+(H21-$BD$10)^2) -> 1.4466558 | J21: =I21/(2*$BC$3) -> 1.000004 | K21: =F21/J21 -> 0.72478949 | L21: =K21*COS(A21/180*PI()) -> 0.66212815 | M21: =K21*SIN(A21/180*PI()) -> 0.29479845 | N21: =SQRT(L21^2+M21^2)+SQRT((L21-$BC$10)^2+(M21-$BD$10)^2) -> 1.44665 | O21: =N21/(2*$BC$3) -> 0.99999999 | P21: =K21/O21 -> 0.7247895 | Q21: =P21*COS(A21/180*PI()) -> 0.66212816 | R21: =P21*SIN(A21/180*PI()) -> 0.29479845 | S21: =SQRT(Q21^2+R21^2)+SQRT((Q21-$BC$10)^2+(R21-$BD$10)^2) -> 1.44665 | T21: =S21/(2*$BC$3) -> 1 | U21: =P21/T21 -> 0.7247895 | V21: =U21*COS(A21/180*PI()) -> 0.66212816 | W21: =U21*SIN(A21/180*PI()) -> 0.29479845 | X21: =SQRT(V21^2+W21^2)+SQRT((V21-$BC$10)^2+(W21-$BD$10)^2) -> 1.44665 | Y21: =X21/(2*$BC$3) -> 1 | Z21: =U21/Y21 -> 0.7247895 | AA21: =Z21*COS(A21/180*PI()) -> 0.66212816 | AB21: =Z21*SIN(A21/180*PI()) -> 0.29479845 | AC21: =SQRT(AA21^2+AB21^2)+SQRT((AA21-$BC$10)^2+(AB21-$BD$10)^2) -> 1.44665 | AD21: =AC21/(2*$BC$3) -> 1 | AE21: =Z21/AD21 -> 0.7247895 | AF21: =AE21*COS(A21/180*PI()) -> 0.66212816 | AG21: =AE21*SIN(A21/180*PI()) -> 0.29479845 | AH21: =SQRT(AF21^2+AG21^2)+SQRT((AF21-$BC$10)^2+(AG21-$BD$10)^2) -> 1.44665 | AI21: =AH21/(2*$BC$3) -> 1 | AJ21: =AE21/AI21 -> 0.7247895 | AK21: =AJ21*COS(A21/180*PI()) -> 0.66212816 | AL21: =AJ21*SIN(A21/180*PI()) -> 0.29479845 | AM21: =SQRT(AK21^2+AL21^2)+SQRT((AK21-$BC$10)^2+(AL21-$BD$10)^2) -> 1.44665 | AN21: =AM21/(2*$BC$3) -> 1 | AO21: =AJ21/AN21 -> 0.7247895 | AP21: =AO21*COS(A21/180*PI()) -> 0.66212816 | AQ21: =AO21*SIN(A21/180*PI()) -> 0.29479845 | AR21: =SQRT(AP21^2+AQ21^2)+SQRT((AP21-$BC$10)^2+(AQ21-$BD$10)^2) -> 1.44665 | AS21: =AR21/(2*$BC$3) -> 1 | AT21: =AO21/AS21 -> 0.7247895 | AU21: =AT21*COS(A21/180*PI()) -> 0.66212816 | AV21: =AT21*SIN(A21/180*PI()) -> 0.29479845 | AW21: =SQRT(AU21^2+AV21^2)+SQRT((AU21-$BC$10)^2+(AV21-$BD$10)^2) -> 1.44665 | AX21: =AW21/(2*$BC$3) -> 1 | AY21: =AT21-0.127 -> 0.5977895 | AZ21: =AY21-'Master Radiusverkleinerung'!G$7/100 -> 0.5607895 | BA21: =SQRT((AU21-AU20)^2+(AV21-AV20)^2) -> 0.075891823
A23: 30 | B23: =BC$3*COS(A23/180*PI()) -> 0.62641783 | C23: =BC$3*SIN(A23/180*PI()) -> 0.3616625 | D23: =SQRT(B23^2+C23^2)+SQRT((B23-$BC$10)^2+(C23-$BD$10)^2) -> 1.4447155 | E23: =D23/(2*$BC$3) -> 0.9986628 | F23: =$BC$3/E23 -> 0.72429352 | G23: =F23*COS(A23/180*PI()) -> 0.62725659 | H23: =F23*SIN(A23/180*PI()) -> 0.36214676 | I23: =SQRT(G23^2+H23^2)+SQRT((G23-$BC$10)^2+(H23-$BD$10)^2) -> 1.4466525 | J23: =I23/(2*$BC$3) -> 1.0000017 | K23: =F23/J23 -> 0.72429227 | L23: =K23*COS(A23/180*PI()) -> 0.6272555 | M23: =K23*SIN(A23/180*PI()) -> 0.36214613 | N23: =SQRT(L23^2+M23^2)+SQRT((L23-$BC$10)^2+(M23-$BD$10)^2) -> 1.44665 | O23: =N23/(2*$BC$3) -> 1 | P23: =K23/O23 -> 0.72429227 | Q23: =P23*COS(A23/180*PI()) -> 0.62725551 | R23: =P23*SIN(A23/180*PI()) -> 0.36214613 | S23: =SQRT(Q23^2+R23^2)+SQRT((Q23-$BC$10)^2+(R23-$BD$10)^2) -> 1.44665 | T23: =S23/(2*$BC$3) -> 1 | U23: =P23/T23 -> 0.72429227 | V23: =U23*COS(A23/180*PI()) -> 0.62725551 | W23: =U23*SIN(A23/180*PI()) -> 0.36214613 | X23: =SQRT(V23^2+W23^2)+SQRT((V23-$BC$10)^2+(W23-$BD$10)^2) -> 1.44665 | Y23: =X23/(2*$BC$3) -> 1 | Z23: =U23/Y23 -> 0.72429227 | AA23: =Z23*COS(A23/180*PI()) -> 0.62725551 | AB23: =Z23*SIN(A23/180*PI()) -> 0.36214613 | AC23: =SQRT(AA23^2+AB23^2)+SQRT((AA23-$BC$10)^2+(AB23-$BD$10)^2) -> 1.44665 | AD23: =AC23/(2*$BC$3) -> 1 | AE23: =Z23/AD23 -> 0.72429227 | AF23: =AE23*COS(A23/180*PI()) -> 0.62725551 | AG23: =AE23*SIN(A23/180*PI()) -> 0.36214613 | AH23: =SQRT(AF23^2+AG23^2)+SQRT((AF23-$BC$10)^2+(AG23-$BD$10)^2) -> 1.44665 | AI23: =AH23/(2*$BC$3) -> 1 | AJ23: =AE23/AI23 -> 0.72429227 | AK23: =AJ23*COS(A23/180*PI()) -> 0.62725551 | AL23: =AJ23*SIN(A23/180*PI()) -> 0.36214613 | AM23: =SQRT(AK23^2+AL23^2)+SQRT((AK23-$BC$10)^2+(AL23-$BD$10)^2) -> 1.44665 | AN23: =AM23/(2*$BC$3) -> 1 | AO23: =AJ23/AN23 -> 0.72429227 | AP23: =AO23*COS(A23/180*PI()) -> 0.62725551 | AQ23: =AO23*SIN(A23/180*PI()) -> 0.36214613 | AR23: =SQRT(AP23^2+AQ23^2)+SQRT((AP23-$BC$10)^2+(AQ23-$BD$10)^2) -> 1.44665 | AS23: =AR23/(2*$BC$3) -> 1 | AT23: =AO23/AS23 -> 0.72429227 | AU23: =AT23*COS(A23/180*PI()) -> 0.62725551 | AV23: =AT23*SIN(A23/180*PI()) -> 0.36214613 | AW23: =SQRT(AU23^2+AV23^2)+SQRT((AU23-$BC$10)^2+(AV23-$BD$10)^2) -> 1.44665 | AX23: =AW23/(2*$BC$3) -> 1 | AY23: =AT23-0.127 -> 0.59729227 | AZ23: =AY23-'Master Radiusverkleinerung'!G$7/100 -> 0.56029227 | BA23: =SQRT((AU23-AU21)^2+(AV23-AV21)^2) -> 0.075840706
A24: 36 | B24: =BC$3*COS(A24/180*PI()) -> 0.58518222 | C24: =BC$3*SIN(A24/180*PI()) -> 0.42515977 | D24: =SQRT(B24^2+C24^2)+SQRT((B24-$BC$10)^2+(C24-$BD$10)^2) -> 1.4457305 | E24: =D24/(2*$BC$3) -> 0.99936441 | F24: =$BC$3/E24 -> 0.72378503 | G24: =F24*COS(A24/180*PI()) -> 0.58555439 | H24: =F24*SIN(A24/180*PI()) -> 0.42543017 | I24: =SQRT(G24^2+H24^2)+SQRT((G24-$BC$10)^2+(H24-$BD$10)^2) -> 1.4466505 | J24: =I24/(2*$BC$3) -> 1.0000004 | K24: =F24/J24 -> 0.72378476 | L24: =K24*COS(A24/180*PI()) -> 0.58555417 | M24: =K24*SIN(A24/180*PI()) -> 0.42543001 | N24: =SQRT(L24^2+M24^2)+SQRT((L24-$BC$10)^2+(M24-$BD$10)^2) -> 1.44665 | O24: =N24/(2*$BC$3) -> 1 | P24: =K24/O24 -> 0.72378476 | Q24: =P24*COS(A24/180*PI()) -> 0.58555417 | R24: =P24*SIN(A24/180*PI()) -> 0.42543001 | S24: =SQRT(Q24^2+R24^2)+SQRT((Q24-$BC$10)^2+(R24-$BD$10)^2) -> 1.44665 | T24: =S24/(2*$BC$3) -> 1 | U24: =P24/T24 -> 0.72378476 | V24: =U24*COS(A24/180*PI()) -> 0.58555417 | W24: =U24*SIN(A24/180*PI()) -> 0.42543001 | X24: =SQRT(V24^2+W24^2)+SQRT((V24-$BC$10)^2+(W24-$BD$10)^2) -> 1.44665 | Y24: =X24/(2*$BC$3) -> 1 | Z24: =U24/Y24 -> 0.72378476 | AA24: =Z24*COS(A24/180*PI()) -> 0.58555417 | AB24: =Z24*SIN(A24/180*PI()) -> 0.42543001 | AC24: =SQRT(AA24^2+AB24^2)+SQRT((AA24-$BC$10)^2+(AB24-$BD$10)^2) -> 1.44665 | AD24: =AC24/(2*$BC$3) -> 1 | AE24: =Z24/AD24 -> 0.72378476 | AF24: =AE24*COS(A24/180*PI()) -> 0.58555417 | AG24: =AE24*SIN(A24/180*PI()) -> 0.42543001 | AH24: =SQRT(AF24^2+AG24^2)+SQRT((AF24-$BC$10)^2+(AG24-$BD$10)^2) -> 1.44665 | AI24: =AH24/(2*$BC$3) -> 1 | AJ24: =AE24/AI24 -> 0.72378476 | AK24: =AJ24*COS(A24/180*PI()) -> 0.58555417 | AL24: =AJ24*SIN(A24/180*PI()) -> 0.42543001 | AM24: =SQRT(AK24^2+AL24^2)+SQRT((AK24-$BC$10)^2+(AL24-$BD$10)^2) -> 1.44665 | AN24: =AM24/(2*$BC$3) -> 1 | AO24: =AJ24/AN24 -> 0.72378476 | AP24: =AO24*COS(A24/180*PI()) -> 0.58555417 | AQ24: =AO24*SIN(A24/180*PI()) -> 0.42543001 | AR24: =SQRT(AP24^2+AQ24^2)+SQRT((AP24-$BC$10)^2+(AQ24-$BD$10)^2) -> 1.44665 | AS24: =AR24/(2*$BC$3) -> 1 | AT24: =AO24/AS24 -> 0.72378476 | AU24: =AT24*COS(A24/180*PI()) -> 0.58555417 | AV24: =AT24*SIN(A24/180*PI()) -> 0.42543001 | AW24: =SQRT(AU24^2+AV24^2)+SQRT((AU24-$BC$10)^2+(AV24-$BD$10)^2) -> 1.44665 | AX24: =AW24/(2*$BC$3) -> 1 | AY24: =AT24-0.127 -> 0.59678476 | AZ24: =AY24-'Master Radiusverkleinerung'!G$7/100 -> 0.55978476 | BA24: =SQRT((AU24-AU23)^2+(AV24-AV23)^2) -> 0.075788191
A25: 42 | B25: =BC$3*COS(A25/180*PI()) -> 0.53753523 | C25: =BC$3*SIN(A25/180*PI()) -> 0.4839989 | D25: =SQRT(B25^2+C25^2)+SQRT((B25-$BC$10)^2+(C25-$BD$10)^2) -> 1.4467549 | E25: =D25/(2*$BC$3) -> 1.0000725 | F25: =$BC$3/E25 -> 0.72327257 | G25: =F25*COS(A25/180*PI()) -> 0.53749627 | H25: =F25*SIN(A25/180*PI()) -> 0.48396381 | I25: =SQRT(G25^2+H25^2)+SQRT((G25-$BC$10)^2+(H25-$BD$10)^2) -> 1.44665 | J25: =I25/(2*$BC$3) -> 1 | K25: =F25/J25 -> 0.72327257 | L25: =K25*COS(A25/180*PI()) -> 0.53749626 | M25: =K25*SIN(A25/180*PI()) -> 0.48396381 | N25: =SQRT(L25^2+M25^2)+SQRT((L25-$BC$10)^2+(M25-$BD$10)^2) -> 1.44665 | O25: =N25/(2*$BC$3) -> 1 | P25: =K25/O25 -> 0.72327257 | Q25: =P25*COS(A25/180*PI()) -> 0.53749626 | R25: =P25*SIN(A25/180*PI()) -> 0.48396381 | S25: =SQRT(Q25^2+R25^2)+SQRT((Q25-$BC$10)^2+(R25-$BD$10)^2) -> 1.44665 | T25: =S25/(2*$BC$3) -> 1 | U25: =P25/T25 -> 0.72327257 | V25: =U25*COS(A25/180*PI()) -> 0.53749626 | W25: =U25*SIN(A25/180*PI()) -> 0.48396381 | X25: =SQRT(V25^2+W25^2)+SQRT((V25-$BC$10)^2+(W25-$BD$10)^2) -> 1.44665 | Y25: =X25/(2*$BC$3) -> 1 | Z25: =U25/Y25 -> 0.72327257 | AA25: =Z25*COS(A25/180*PI()) -> 0.53749626 | AB25: =Z25*SIN(A25/180*PI()) -> 0.48396381 | AC25: =SQRT(AA25^2+AB25^2)+SQRT((AA25-$BC$10)^2+(AB25-$BD$10)^2) -> 1.44665 | AD25: =AC25/(2*$BC$3) -> 1 | AE25: =Z25/AD25 -> 0.72327257 | AF25: =AE25*COS(A25/180*PI()) -> 0.53749626 | AG25: =AE25*SIN(A25/180*PI()) -> 0.48396381 | AH25: =SQRT(AF25^2+AG25^2)+SQRT((AF25-$BC$10)^2+(AG25-$BD$10)^2) -> 1.44665 | AI25: =AH25/(2*$BC$3) -> 1 | AJ25: =AE25/AI25 -> 0.72327257 | AK25: =AJ25*COS(A25/180*PI()) -> 0.53749626 | AL25: =AJ25*SIN(A25/180*PI()) -> 0.48396381 | AM25: =SQRT(AK25^2+AL25^2)+SQRT((AK25-$BC$10)^2+(AL25-$BD$10)^2) -> 1.44665 | AN25: =AM25/(2*$BC$3) -> 1 | AO25: =AJ25/AN25 -> 0.72327257 | AP25: =AO25*COS(A25/180*PI()) -> 0.53749626 | AQ25: =AO25*SIN(A25/180*PI()) -> 0.48396381 | AR25: =SQRT(AP25^2+AQ25^2)+SQRT((AP25-$BC$10)^2+(AQ25-$BD$10)^2) -> 1.44665 | AS25: =AR25/(2*$BC$3) -> 1 | AT25: =AO25/AS25 -> 0.72327257 | AU25: =AT25*COS(A25/180*PI()) -> 0.53749626 | AV25: =AT25*SIN(A25/180*PI()) -> 0.48396381 | AW25: =SQRT(AU25^2+AV25^2)+SQRT((AU25-$BC$10)^2+(AV25-$BD$10)^2) -> 1.44665 | AX25: =AW25/(2*$BC$3) -> 1 | AY25: =AT25-0.127 -> 0.59627257 | AZ25: =AY25-'Master Radiusverkleinerung'!G$7/100 -> 0.55927257 | BA25: =SQRT((AU25-AU24)^2+(AV25-AV24)^2) -> 0.075734856
A26: 48 | B26: =BC$3*COS(A26/180*PI()) -> 0.4839989 | C26: =BC$3*SIN(A26/180*PI()) -> 0.53753523 | D26: =SQRT(B26^2+C26^2)+SQRT((B26-$BC$10)^2+(C26-$BD$10)^2) -> 1.4477773 | E26: =D26/(2*$BC$3) -> 1.0007793 | F26: =$BC$3/E26 -> 0.72276177 | G26: =F26*COS(A26/180*PI()) -> 0.48362202 | H26: =F26*SIN(A26/180*PI()) -> 0.53711667 | I26: =SQRT(G26^2+H26^2)+SQRT((G26-$BC$10)^2+(H26-$BD$10)^2) -> 1.4466509 | J26: =I26/(2*$BC$3) -> 1.0000006 | K26: =F26/J26 -> 0.72276131 | L26: =K26*COS(A26/180*PI()) -> 0.48362171 | M26: =K26*SIN(A26/180*PI()) -> 0.53711632 | N26: =SQRT(L26^2+M26^2)+SQRT((L26-$BC$10)^2+(M26-$BD$10)^2) -> 1.44665 | O26: =N26/(2*$BC$3) -> 1 | P26: =K26/O26 -> 0.72276131 | Q26: =P26*COS(A26/180*PI()) -> 0.48362171 | R26: =P26*SIN(A26/180*PI()) -> 0.53711632 | S26: =SQRT(Q26^2+R26^2)+SQRT((Q26-$BC$10)^2+(R26-$BD$10)^2) -> 1.44665 | T26: =S26/(2*$BC$3) -> 1 | U26: =P26/T26 -> 0.72276131 | V26: =U26*COS(A26/180*PI()) -> 0.48362171 | W26: =U26*SIN(A26/180*PI()) -> 0.53711632 | X26: =SQRT(V26^2+W26^2)+SQRT((V26-$BC$10)^2+(W26-$BD$10)^2) -> 1.44665 | Y26: =X26/(2*$BC$3) -> 1 | Z26: =U26/Y26 -> 0.72276131 | AA26: =Z26*COS(A26/180*PI()) -> 0.48362171 | AB26: =Z26*SIN(A26/180*PI()) -> 0.53711632 | AC26: =SQRT(AA26^2+AB26^2)+SQRT((AA26-$BC$10)^2+(AB26-$BD$10)^2) -> 1.44665 | AD26: =AC26/(2*$BC$3) -> 1 | AE26: =Z26/AD26 -> 0.72276131 | AF26: =AE26*COS(A26/180*PI()) -> 0.48362171 | AG26: =AE26*SIN(A26/180*PI()) -> 0.53711632 | AH26: =SQRT(AF26^2+AG26^2)+SQRT((AF26-$BC$10)^2+(AG26-$BD$10)^2) -> 1.44665 | AI26: =AH26/(2*$BC$3) -> 1 | AJ26: =AE26/AI26 -> 0.72276131 | AK26: =AJ26*COS(A26/180*PI()) -> 0.48362171 | AL26: =AJ26*SIN(A26/180*PI()) -> 0.53711632 | AM26: =SQRT(AK26^2+AL26^2)+SQRT((AK26-$BC$10)^2+(AL26-$BD$10)^2) -> 1.44665 | AN26: =AM26/(2*$BC$3) -> 1 | AO26: =AJ26/AN26 -> 0.72276131 | AP26: =AO26*COS(A26/180*PI()) -> 0.48362171 | AQ26: =AO26*SIN(A26/180*PI()) -> 0.53711632 | AR26: =SQRT(AP26^2+AQ26^2)+SQRT((AP26-$BC$10)^2+(AQ26-$BD$10)^2) -> 1.44665 | AS26: =AR26/(2*$BC$3) -> 1 | AT26: =AO26/AS26 -> 0.72276131 | AU26: =AT26*COS(A26/180*PI()) -> 0.48362171 | AV26: =AT26*SIN(A26/180*PI()) -> 0.53711632 | AW26: =SQRT(AU26^2+AV26^2)+SQRT((AU26-$BC$10)^2+(AV26-$BD$10)^2) -> 1.44665 | AX26: =AW26/(2*$BC$3) -> 1 | AY26: =AT26-0.127 -> 0.59576131 | AZ26: =AY26-'Master Radiusverkleinerung'!G$7/100 -> 0.55876131 | BA26: =SQRT((AU26-AU25)^2+(AV26-AV25)^2) -> 0.075681288
A27: 54 | B27: =BC$3*COS(A27/180*PI()) -> 0.42515977 | C27: =BC$3*SIN(A27/180*PI()) -> 0.58518222 | D27: =SQRT(B27^2+C27^2)+SQRT((B27-$BC$10)^2+(C27-$BD$10)^2) -> 1.4487868 | E27: =D27/(2*$BC$3) -> 1.001477 | F27: =$BC$3/E27 -> 0.72225819 | G27: =F27*COS(A27/180*PI()) -> 0.42453271 | H27: =F27*SIN(A27/180*PI()) -> 0.58431915 | I27: =SQRT(G27^2+H27^2)+SQRT((G27-$BC$10)^2+(H27-$BD$10)^2) -> 1.4466532 | J27: =I27/(2*$BC$3) -> 1.0000022 | K27: =F27/J27 -> 0.72225657 | L27: =K27*COS(A27/180*PI()) -> 0.42453176 | M27: =K27*SIN(A27/180*PI()) -> 0.58431784 | N27: =SQRT(L27^2+M27^2)+SQRT((L27-$BC$10)^2+(M27-$BD$10)^2) -> 1.44665 | O27: =N27/(2*$BC$3) -> 1 | P27: =K27/O27 -> 0.72225657 | Q27: =P27*COS(A27/180*PI()) -> 0.42453176 | R27: =P27*SIN(A27/180*PI()) -> 0.58431784 | S27: =SQRT(Q27^2+R27^2)+SQRT((Q27-$BC$10)^2+(R27-$BD$10)^2) -> 1.44665 | T27: =S27/(2*$BC$3) -> 1 | U27: =P27/T27 -> 0.72225657 | V27: =U27*COS(A27/180*PI()) -> 0.42453176 | W27: =U27*SIN(A27/180*PI()) -> 0.58431784 | X27: =SQRT(V27^2+W27^2)+SQRT((V27-$BC$10)^2+(W27-$BD$10)^2) -> 1.44665 | Y27: =X27/(2*$BC$3) -> 1 | Z27: =U27/Y27 -> 0.72225657 | AA27: =Z27*COS(A27/180*PI()) -> 0.42453176 | AB27: =Z27*SIN(A27/180*PI()) -> 0.58431784 | AC27: =SQRT(AA27^2+AB27^2)+SQRT((AA27-$BC$10)^2+(AB27-$BD$10)^2) -> 1.44665 | AD27: =AC27/(2*$BC$3) -> 1 | AE27: =Z27/AD27 -> 0.72225657 | AF27: =AE27*COS(A27/180*PI()) -> 0.42453176 | AG27: =AE27*SIN(A27/180*PI()) -> 0.58431784 | AH27: =SQRT(AF27^2+AG27^2)+SQRT((AF27-$BC$10)^2+(AG27-$BD$10)^2) -> 1.44665 | AI27: =AH27/(2*$BC$3) -> 1 | AJ27: =AE27/AI27 -> 0.72225657 | AK27: =AJ27*COS(A27/180*PI()) -> 0.42453176 | AL27: =AJ27*SIN(A27/180*PI()) -> 0.58431784 | AM27: =SQRT(AK27^2+AL27^2)+SQRT((AK27-$BC$10)^2+(AL27-$BD$10)^2) -> 1.44665 | AN27: =AM27/(2*$BC$3) -> 1 | AO27: =AJ27/AN27 -> 0.72225657 | AP27: =AO27*COS(A27/180*PI()) -> 0.42453176 | AQ27: =AO27*SIN(A27/180*PI()) -> 0.58431784 | AR27: =SQRT(AP27^2+AQ27^2)+SQRT((AP27-$BC$10)^2+(AQ27-$BD$10)^2) -> 1.44665 | AS27: =AR27/(2*$BC$3) -> 1 | AT27: =AO27/AS27 -> 0.72225657 | AU27: =AT27*COS(A27/180*PI()) -> 0.42453176 | AV27: =AT27*SIN(A27/180*PI()) -> 0.58431784 | AW27: =SQRT(AU27^2+AV27^2)+SQRT((AU27-$BC$10)^2+(AV27-$BD$10)^2) -> 1.44665 | AX27: =AW27/(2*$BC$3) -> 1 | AY27: =AT27-0.127 -> 0.59525657 | AZ27: =AY27-'Master Radiusverkleinerung'!G$7/100 -> 0.55825657 | BA27: =SQRT((AU27-AU26)^2+(AV27-AV26)^2) -> 0.075628072
A29: 60 | B29: =BC$3*COS(A29/180*PI()) -> 0.3616625 | C29: =BC$3*SIN(A29/180*PI()) -> 0.62641783 | D29: =SQRT(B29^2+C29^2)+SQRT((B29-$BC$10)^2+(C29-$BD$10)^2) -> 1.4497722 | E29: =D29/(2*$BC$3) -> 1.0021582 | F29: =$BC$3/E29 -> 0.72176727 | G29: =F29*COS(A29/180*PI()) -> 0.36088364 | H29: =F29*SIN(A29/180*PI()) -> 0.62506879 | I29: =SQRT(G29^2+H29^2)+SQRT((G29-$BC$10)^2+(H29-$BD$10)^2) -> 1.4466569 | J29: =I29/(2*$BC$3) -> 1.0000047 | K29: =F29/J29 -> 0.72176385 | L29: =K29*COS(A29/180*PI()) -> 0.36088193 | M29: =K29*SIN(A29/180*PI()) -> 0.62506583 | N29: =SQRT(L29^2+M29^2)+SQRT((L29-$BC$10)^2+(M29-$BD$10)^2) -> 1.44665 | O29: =N29/(2*$BC$3) -> 1 | P29: =K29/O29 -> 0.72176385 | Q29: =P29*COS(A29/180*PI()) -> 0.36088192 | R29: =P29*SIN(A29/180*PI()) -> 0.62506583 | S29: =SQRT(Q29^2+R29^2)+SQRT((Q29-$BC$10)^2+(R29-$BD$10)^2) -> 1.44665 | T29: =S29/(2*$BC$3) -> 1 | U29: =P29/T29 -> 0.72176385 | V29: =U29*COS(A29/180*PI()) -> 0.36088192 | W29: =U29*SIN(A29/180*PI()) -> 0.62506583 | X29: =SQRT(V29^2+W29^2)+SQRT((V29-$BC$10)^2+(W29-$BD$10)^2) -> 1.44665 | Y29: =X29/(2*$BC$3) -> 1 | Z29: =U29/Y29 -> 0.72176385 | AA29: =Z29*COS(A29/180*PI()) -> 0.36088192 | AB29: =Z29*SIN(A29/180*PI()) -> 0.62506583 | AC29: =SQRT(AA29^2+AB29^2)+SQRT((AA29-$BC$10)^2+(AB29-$BD$10)^2) -> 1.44665 | AD29: =AC29/(2*$BC$3) -> 1 | AE29: =Z29/AD29 -> 0.72176385 | AF29: =AE29*COS(A29/180*PI()) -> 0.36088192 | AG29: =AE29*SIN(A29/180*PI()) -> 0.62506583 | AH29: =SQRT(AF29^2+AG29^2)+SQRT((AF29-$BC$10)^2+(AG29-$BD$10)^2) -> 1.44665 | AI29: =AH29/(2*$BC$3) -> 1 | AJ29: =AE29/AI29 -> 0.72176385 | AK29: =AJ29*COS(A29/180*PI()) -> 0.36088192 | AL29: =AJ29*SIN(A29/180*PI()) -> 0.62506583 | AM29: =SQRT(AK29^2+AL29^2)+SQRT((AK29-$BC$10)^2+(AL29-$BD$10)^2) -> 1.44665 | AN29: =AM29/(2*$BC$3) -> 1 | AO29: =AJ29/AN29 -> 0.72176385 | AP29: =AO29*COS(A29/180*PI()) -> 0.36088192 | AQ29: =AO29*SIN(A29/180*PI()) -> 0.62506583 | AR29: =SQRT(AP29^2+AQ29^2)+SQRT((AP29-$BC$10)^2+(AQ29-$BD$10)^2) -> 1.44665 | AS29: =AR29/(2*$BC$3) -> 1 | AT29: =AO29/AS29 -> 0.72176385 | AU29: =AT29*COS(A29/180*PI()) -> 0.36088192 | AV29: =AT29*SIN(A29/180*PI()) -> 0.62506583 | AW29: =SQRT(AU29^2+AV29^2)+SQRT((AU29-$BC$10)^2+(AV29-$BD$10)^2) -> 1.44665 | AX29: =AW29/(2*$BC$3) -> 1 | AY29: =AT29-0.127 -> 0.59476385 | AZ29: =AY29-'Master Radiusverkleinerung'!G$7/100 -> 0.55776385 | BA29: =SQRT((AU29-AU27)^2+(AV29-AV27)^2) -> 0.075575791
A30: 66 | B30: =BC$3*COS(A30/180*PI()) -> 0.29420278 | C30: =BC$3*SIN(A30/180*PI()) -> 0.66079027 | D30: =SQRT(B30^2+C30^2)+SQRT((B30-$BC$10)^2+(C30-$BD$10)^2) -> 1.4507229 | E30: =D30/(2*$BC$3) -> 1.0028154 | F30: =$BC$3/E30 -> 0.72129427 | G30: =F30*COS(A30/180*PI()) -> 0.29337681 | H30: =F30*SIN(A30/180*PI()) -> 0.65893511 | I30: =SQRT(G30^2+H30^2)+SQRT((G30-$BC$10)^2+(H30-$BD$10)^2) -> 1.4466616 | J30: =I30/(2*$BC$3) -> 1.000008 | K30: =F30/J30 -> 0.7212885 | L30: =K30*COS(A30/180*PI()) -> 0.29337446 | M30: =K30*SIN(A30/180*PI()) -> 0.65892983 | N30: =SQRT(L30^2+M30^2)+SQRT((L30-$BC$10)^2+(M30-$BD$10)^2) -> 1.44665 | O30: =N30/(2*$BC$3) -> 1 | P30: =K30/O30 -> 0.72128848 | Q30: =P30*COS(A30/180*PI()) -> 0.29337446 | R30: =P30*SIN(A30/180*PI()) -> 0.65892981 | S30: =SQRT(Q30^2+R30^2)+SQRT((Q30-$BC$10)^2+(R30-$BD$10)^2) -> 1.44665 | T30: =S30/(2*$BC$3) -> 1 | U30: =P30/T30 -> 0.72128848 | V30: =U30*COS(A30/180*PI()) -> 0.29337446 | W30: =U30*SIN(A30/180*PI()) -> 0.65892981 | X30: =SQRT(V30^2+W30^2)+SQRT((V30-$BC$10)^2+(W30-$BD$10)^2) -> 1.44665 | Y30: =X30/(2*$BC$3) -> 1 | Z30: =U30/Y30 -> 0.72128848 | AA30: =Z30*COS(A30/180*PI()) -> 0.29337446 | AB30: =Z30*SIN(A30/180*PI()) -> 0.65892981 | AC30: =SQRT(AA30^2+AB30^2)+SQRT((AA30-$BC$10)^2+(AB30-$BD$10)^2) -> 1.44665 | AD30: =AC30/(2*$BC$3) -> 1 | AE30: =Z30/AD30 -> 0.72128848 | AF30: =AE30*COS(A30/180*PI()) -> 0.29337446 | AG30: =AE30*SIN(A30/180*PI()) -> 0.65892981 | AH30: =SQRT(AF30^2+AG30^2)+SQRT((AF30-$BC$10)^2+(AG30-$BD$10)^2) -> 1.44665 | AI30: =AH30/(2*$BC$3) -> 1 | AJ30: =AE30/AI30 -> 0.72128848 | AK30: =AJ30*COS(A30/180*PI()) -> 0.29337446 | AL30: =AJ30*SIN(A30/180*PI()) -> 0.65892981 | AM30: =SQRT(AK30^2+AL30^2)+SQRT((AK30-$BC$10)^2+(AL30-$BD$10)^2) -> 1.44665 | AN30: =AM30/(2*$BC$3) -> 1 | AO30: =AJ30/AN30 -> 0.72128848 | AP30: =AO30*COS(A30/180*PI()) -> 0.29337446 | AQ30: =AO30*SIN(A30/180*PI()) -> 0.65892981 | AR30: =SQRT(AP30^2+AQ30^2)+SQRT((AP30-$BC$10)^2+(AQ30-$BD$10)^2) -> 1.44665 | AS30: =AR30/(2*$BC$3) -> 1 | AT30: =AO30/AS30 -> 0.72128848 | AU30: =AT30*COS(A30/180*PI()) -> 0.29337446 | AV30: =AT30*SIN(A30/180*PI()) -> 0.65892981 | AW30: =SQRT(AU30^2+AV30^2)+SQRT((AU30-$BC$10)^2+(AV30-$BD$10)^2) -> 1.44665 | AX30: =AW30/(2*$BC$3) -> 1 | AY30: =AT30-0.127 -> 0.59428848 | AZ30: =AY30-'Master Radiusverkleinerung'!G$7/100 -> 0.55728848 | BA30: =SQRT((AU30-AU29)^2+(AV30-AV29)^2) -> 0.075525015
A31: 72 | B31: =BC$3*COS(A31/180*PI()) -> 0.22351972 | C31: =BC$3*SIN(A31/180*PI()) -> 0.68792295 | D31: =SQRT(B31^2+C31^2)+SQRT((B31-$BC$10)^2+(C31-$BD$10)^2) -> 1.4516286 | E31: =D31/(2*$BC$3) -> 1.0034415 | F31: =$BC$3/E31 -> 0.72084422 | G31: =F31*COS(A31/180*PI()) -> 0.22275311 | H31: =F31*SIN(A31/180*PI()) -> 0.68556359 | I31: =SQRT(G31^2+H31^2)+SQRT((G31-$BC$10)^2+(H31-$BD$10)^2) -> 1.4466672 | J31: =I31/(2*$BC$3) -> 1.0000119 | K31: =F31/J31 -> 0.72083563 | L31: =K31*COS(A31/180*PI()) -> 0.22275046 | M31: =K31*SIN(A31/180*PI()) -> 0.68555542 | N31: =SQRT(L31^2+M31^2)+SQRT((L31-$BC$10)^2+(M31-$BD$10)^2) -> 1.4466501 | O31: =N31/(2*$BC$3) -> 1 | P31: =K31/O31 -> 0.7208356 | Q31: =P31*COS(A31/180*PI()) -> 0.22275045 | R31: =P31*SIN(A31/180*PI()) -> 0.68555539 | S31: =SQRT(Q31^2+R31^2)+SQRT((Q31-$BC$10)^2+(R31-$BD$10)^2) -> 1.44665 | T31: =S31/(2*$BC$3) -> 1 | U31: =P31/T31 -> 0.7208356 | V31: =U31*COS(A31/180*PI()) -> 0.22275045 | W31: =U31*SIN(A31/180*PI()) -> 0.68555539 | X31: =SQRT(V31^2+W31^2)+SQRT((V31-$BC$10)^2+(W31-$BD$10)^2) -> 1.44665 | Y31: =X31/(2*$BC$3) -> 1 | Z31: =U31/Y31 -> 0.7208356 | AA31: =Z31*COS(A31/180*PI()) -> 0.22275045 | AB31: =Z31*SIN(A31/180*PI()) -> 0.68555539 | AC31: =SQRT(AA31^2+AB31^2)+SQRT((AA31-$BC$10)^2+(AB31-$BD$10)^2) -> 1.44665 | AD31: =AC31/(2*$BC$3) -> 1 | AE31: =Z31/AD31 -> 0.7208356 | AF31: =AE31*COS(A31/180*PI()) -> 0.22275045 | AG31: =AE31*SIN(A31/180*PI()) -> 0.68555539 | AH31: =SQRT(AF31^2+AG31^2)+SQRT((AF31-$BC$10)^2+(AG31-$BD$10)^2) -> 1.44665 | AI31: =AH31/(2*$BC$3) -> 1 | AJ31: =AE31/AI31 -> 0.7208356 | AK31: =AJ31*COS(A31/180*PI()) -> 0.22275045 | AL31: =AJ31*SIN(A31/180*PI()) -> 0.68555539 | AM31: =SQRT(AK31^2+AL31^2)+SQRT((AK31-$BC$10)^2+(AL31-$BD$10)^2) -> 1.44665 | AN31: =AM31/(2*$BC$3) -> 1 | AO31: =AJ31/AN31 -> 0.7208356 | AP31: =AO31*COS(A31/180*PI()) -> 0.22275045 | AQ31: =AO31*SIN(A31/180*PI()) -> 0.68555539 | AR31: =SQRT(AP31^2+AQ31^2)+SQRT((AP31-$BC$10)^2+(AQ31-$BD$10)^2) -> 1.44665 | AS31: =AR31/(2*$BC$3) -> 1 | AT31: =AO31/AS31 -> 0.7208356 | AU31: =AT31*COS(A31/180*PI()) -> 0.22275045 | AV31: =AT31*SIN(A31/180*PI()) -> 0.68555539 | AW31: =SQRT(AU31^2+AV31^2)+SQRT((AU31-$BC$10)^2+(AV31-$BD$10)^2) -> 1.44665 | AX31: =AW31/(2*$BC$3) -> 1 | AY31: =AT31-0.127 -> 0.5938356 | AZ31: =AY31-'Master Radiusverkleinerung'!G$7/100 -> 0.5568356 | BA31: =SQRT((AU31-AU30)^2+(AV31-AV30)^2) -> 0.075476298
A32: 78 | B32: =BC$3*COS(A32/180*PI()) -> 0.15038772 | C32: =BC$3*SIN(A32/180*PI()) -> 0.70751861 | D32: =SQRT(B32^2+C32^2)+SQRT((B32-$BC$10)^2+(C32-$BD$10)^2) -> 1.4524797 | E32: =D32/(2*$BC$3) -> 1.0040298 | F32: =$BC$3/E32 -> 0.72042186 | G32: =F32*COS(A32/180*PI()) -> 0.14978413 | H32: =F32*SIN(A32/180*PI()) -> 0.70467891 | I32: =SQRT(G32^2+H32^2)+SQRT((G32-$BC$10)^2+(H32-$BD$10)^2) -> 1.4466736 | J32: =I32/(2*$BC$3) -> 1.0000163 | K32: =F32/J32 -> 0.72041012 | L32: =K32*COS(A32/180*PI()) -> 0.14978169 | M32: =K32*SIN(A32/180*PI()) -> 0.70466743 | N32: =SQRT(L32^2+M32^2)+SQRT((L32-$BC$10)^2+(M32-$BD$10)^2) -> 1.4466501 | O32: =N32/(2*$BC$3) -> 1.0000001 | P32: =K32/O32 -> 0.72041008 | Q32: =P32*COS(A32/180*PI()) -> 0.14978168 | R32: =P32*SIN(A32/180*PI()) -> 0.70466739 | S32: =SQRT(Q32^2+R32^2)+SQRT((Q32-$BC$10)^2+(R32-$BD$10)^2) -> 1.44665 | T32: =S32/(2*$BC$3) -> 1 | U32: =P32/T32 -> 0.72041008 | V32: =U32*COS(A32/180*PI()) -> 0.14978168 | W32: =U32*SIN(A32/180*PI()) -> 0.70466739 | X32: =SQRT(V32^2+W32^2)+SQRT((V32-$BC$10)^2+(W32-$BD$10)^2) -> 1.44665 | Y32: =X32/(2*$BC$3) -> 1 | Z32: =U32/Y32 -> 0.72041008 | AA32: =Z32*COS(A32/180*PI()) -> 0.14978168 | AB32: =Z32*SIN(A32/180*PI()) -> 0.70466739 | AC32: =SQRT(AA32^2+AB32^2)+SQRT((AA32-$BC$10)^2+(AB32-$BD$10)^2) -> 1.44665 | AD32: =AC32/(2*$BC$3) -> 1 | AE32: =Z32/AD32 -> 0.72041008 | AF32: =AE32*COS(A32/180*PI()) -> 0.14978168 | AG32: =AE32*SIN(A32/180*PI()) -> 0.70466739 | AH32: =SQRT(AF32^2+AG32^2)+SQRT((AF32-$BC$10)^2+(AG32-$BD$10)^2) -> 1.44665 | AI32: =AH32/(2*$BC$3) -> 1 | AJ32: =AE32/AI32 -> 0.72041008 | AK32: =AJ32*COS(A32/180*PI()) -> 0.14978168 | AL32: =AJ32*SIN(A32/180*PI()) -> 0.70466739 | AM32: =SQRT(AK32^2+AL32^2)+SQRT((AK32-$BC$10)^2+(AL32-$BD$10)^2) -> 1.44665 | AN32: =AM32/(2*$BC$3) -> 1 | AO32: =AJ32/AN32 -> 0.72041008 | AP32: =AO32*COS(A32/180*PI()) -> 0.14978168 | AQ32: =AO32*SIN(A32/180*PI()) -> 0.70466739 | AR32: =SQRT(AP32^2+AQ32^2)+SQRT((AP32-$BC$10)^2+(AQ32-$BD$10)^2) -> 1.44665 | AS32: =AR32/(2*$BC$3) -> 1 | AT32: =AO32/AS32 -> 0.72041008 | AU32: =AT32*COS(A32/180*PI()) -> 0.14978168 | AV32: =AT32*SIN(A32/180*PI()) -> 0.70466739 | AW32: =SQRT(AU32^2+AV32^2)+SQRT((AU32-$BC$10)^2+(AV32-$BD$10)^2) -> 1.44665 | AX32: =AW32/(2*$BC$3) -> 1 | AY32: =AT32-0.127 -> 0.59341008 | AZ32: =AY32-'Master Radiusverkleinerung'!G$7/100 -> 0.55641008 | BA32: =SQRT((AU32-AU31)^2+(AV32-AV31)^2) -> 0.075430168
A33: 84 | B33: =BC$3*COS(A33/180*PI()) -> 0.075608051 | C33: =BC$3*SIN(A33/180*PI()) -> 0.71936255 | D33: =SQRT(B33^2+C33^2)+SQRT((B33-$BC$10)^2+(C33-$BD$10)^2) -> 1.4532669 | E33: =D33/(2*$BC$3) -> 1.004574 | F33: =$BC$3/E33 -> 0.72003161 | G33: =F33*COS(A33/180*PI()) -> 0.075263798 | H33: =F33*SIN(A33/180*PI()) -> 0.7160872 | I33: =SQRT(G33^2+H33^2)+SQRT((G33-$BC$10)^2+(H33-$BD$10)^2) -> 1.4466803 | J33: =I33/(2*$BC$3) -> 1.0000209 | K33: =F33/J33 -> 0.72001654 | L33: =K33*COS(A33/180*PI()) -> 0.075262222 | M33: =K33*SIN(A33/180*PI()) -> 0.71607221 | N33: =SQRT(L33^2+M33^2)+SQRT((L33-$BC$10)^2+(M33-$BD$10)^2) -> 1.4466501 | O33: =N33/(2*$BC$3) -> 1.0000001 | P33: =K33/O33 -> 0.72001647 | Q33: =P33*COS(A33/180*PI()) -> 0.075262215 | R33: =P33*SIN(A33/180*PI()) -> 0.71607214 | S33: =SQRT(Q33^2+R33^2)+SQRT((Q33-$BC$10)^2+(R33-$BD$10)^2) -> 1.44665 | T33: =S33/(2*$BC$3) -> 1 | U33: =P33/T33 -> 0.72001647 | V33: =U33*COS(A33/180*PI()) -> 0.075262215 | W33: =U33*SIN(A33/180*PI()) -> 0.71607214 | X33: =SQRT(V33^2+W33^2)+SQRT((V33-$BC$10)^2+(W33-$BD$10)^2) -> 1.44665 | Y33: =X33/(2*$BC$3) -> 1 | Z33: =U33/Y33 -> 0.72001647 | AA33: =Z33*COS(A33/180*PI()) -> 0.075262215 | AB33: =Z33*SIN(A33/180*PI()) -> 0.71607214 | AC33: =SQRT(AA33^2+AB33^2)+SQRT((AA33-$BC$10)^2+(AB33-$BD$10)^2) -> 1.44665 | AD33: =AC33/(2*$BC$3) -> 1 | AE33: =Z33/AD33 -> 0.72001647 | AF33: =AE33*COS(A33/180*PI()) -> 0.075262215 | AG33: =AE33*SIN(A33/180*PI()) -> 0.71607214 | AH33: =SQRT(AF33^2+AG33^2)+SQRT((AF33-$BC$10)^2+(AG33-$BD$10)^2) -> 1.44665 | AI33: =AH33/(2*$BC$3) -> 1 | AJ33: =AE33/AI33 -> 0.72001647 | AK33: =AJ33*COS(A33/180*PI()) -> 0.075262215 | AL33: =AJ33*SIN(A33/180*PI()) -> 0.71607214 | AM33: =SQRT(AK33^2+AL33^2)+SQRT((AK33-$BC$10)^2+(AL33-$BD$10)^2) -> 1.44665 | AN33: =AM33/(2*$BC$3) -> 1 | AO33: =AJ33/AN33 -> 0.72001647 | AP33: =AO33*COS(A33/180*PI()) -> 0.075262215 | AQ33: =AO33*SIN(A33/180*PI()) -> 0.71607214 | AR33: =SQRT(AP33^2+AQ33^2)+SQRT((AP33-$BC$10)^2+(AQ33-$BD$10)^2) -> 1.44665 | AS33: =AR33/(2*$BC$3) -> 1 | AT33: =AO33/AS33 -> 0.72001647 | AU33: =AT33*COS(A33/180*PI()) -> 0.075262215 | AV33: =AT33*SIN(A33/180*PI()) -> 0.71607214 | AW33: =SQRT(AU33^2+AV33^2)+SQRT((AU33-$BC$10)^2+(AV33-$BD$10)^2) -> 1.44665 | AX33: =AW33/(2*$BC$3) -> 1 | AY33: =AT33-0.127 -> 0.59301647 | AZ33: =AY33-'Master Radiusverkleinerung'!G$7/100 -> 0.55601647 | BA33: =SQRT((AU33-AU32)^2+(AV33-AV32)^2) -> 0.075387125
A35: 90 | B35: =BC$3*COS(A35/180*PI()) -> 4.4309025e-17 | C35: =BC$3*SIN(A35/180*PI()) -> 0.723325 | D35: =SQRT(B35^2+C35^2)+SQRT((B35-$BC$10)^2+(C35-$BD$10)^2) -> 1.4539819 | E35: =D35/(2*$BC$3) -> 1.0050682 | F35: =$BC$3/E35 -> 0.71967753 | G35: =F35*COS(A35/180*PI()) -> 4.4085591e-17 | H35: =F35*SIN(A35/180*PI()) -> 0.71967753 | I35: =SQRT(G35^2+H35^2)+SQRT((G35-$BC$10)^2+(H35-$BD$10)^2) -> 1.4466871 | J35: =I35/(2*$BC$3) -> 1.0000257 | K35: =F35/J35 -> 0.71965907 | L35: =K35*COS(A35/180*PI()) -> 4.408446e-17 | M35: =K35*SIN(A35/180*PI()) -> 0.71965907 | N35: =SQRT(L35^2+M35^2)+SQRT((L35-$BC$10)^2+(M35-$BD$10)^2) -> 1.4466502 | O35: =N35/(2*$BC$3) -> 1.0000001 | P35: =K35/O35 -> 0.71965897 | Q35: =P35*COS(A35/180*PI()) -> 4.4084454e-17 | R35: =P35*SIN(A35/180*PI()) -> 0.71965897 | S35: =SQRT(Q35^2+R35^2)+SQRT((Q35-$BC$10)^2+(R35-$BD$10)^2) -> 1.44665 | T35: =S35/(2*$BC$3) -> 1 | U35: =P35/T35 -> 0.71965897 | V35: =U35*COS(A35/180*PI()) -> 4.4084454e-17 | W35: =U35*SIN(A35/180*PI()) -> 0.71965897 | X35: =SQRT(V35^2+W35^2)+SQRT((V35-$BC$10)^2+(W35-$BD$10)^2) -> 1.44665 | Y35: =X35/(2*$BC$3) -> 1 | Z35: =U35/Y35 -> 0.71965897 | AA35: =Z35*COS(A35/180*PI()) -> 4.4084454e-17 | AB35: =Z35*SIN(A35/180*PI()) -> 0.71965897 | AC35: =SQRT(AA35^2+AB35^2)+SQRT((AA35-$BC$10)^2+(AB35-$BD$10)^2) -> 1.44665 | AD35: =AC35/(2*$BC$3) -> 1 | AE35: =Z35/AD35 -> 0.71965897 | AF35: =AE35*COS(A35/180*PI()) -> 4.4084454e-17 | AG35: =AE35*SIN(A35/180*PI()) -> 0.71965897 | AH35: =SQRT(AF35^2+AG35^2)+SQRT((AF35-$BC$10)^2+(AG35-$BD$10)^2) -> 1.44665 | AI35: =AH35/(2*$BC$3) -> 1 | AJ35: =AE35/AI35 -> 0.71965897 | AK35: =AJ35*COS(A35/180*PI()) -> 4.4084454e-17 | AL35: =AJ35*SIN(A35/180*PI()) -> 0.71965897 | AM35: =SQRT(AK35^2+AL35^2)+SQRT((AK35-$BC$10)^2+(AL35-$BD$10)^2) -> 1.44665 | AN35: =AM35/(2*$BC$3) -> 1 | AO35: =AJ35/AN35 -> 0.71965897 | AP35: =AO35*COS(A35/180*PI()) -> 4.4084454e-17 | AQ35: =AO35*SIN(A35/180*PI()) -> 0.71965897 | AR35: =SQRT(AP35^2+AQ35^2)+SQRT((AP35-$BC$10)^2+(AQ35-$BD$10)^2) -> 1.44665 | AS35: =AR35/(2*$BC$3) -> 1 | AT35: =AO35/AS35 -> 0.71965897 | AU35: =AT35*COS(A35/180*PI()) -> 4.4084454e-17 | AV35: =AT35*SIN(A35/180*PI()) -> 0.71965897 | AW35: =SQRT(AU35^2+AV35^2)+SQRT((AU35-$BC$10)^2+(AV35-$BD$10)^2) -> 1.44665 | AX35: =AW35/(2*$BC$3) -> 1 | AY35: =AT35-0.127 -> 0.59265897 | AZ35: =AY35-'Master Radiusverkleinerung'!G$7/100 -> 0.55565897 | BA35: =SQRT((AU35-AU33)^2+(AV35-AV33)^2) -> 0.075347636
A36: 96 | B36: =BC$3*COS(A36/180*PI()) -> -0.075608051 | C36: =BC$3*SIN(A36/180*PI()) -> 0.71936255 | D36: =SQRT(B36^2+C36^2)+SQRT((B36-$BC$10)^2+(C36-$BD$10)^2) -> 1.4546171 | E36: =D36/(2*$BC$3) -> 1.0055073 | F36: =$BC$3/E36 -> 0.71936328 | G36: =F36*COS(A36/180*PI()) -> -0.075193938 | H36: =F36*SIN(A36/180*PI()) -> 0.71542253 | I36: =SQRT(G36^2+H36^2)+SQRT((G36-$BC$10)^2+(H36-$BD$10)^2) -> 1.4466938 | J36: =I36/(2*$BC$3) -> 1.0000302 | K36: =F36/J36 -> 0.71934152 | L36: =K36*COS(A36/180*PI()) -> -0.075191663 | M36: =K36*SIN(A36/180*PI()) -> 0.71540089 | N36: =SQRT(L36^2+M36^2)+SQRT((L36-$BC$10)^2+(M36-$BD$10)^2) -> 1.4466502 | O36: =N36/(2*$BC$3) -> 1.0000002 | P36: =K36/O36 -> 0.7193414 | Q36: =P36*COS(A36/180*PI()) -> -0.075191651 | R36: =P36*SIN(A36/180*PI()) -> 0.71540077 | S36: =SQRT(Q36^2+R36^2)+SQRT((Q36-$BC$10)^2+(R36-$BD$10)^2) -> 1.44665 | T36: =S36/(2*$BC$3) -> 1 | U36: =P36/T36 -> 0.7193414 | V36: =U36*COS(A36/180*PI()) -> -0.075191651 | W36: =U36*SIN(A36/180*PI()) -> 0.71540077 | X36: =SQRT(V36^2+W36^2)+SQRT((V36-$BC$10)^2+(W36-$BD$10)^2) -> 1.44665 | Y36: =X36/(2*$BC$3) -> 1 | Z36: =U36/Y36 -> 0.7193414 | AA36: =Z36*COS(A36/180*PI()) -> -0.075191651 | AB36: =Z36*SIN(A36/180*PI()) -> 0.71540077 | AC36: =SQRT(AA36^2+AB36^2)+SQRT((AA36-$BC$10)^2+(AB36-$BD$10)^2) -> 1.44665 | AD36: =AC36/(2*$BC$3) -> 1 | AE36: =Z36/AD36 -> 0.7193414 | AF36: =AE36*COS(A36/180*PI()) -> -0.075191651 | AG36: =AE36*SIN(A36/180*PI()) -> 0.71540077 | AH36: =SQRT(AF36^2+AG36^2)+SQRT((AF36-$BC$10)^2+(AG36-$BD$10)^2) -> 1.44665 | AI36: =AH36/(2*$BC$3) -> 1 | AJ36: =AE36/AI36 -> 0.7193414 | AK36: =AJ36*COS(A36/180*PI()) -> -0.075191651 | AL36: =AJ36*SIN(A36/180*PI()) -> 0.71540077 | AM36: =SQRT(AK36^2+AL36^2)+SQRT((AK36-$BC$10)^2+(AL36-$BD$10)^2) -> 1.44665 | AN36: =AM36/(2*$BC$3) -> 1 | AO36: =AJ36/AN36 -> 0.7193414 | AP36: =AO36*COS(A36/180*PI()) -> -0.075191651 | AQ36: =AO36*SIN(A36/180*PI()) -> 0.71540077 | AR36: =SQRT(AP36^2+AQ36^2)+SQRT((AP36-$BC$10)^2+(AQ36-$BD$10)^2) -> 1.44665 | AS36: =AR36/(2*$BC$3) -> 1 | AT36: =AO36/AS36 -> 0.7193414 | AU36: =AT36*COS(A36/180*PI()) -> -0.075191651 | AV36: =AT36*SIN(A36/180*PI()) -> 0.71540077 | AW36: =SQRT(AU36^2+AV36^2)+SQRT((AU36-$BC$10)^2+(AV36-$BD$10)^2) -> 1.44665 | AX36: =AW36/(2*$BC$3) -> 1 | AY36: =AT36-0.127 -> 0.5923414 | AZ36: =AY36-'Master Radiusverkleinerung'!G$7/100 -> 0.5553414 | BA36: =SQRT((AU36-AU35)^2+(AV36-AV35)^2) -> 0.075312128
A37: 102 | B37: =BC$3*COS(A37/180*PI()) -> -0.15038772 | C37: =BC$3*SIN(A37/180*PI()) -> 0.70751861 | D37: =SQRT(B37^2+C37^2)+SQRT((B37-$BC$10)^2+(C37-$BD$10)^2) -> 1.4551657 | E37: =D37/(2*$BC$3) -> 1.0058865 | F37: =$BC$3/E37 -> 0.71909208 | G37: =F37*COS(A37/180*PI()) -> -0.14950765 | H37: =F37*SIN(A37/180*PI()) -> 0.70337819 | I37: =SQRT(G37^2+H37^2)+SQRT((G37-$BC$10)^2+(H37-$BD$10)^2) -> 1.4466999 | J37: =I37/(2*$BC$3) -> 1.0000345 | K37: =F37/J37 -> 0.71906726 | L37: =K37*COS(A37/180*PI()) -> -0.14950249 | M37: =K37*SIN(A37/180*PI()) -> 0.70335392 | N37: =SQRT(L37^2+M37^2)+SQRT((L37-$BC$10)^2+(M37-$BD$10)^2) -> 1.4466503 | O37: =N37/(2*$BC$3) -> 1.0000002 | P37: =K37/O37 -> 0.71906711 | Q37: =P37*COS(A37/180*PI()) -> -0.14950246 | R37: =P37*SIN(A37/180*PI()) -> 0.70335377 | S37: =SQRT(Q37^2+R37^2)+SQRT((Q37-$BC$10)^2+(R37-$BD$10)^2) -> 1.44665 | T37: =S37/(2*$BC$3) -> 1 | U37: =P37/T37 -> 0.71906711 | V37: =U37*COS(A37/180*PI()) -> -0.14950246 | W37: =U37*SIN(A37/180*PI()) -> 0.70335377 | X37: =SQRT(V37^2+W37^2)+SQRT((V37-$BC$10)^2+(W37-$BD$10)^2) -> 1.44665 | Y37: =X37/(2*$BC$3) -> 1 | Z37: =U37/Y37 -> 0.71906711 | AA37: =Z37*COS(A37/180*PI()) -> -0.14950246 | AB37: =Z37*SIN(A37/180*PI()) -> 0.70335377 | AC37: =SQRT(AA37^2+AB37^2)+SQRT((AA37-$BC$10)^2+(AB37-$BD$10)^2) -> 1.44665 | AD37: =AC37/(2*$BC$3) -> 1 | AE37: =Z37/AD37 -> 0.71906711 | AF37: =AE37*COS(A37/180*PI()) -> -0.14950246 | AG37: =AE37*SIN(A37/180*PI()) -> 0.70335377 | AH37: =SQRT(AF37^2+AG37^2)+SQRT((AF37-$BC$10)^2+(AG37-$BD$10)^2) -> 1.44665 | AI37: =AH37/(2*$BC$3) -> 1 | AJ37: =AE37/AI37 -> 0.71906711 | AK37: =AJ37*COS(A37/180*PI()) -> -0.14950246 | AL37: =AJ37*SIN(A37/180*PI()) -> 0.70335377 | AM37: =SQRT(AK37^2+AL37^2)+SQRT((AK37-$BC$10)^2+(AL37-$BD$10)^2) -> 1.44665 | AN37: =AM37/(2*$BC$3) -> 1 | AO37: =AJ37/AN37 -> 0.71906711 | AP37: =AO37*COS(A37/180*PI()) -> -0.14950246 | AQ37: =AO37*SIN(A37/180*PI()) -> 0.70335377 | AR37: =SQRT(AP37^2+AQ37^2)+SQRT((AP37-$BC$10)^2+(AQ37-$BD$10)^2) -> 1.44665 | AS37: =AR37/(2*$BC$3) -> 1 | AT37: =AO37/AS37 -> 0.71906711 | AU37: =AT37*COS(A37/180*PI()) -> -0.14950246 | AV37: =AT37*SIN(A37/180*PI()) -> 0.70335377 | AW37: =SQRT(AU37^2+AV37^2)+SQRT((AU37-$BC$10)^2+(AV37-$BD$10)^2) -> 1.44665 | AX37: =AW37/(2*$BC$3) -> 1 | AY37: =AT37-0.127 -> 0.59206711 | AZ37: =AY37-'Master Radiusverkleinerung'!G$7/100 -> 0.55506711 | BA37: =SQRT((AU37-AU36)^2+(AV37-AV36)^2) -> 0.075280983
